Workbook

Sheet Formular
A1: =IF('Texte Sprachen'!A1=1,'Texte Sprachen'!B2,IF('Texte Sprachen'!A1=2,'Texte Sprachen'!C2,IF('Texte Sprachen'!A1=3,'Texte Sprachen'!D2,IF('Texte Sprachen'!A1=4,'Texte Sprachen'!E2,IF('Texte Sprachen'!A1=5,'Texte Sprachen'!F2,'Texte Sprachen'!G2))))) -> Bestell-/Anfragedaten Steuerung
A2: =IF('Texte Sprachen'!A1=1,'Texte Sprachen'!B3,IF('Texte Sprachen'!A1=2,'Texte Sprachen'!C3,IF('Texte Sprachen'!A1=3,'Texte Sprachen'!D3,IF('Texte Sprachen'!A1=4,'Texte Sprachen'!E3,IF('Texte Sprachen'!A1=5,'Texte Sprachen'!F3,'Texte Sprachen'!G3))))) -> Firma: | R2: =IF('Texte Sprachen'!A1=1,'Texte Sprachen'!B4,IF('Texte Sprachen'!A1=2,'Texte Sprachen'!C4,IF('Texte Sprachen'!A1=3,'Texte Sprachen'!D4,IF('Texte Sprachen'!A1=4,'Texte Sprachen'!E4,IF('Texte Sprachen'!A1=5,'Texte Sprachen'!F4,'Texte Sprachen'!G4))))) -> Datum:
A3: =IF('Texte Sprachen'!A1=1,'Texte Sprachen'!B5,IF('Texte Sprachen'!A1=2,'Texte Sprachen'!C5,IF('Texte Sprachen'!A1=3,'Texte Sprachen'!D5,IF('Texte Sprachen'!A1=4,'Texte Sprachen'!E5,IF('Texte Sprachen'!A1=5,'Texte Sprachen'!F5,'Texte Sprachen'!G5))))) -> Bearbeiter: | R3: =IF('Texte Sprachen'!A1=1,'Texte Sprachen'!B6,IF('Texte Sprachen'!A1=2,'Texte Sprachen'!C6,IF('Texte Sprachen'!A1=3,'Texte Sprachen'!D6,IF('Texte Sprachen'!A1=4,'Texte Sprachen'!E6,IF('Texte Sprachen'!A1=5,'Texte Sprachen'!F6,'Texte Sprachen'!G6))))) -> Best.-Nr.:
A4: =IF('Texte Sprachen'!A1=1,'Texte Sprachen'!B7,IF('Texte Sprachen'!A1=2,'Texte Sprachen'!C7,IF('Texte Sprachen'!A1=3,'Texte Sprachen'!D7,IF('Texte Sprachen'!A1=4,'Texte Sprachen'!E7,IF('Texte Sprachen'!A1=5,'Texte Sprachen'!F7,'Texte Sprachen'!G7))))) -> Telefon Nr.: | R4: =IF('Texte Sprachen'!A1=1,'Texte Sprachen'!B8,IF('Texte Sprachen'!A1=2,'Texte Sprachen'!C8,IF('Texte Sprachen'!A1=3,'Texte Sprachen'!D8,IF('Texte Sprachen'!A1=4,'Texte Sprachen'!E8,IF('Texte Sprachen'!A1=5,'Texte Sprachen'!F8,'Texte Sprachen'!G8))))) -> Fabr.-Nr.:
A5: =IF('Texte Sprachen'!A1=1,'Texte Sprachen'!B9,IF('Texte Sprachen'!A1=2,'Texte Sprachen'!C9,IF('Texte Sprachen'!A1=3,'Texte Sprachen'!D9,IF('Texte Sprachen'!A1=4,'Texte Sprachen'!E9,IF('Texte Sprachen'!A1=5,'Texte Sprachen'!F9,'Texte Sprachen'!G9))))) -> Email: | R5: =IF('Texte Sprachen'!A1=1,'Texte Sprachen'!B10,IF('Texte Sprachen'!A1=2,'Texte Sprachen'!C10,IF('Texte Sprachen'!A1=3,'Texte Sprachen'!D10,IF('Texte Sprachen'!A1=4,'Texte Sprachen'!E10,IF('Texte Sprachen'!A1=5,'Texte Sprachen'!F10,'Texte Sprachen'!G10))))) -> Stichwort/Ort:
B6: =IF('Texte Sprachen'!A1=1,'Texte Sprachen'!B11,IF('Texte Sprachen'!A1=2,'Texte Sprachen'!C11,IF('Texte Sprachen'!A1=3,'Texte Sprachen'!D11,IF('Texte Sprachen'!A1=4,'Texte Sprachen'!E11,IF('Texte Sprachen'!A1=5,'Texte Sprachen'!F11,'Texte Sprachen'!G11))))) -> Angebot bis KW: | S6: =IF('Texte Sprachen'!A1=1,'Texte Sprachen'!B12,IF('Texte Sprachen'!A1=2,'Texte Sprachen'!C12,IF('Texte Sprachen'!A1=3,'Texte Sprachen'!D12,IF('Texte Sprachen'!A1=4,'Texte Sprachen'!E12,IF('Texte Sprachen'!A1=5,'Texte Sprachen'!F12,'Texte Sprachen'!G12))))) -> Bestellung zu KW:
A7: =IF('Texte Sprachen'!A1=1,'Texte Sprachen'!B13,IF('Texte Sprachen'!A1=2,'Texte Sprachen'!C13,IF('Texte Sprachen'!A1=3,'Texte Sprachen'!D13,IF('Texte Sprachen'!A1=4,'Texte Sprachen'!E13,IF('Texte Sprachen'!A1=5,'Texte Sprachen'!F13,'Texte Sprachen'!G13))))) -> 1. Bestellumfang / Ausführung
B8: =IF('Texte Sprachen'!A1=1,'Texte Sprachen'!B14,IF('Texte Sprachen'!A1=2,'Texte Sprachen'!C14,IF('Texte Sprachen'!A1=3,'Texte Sprachen'!D14,IF('Texte Sprachen'!A1=4,'Texte Sprachen'!E14,IF('Texte Sprachen'!A1=5,'Texte Sprachen'!F14,'Texte Sprachen'!G14))))) -> LiSA20 | J8: =IF('Texte Sprachen'!A1=1,'Texte Sprachen'!B15,IF('Texte Sprachen'!A1=2,'Texte Sprachen'!C15,IF('Texte Sprachen'!A1=3,'Texte Sprachen'!D15,IF('Texte Sprachen'!A1=4,'Texte Sprachen'!E15,IF('Texte Sprachen'!A1=5,'Texte Sprachen'!F15,'Texte Sprachen'!G15))))) -> LiSA21
B9: =IF('Texte Sprachen'!A1=1,'Texte Sprachen'!B16,IF('Texte Sprachen'!A1=2,'Texte Sprachen'!C16,IF('Texte Sprachen'!A1=3,'Texte Sprachen'!D16,IF('Texte Sprachen'!A1=4,'Texte Sprachen'!E16,IF('Texte Sprachen'!A1=5,'Texte Sprachen'!F16,'Texte Sprachen'!G16))))) -> Gruppensteuerung Anzahl Fahrkörbe: | Q9: =IF('Texte Sprachen'!A1=1,'Texte Sprachen'!B17,IF('Texte Sprachen'!A1=2,'Texte Sprachen'!C17,IF('Texte Sprachen'!A1=3,'Texte Sprachen'!D17,IF('Texte Sprachen'!A1=4,'Texte Sprachen'!E17,IF('Texte Sprachen'!A1=5,'Texte Sprachen'!F17,'Texte Sprachen'!G17))))) -> (2,3,4,…,8) | X9: =IF('Texte Sprachen'!A1=1,'Texte Sprachen'!B18,IF('Texte Sprachen'!A1=2,'Texte Sprachen'!C18,IF('Texte Sprachen'!A1=3,'Texte Sprachen'!D18,IF('Texte Sprachen'!A1=4,'Texte Sprachen'!E18,IF('Texte Sprachen'!A1=5,'Texte Sprachen'!F18,'Texte Sprachen'!G18))))) -> Anzahl Etagenruflinien:
B10: =IF('Texte Sprachen'!A1=1,'Texte Sprachen'!B19,IF('Texte Sprachen'!A1=2,'Texte Sprachen'!C19,IF('Texte Sprachen'!A1=3,'Texte Sprachen'!D19,IF('Texte Sprachen'!A1=4,'Texte Sprachen'!E19,IF('Texte Sprachen'!A1=5,'Texte Sprachen'!F19,'Texte Sprachen'!G19))))) -> mit LiSA-Tableaus | J10: =IF('Texte Sprachen'!A1=1,'Texte Sprachen'!B20,IF('Texte Sprachen'!A1=2,'Texte Sprachen'!C20,IF('Texte Sprachen'!A1=3,'Texte Sprachen'!D20,IF('Texte Sprachen'!A1=4,'Texte Sprachen'!E20,IF('Texte Sprachen'!A1=5,'Texte Sprachen'!F20,'Texte Sprachen'!G20))))) -> mit Fremdtableaus (bitte Skizzen/Daten beilegen; 24V/npn bevorzugen)
B11: =IF('Texte Sprachen'!A1=1,'Texte Sprachen'!B21,IF('Texte Sprachen'!A1=2,'Texte Sprachen'!C21,IF('Texte Sprachen'!A1=3,'Texte Sprachen'!D21,IF('Texte Sprachen'!A1=4,'Texte Sprachen'!E21,IF('Texte Sprachen'!A1=5,'Texte Sprachen'!F21,'Texte Sprachen'!G21))))) -> Maschinenrauminstallation (siehe 8.1) | U11: =IF('Texte Sprachen'!A1=1,'Texte Sprachen'!B22,IF('Texte Sprachen'!A1=2,'Texte Sprachen'!C22,IF('Texte Sprachen'!A1=3,'Texte Sprachen'!D22,IF('Texte Sprachen'!A1=4,'Texte Sprachen'!E22,IF('Texte Sprachen'!A1=5,'Texte Sprachen'!F22,'Texte Sprachen'!G22))))) -> Kabineninstallation (siehe 8.2)
B12: =IF('Texte Sprachen'!A1=1,'Texte Sprachen'!B23,IF('Texte Sprachen'!A1=2,'Texte Sprachen'!C23,IF('Texte Sprachen'!A1=3,'Texte Sprachen'!D23,IF('Texte Sprachen'!A1=4,'Texte Sprachen'!E23,IF('Texte Sprachen'!A1=5,'Texte Sprachen'!F23,'Texte Sprachen'!G23))))) -> Schachtinstallation (siehe 8.3) | U12: =IF('Texte Sprachen'!A1=1,'Texte Sprachen'!B24,IF('Texte Sprachen'!A1=2,'Texte Sprachen'!C24,IF('Texte Sprachen'!A1=3,'Texte Sprachen'!D24,IF('Texte Sprachen'!A1=4,'Texte Sprachen'!E24,IF('Texte Sprachen'!A1=5,'Texte Sprachen'!F24,'Texte Sprachen'!G24))))) -> Schachtbeleuchtung (siehe 8.4)
B13: =IF('Texte Sprachen'!A1=1,'Texte Sprachen'!B25,IF('Texte Sprachen'!A1=2,'Texte Sprachen'!C25,IF('Texte Sprachen'!A1=3,'Texte Sprachen'!D25,IF('Texte Sprachen'!A1=4,'Texte Sprachen'!E25,IF('Texte Sprachen'!A1=5,'Texte Sprachen'!F25,'Texte Sprachen'!G25))))) -> Ausführung in Halogenfrei: | U13: =IF('Texte Sprachen'!A1=1,'Texte Sprachen'!B30,IF('Texte Sprachen'!A1=2,'Texte Sprachen'!C30,IF('Texte Sprachen'!A1=3,'Texte Sprachen'!D30,IF('Texte Sprachen'!A1=4,'Texte Sprachen'!E30,IF('Texte Sprachen'!A1=5,'Texte Sprachen'!F30,'Texte Sprachen'!G30))))) -> Ausführung in IP54:
A14: =IF('Texte Sprachen'!A1=1,'Texte Sprachen'!B36,IF('Texte Sprachen'!A1=2,'Texte Sprachen'!C36,IF('Texte Sprachen'!A1=3,'Texte Sprachen'!D36,IF('Texte Sprachen'!A1=4,'Texte Sprachen'!E36,IF('Texte Sprachen'!A1=5,'Texte Sprachen'!F36,'Texte Sprachen'!G36))))) -> Ergänzung zu 1.:
A15: =IF('Texte Sprachen'!A1=1,'Texte Sprachen'!B37,IF('Texte Sprachen'!A1=2,'Texte Sprachen'!C37,IF('Texte Sprachen'!A1=3,'Texte Sprachen'!D37,IF('Texte Sprachen'!A1=4,'Texte Sprachen'!E37,IF('Texte Sprachen'!A1=5,'Texte Sprachen'!F37,'Texte Sprachen'!G37))))) -> 2. Allgemeine Anlagedaten
A16: =IF('Texte Sprachen'!A1=1,'Texte Sprachen'!B38,IF('Texte Sprachen'!A1=2,'Texte Sprachen'!C38,IF('Texte Sprachen'!A1=3,'Texte Sprachen'!D38,IF('Texte Sprachen'!A1=4,'Texte Sprachen'!E38,IF('Texte Sprachen'!A1=5,'Texte Sprachen'!F38,'Texte Sprachen'!G38))))) -> zusätzliche Normen: | I16: =IF('Texte Sprachen'!A1=1,'Texte Sprachen'!B39,IF('Texte Sprachen'!A1=2,'Texte Sprachen'!C39,IF('Texte Sprachen'!A1=3,'Texte Sprachen'!D39,IF('Texte Sprachen'!A1=4,'Texte Sprachen'!E39,IF('Texte Sprachen'!A1=5,'Texte Sprachen'!F39,'Texte Sprachen'!G39))))) -> EN81-1/2 | N16: =IF('Texte Sprachen'!A1=1,'Texte Sprachen'!B40,IF('Texte Sprachen'!A1=2,'Texte Sprachen'!C40,IF('Texte Sprachen'!A1=3,'Texte Sprachen'!D40,IF('Texte Sprachen'!A1=4,'Texte Sprachen'!E40,IF('Texte Sprachen'!A1=5,'Texte Sprachen'!F40,'Texte Sprachen'!G40))))) -> A3 | Q16: =IF('Texte Sprachen'!A1=1,'Texte Sprachen'!B41,IF('Texte Sprachen'!A1=2,'Texte Sprachen'!C41,IF('Texte Sprachen'!A1=3,'Texte Sprachen'!D41,IF('Texte Sprachen'!A1=4,'Texte Sprachen'!E41,IF('Texte Sprachen'!A1=5,'Texte Sprachen'!F41,'Texte Sprachen'!G41))))) -> EN81-21 | U16: =IF('Texte Sprachen'!A1=1,'Texte Sprachen'!B42,IF('Texte Sprachen'!A1=2,'Texte Sprachen'!C42,IF('Texte Sprachen'!A1=3,'Texte Sprachen'!D42,IF('Texte Sprachen'!A1=4,'Texte Sprachen'!E42,IF('Texte Sprachen'!A1=5,'Texte Sprachen'!F42,'Texte Sprachen'!G42))))) -> EN81-70 | Y16: =IF('Texte Sprachen'!A1=1,'Texte Sprachen'!B43,IF('Texte Sprachen'!A1=2,'Texte Sprachen'!C43,IF('Texte Sprachen'!A1=3,'Texte Sprachen'!D43,IF('Texte Sprachen'!A1=4,'Texte Sprachen'!E43,IF('Texte Sprachen'!A1=5,'Texte Sprachen'!F43,'Texte Sprachen'!G43))))) -> EN81-72
I17: =IF('Texte Sprachen'!A1=1,'Texte Sprachen'!B44,IF('Texte Sprachen'!A1=2,'Texte Sprachen'!C44,IF('Texte Sprachen'!A1=3,'Texte Sprachen'!D44,IF('Texte Sprachen'!A1=4,'Texte Sprachen'!E44,IF('Texte Sprachen'!A1=5,'Texte Sprachen'!F44,'Texte Sprachen'!G44))))) -> EN81-20 komplett | Q17: =IF('Texte Sprachen'!A1=1,'Texte Sprachen'!B45,IF('Texte Sprachen'!A1=2,'Texte Sprachen'!C45,IF('Texte Sprachen'!A1=3,'Texte Sprachen'!D45,IF('Texte Sprachen'!A1=4,'Texte Sprachen'!E45,IF('Texte Sprachen'!A1=5,'Texte Sprachen'!F45,'Texte Sprachen'!G45))))) -> EN81-20 Teilweise (Bitte genaue Ausführung vermerken)
A18: =IF('Texte Sprachen'!A1=1,'Texte Sprachen'!B46,IF('Texte Sprachen'!A1=2,'Texte Sprachen'!C46,IF('Texte Sprachen'!A1=3,'Texte Sprachen'!D46,IF('Texte Sprachen'!A1=4,'Texte Sprachen'!E46,IF('Texte Sprachen'!A1=5,'Texte Sprachen'!F46,'Texte Sprachen'!G46))))) -> Maschinenraum: | I18: =IF('Texte Sprachen'!A1=1,'Texte Sprachen'!B47,IF('Texte Sprachen'!A1=2,'Texte Sprachen'!C47,IF('Texte Sprachen'!A1=3,'Texte Sprachen'!D47,IF('Texte Sprachen'!A1=4,'Texte Sprachen'!E47,IF('Texte Sprachen'!A1=5,'Texte Sprachen'!F47,'Texte Sprachen'!G47))))) -> oben | M18: =IF('Texte Sprachen'!A1=1,'Texte Sprachen'!B48,IF('Texte Sprachen'!A1=2,'Texte Sprachen'!C48,IF('Texte Sprachen'!A1=3,'Texte Sprachen'!D48,IF('Texte Sprachen'!A1=4,'Texte Sprachen'!E48,IF('Texte Sprachen'!A1=5,'Texte Sprachen'!F48,'Texte Sprachen'!G48))))) -> unten | Q18: =IF('Texte Sprachen'!A1=1,'Texte Sprachen'!B49,IF('Texte Sprachen'!A1=2,'Texte Sprachen'!C49,IF('Texte Sprachen'!A1=3,'Texte Sprachen'!D49,IF('Texte Sprachen'!A1=4,'Texte Sprachen'!E49,IF('Texte Sprachen'!A1=5,'Texte Sprachen'!F49,'Texte Sprachen'!G49))))) -> ohne | U18: =IF('Texte Sprachen'!A1=1,'Texte Sprachen'!B50,IF('Texte Sprachen'!A1=2,'Texte Sprachen'!C50,IF('Texte Sprachen'!A1=3,'Texte Sprachen'!D50,IF('Texte Sprachen'!A1=4,'Texte Sprachen'!E50,IF('Texte Sprachen'!A1=5,'Texte Sprachen'!F50,'Texte Sprachen'!G50))))) -> Steuerung in Etage: | AE18: =IF('Texte Sprachen'!A1=1,'Texte Sprachen'!B51,IF('Texte Sprachen'!A1=2,'Texte Sprachen'!C51,IF('Texte Sprachen'!A1=3,'Texte Sprachen'!D51,IF('Texte Sprachen'!A1=4,'Texte Sprachen'!E51,IF('Texte Sprachen'!A1=5,'Texte Sprachen'!F51,'Texte Sprachen'!G51))))) -> Steuerung im FK
A19: =IF('Texte Sprachen'!A1=1,'Texte Sprachen'!B52,IF('Texte Sprachen'!A1=2,'Texte Sprachen'!C52,IF('Texte Sprachen'!A1=3,'Texte Sprachen'!D52,IF('Texte Sprachen'!A1=4,'Texte Sprachen'!E52,IF('Texte Sprachen'!A1=5,'Texte Sprachen'!F52,'Texte Sprachen'!G52))))) -> Entfernung Schaltschrank - Schacht (m):
A20: =IF('Texte Sprachen'!A1=1,'Texte Sprachen'!B53,IF('Texte Sprachen'!A1=2,'Texte Sprachen'!C53,IF('Texte Sprachen'!A1=3,'Texte Sprachen'!D53,IF('Texte Sprachen'!A1=4,'Texte Sprachen'!E53,IF('Texte Sprachen'!A1=5,'Texte Sprachen'!F53,'Texte Sprachen'!G53))))) -> Wegmessung: | I20: =IF('Texte Sprachen'!A1=1,'Texte Sprachen'!B54,IF('Texte Sprachen'!A1=2,'Texte Sprachen'!C54,IF('Texte Sprachen'!A1=3,'Texte Sprachen'!D54,IF('Texte Sprachen'!A1=4,'Texte Sprachen'!E54,IF('Texte Sprachen'!A1=5,'Texte Sprachen'!F54,'Texte Sprachen'!G54))))) -> LiSA AWG (Limax) | Q20: =IF('Texte Sprachen'!A1=1,'Texte Sprachen'!B55,IF('Texte Sprachen'!A1=2,'Texte Sprachen'!C55,IF('Texte Sprachen'!A1=3,'Texte Sprachen'!D55,IF('Texte Sprachen'!A1=4,'Texte Sprachen'!E55,IF('Texte Sprachen'!A1=5,'Texte Sprachen'!F55,'Texte Sprachen'!G55))))) -> LiSA AWG (Limax mit integrierten Sicherheitsfunktionen)
A21: =IF('Texte Sprachen'!A1=1,'Texte Sprachen'!B56,IF('Texte Sprachen'!A1=2,'Texte Sprachen'!C56,IF('Texte Sprachen'!A1=3,'Texte Sprachen'!D56,IF('Texte Sprachen'!A1=4,'Texte Sprachen'!E56,IF('Texte Sprachen'!A1=5,'Texte Sprachen'!F56,'Texte Sprachen'!G56))))) -> Anzahl der Ruftaster je Etage: | M21: =IF('Texte Sprachen'!A1=1,'Texte Sprachen'!B57,IF('Texte Sprachen'!A1=2,'Texte Sprachen'!C57,IF('Texte Sprachen'!A1=3,'Texte Sprachen'!D57,IF('Texte Sprachen'!A1=4,'Texte Sprachen'!E57,IF('Texte Sprachen'!A1=5,'Texte Sprachen'!F57,'Texte Sprachen'!G57))))) -> Einknopf | U21: =IF('Texte Sprachen'!A1=1,'Texte Sprachen'!B58,IF('Texte Sprachen'!A1=2,'Texte Sprachen'!C58,IF('Texte Sprachen'!A1=3,'Texte Sprachen'!D58,IF('Texte Sprachen'!A1=4,'Texte Sprachen'!E58,IF('Texte Sprachen'!A1=5,'Texte Sprachen'!F58,'Texte Sprachen'!G58))))) -> Zweiknopf
G22: 1 | H22: 2 | I22: 3 | J22: 4 | K22: 5 | L22: 6 | M22: 7 | N22: 8 | O22: 9 | P22: 10 | Q22: 11 | R22: 12 | S22: 13 | T22: 14 | U22: 15 | V22: 16 | W22: 17 | X22: 18 | Y22: 19 | Z22: 20 | AA22: 21 | AB22: 22 | AC22: 23 | AD22: 24 | AE22: 25 | AF22: 26 | AG22: 27 | AH22: 28 | AI22: 29 | AJ22: 30
A23: =IF('Texte Sprachen'!A1=1,'Texte Sprachen'!B59,IF('Texte Sprachen'!A1=2,'Texte Sprachen'!C59,IF('Texte Sprachen'!A1=3,'Texte Sprachen'!D59,IF('Texte Sprachen'!A1=4,'Texte Sprachen'!E59,IF('Texte Sprachen'!A1=5,'Texte Sprachen'!F59,'Texte Sprachen'!G59))))) -> Türseite 1:
A24: =IF('Texte Sprachen'!A1=1,'Texte Sprachen'!B60,IF('Texte Sprachen'!A1=2,'Texte Sprachen'!C60,IF('Texte Sprachen'!A1=3,'Texte Sprachen'!D60,IF('Texte Sprachen'!A1=4,'Texte Sprachen'!E60,IF('Texte Sprachen'!A1=5,'Texte Sprachen'!F60,'Texte Sprachen'!G60))))) -> Türseite 2:
A25: =IF('Texte Sprachen'!A1=1,'Texte Sprachen'!B61,IF('Texte Sprachen'!A1=2,'Texte Sprachen'!C61,IF('Texte Sprachen'!A1=3,'Texte Sprachen'!D61,IF('Texte Sprachen'!A1=4,'Texte Sprachen'!E61,IF('Texte Sprachen'!A1=5,'Texte Sprachen'!F61,'Texte Sprachen'!G61))))) -> Türseite 3:
A26: =IF('Texte Sprachen'!A1=1,'Texte Sprachen'!B62,IF('Texte Sprachen'!A1=2,'Texte Sprachen'!C62,IF('Texte Sprachen'!A1=3,'Texte Sprachen'!D62,IF('Texte Sprachen'!A1=4,'Texte Sprachen'!E62,IF('Texte Sprachen'!A1=5,'Texte Sprachen'!F62,'Texte Sprachen'!G62))))) -> Schachthöhe: | M26: =IF('Texte Sprachen'!A1=1,'Texte Sprachen'!B63,IF('Texte Sprachen'!A1=2,'Texte Sprachen'!C63,IF('Texte Sprachen'!A1=3,'Texte Sprachen'!D63,IF('Texte Sprachen'!A1=4,'Texte Sprachen'!E63,IF('Texte Sprachen'!A1=5,'Texte Sprachen'!F63,'Texte Sprachen'!G63))))) -> Förderhöhe: | X26: =IF('Texte Sprachen'!A1=1,'Texte Sprachen'!B64,IF('Texte Sprachen'!A1=2,'Texte Sprachen'!C64,IF('Texte Sprachen'!A1=3,'Texte Sprachen'!D64,IF('Texte Sprachen'!A1=4,'Texte Sprachen'!E64,IF('Texte Sprachen'!A1=5,'Texte Sprachen'!F64,'Texte Sprachen'!G64))))) -> kleinster Etagenabstand:
A27: =IF('Texte Sprachen'!A1=1,'Texte Sprachen'!B65,IF('Texte Sprachen'!A1=2,'Texte Sprachen'!C65,IF('Texte Sprachen'!A1=3,'Texte Sprachen'!D65,IF('Texte Sprachen'!A1=4,'Texte Sprachen'!E65,IF('Texte Sprachen'!A1=5,'Texte Sprachen'!F65,'Texte Sprachen'!G65))))) -> Ergänzung zu 2.:
A28: =IF('Texte Sprachen'!A1=1,'Texte Sprachen'!B66,IF('Texte Sprachen'!A1=2,'Texte Sprachen'!C66,IF('Texte Sprachen'!A1=3,'Texte Sprachen'!D66,IF('Texte Sprachen'!A1=4,'Texte Sprachen'!E66,IF('Texte Sprachen'!A1=5,'Texte Sprachen'!F66,'Texte Sprachen'!G66))))) -> 3. Türen
A29: =IF('Texte Sprachen'!A1=1,'Texte Sprachen'!B67,IF('Texte Sprachen'!A1=2,'Texte Sprachen'!C67,IF('Texte Sprachen'!A1=3,'Texte Sprachen'!D67,IF('Texte Sprachen'!A1=4,'Texte Sprachen'!E67,IF('Texte Sprachen'!A1=5,'Texte Sprachen'!F67,'Texte Sprachen'!G67))))) -> 3.1 Kabinentüre(n)
A30: =IF('Texte Sprachen'!A1=1,'Texte Sprachen'!B68,IF('Texte Sprachen'!A1=2,'Texte Sprachen'!C68,IF('Texte Sprachen'!A1=3,'Texte Sprachen'!D68,IF('Texte Sprachen'!A1=4,'Texte Sprachen'!E68,IF('Texte Sprachen'!A1=5,'Texte Sprachen'!F68,'Texte Sprachen'!G68))))) -> Sonderfall: | G30: =IF('Texte Sprachen'!A1=1,'Texte Sprachen'!B69,IF('Texte Sprachen'!A1=2,'Texte Sprachen'!C69,IF('Texte Sprachen'!A1=3,'Texte Sprachen'!D69,IF('Texte Sprachen'!A1=4,'Texte Sprachen'!E69,IF('Texte Sprachen'!A1=5,'Texte Sprachen'!F69,'Texte Sprachen'!G69))))) -> handbetätigt | O30: =IF('Texte Sprachen'!A1=1,'Texte Sprachen'!B70,IF('Texte Sprachen'!A1=2,'Texte Sprachen'!C70,IF('Texte Sprachen'!A1=3,'Texte Sprachen'!D70,IF('Texte Sprachen'!A1=4,'Texte Sprachen'!E70,IF('Texte Sprachen'!A1=5,'Texte Sprachen'!F70,'Texte Sprachen'!G70))))) -> ohne -> Sicherheitslichtvorhang Typ:
A31: =IF('Texte Sprachen'!A1=1,'Texte Sprachen'!B71,IF('Texte Sprachen'!A1=2,'Texte Sprachen'!C71,IF('Texte Sprachen'!A1=3,'Texte Sprachen'!D71,IF('Texte Sprachen'!A1=4,'Texte Sprachen'!E71,IF('Texte Sprachen'!A1=5,'Texte Sprachen'!F71,'Texte Sprachen'!G71))))) -> Zusätze: | G31: =IF('Texte Sprachen'!A1=1,'Texte Sprachen'!B72,IF('Texte Sprachen'!A1=2,'Texte Sprachen'!C72,IF('Texte Sprachen'!A1=3,'Texte Sprachen'!D72,IF('Texte Sprachen'!A1=4,'Texte Sprachen'!E72,IF('Texte Sprachen'!A1=5,'Texte Sprachen'!F72,'Texte Sprachen'!G72))))) -> Drängelfunktion | O31: =IF('Texte Sprachen'!A1=1,'Texte Sprachen'!B73,IF('Texte Sprachen'!A1=2,'Texte Sprachen'!C73,IF('Texte Sprachen'!A1=3,'Texte Sprachen'!D73,IF('Texte Sprachen'!A1=4,'Texte Sprachen'!E73,IF('Texte Sprachen'!A1=5,'Texte Sprachen'!F73,'Texte Sprachen'!G73))))) -> selektive Türansteuerung
A32: =IF('Texte Sprachen'!A1=1,'Texte Sprachen'!B74,IF('Texte Sprachen'!A1=2,'Texte Sprachen'!C74,IF('Texte Sprachen'!A1=3,'Texte Sprachen'!D74,IF('Texte Sprachen'!A1=4,'Texte Sprachen'!E74,IF('Texte Sprachen'!A1=5,'Texte Sprachen'!F74,'Texte Sprachen'!G74))))) -> Türseite 1: | G32: =IF('Texte Sprachen'!A1=1,'Texte Sprachen'!B77,IF('Texte Sprachen'!A1=2,'Texte Sprachen'!C77,IF('Texte Sprachen'!A1=3,'Texte Sprachen'!D77,IF('Texte Sprachen'!A1=4,'Texte Sprachen'!E77,IF('Texte Sprachen'!A1=5,'Texte Sprachen'!F77,'Texte Sprachen'!G77))))) -> Türsteuergerät Typ: | X32: =IF('Texte Sprachen'!A1=1,'Texte Sprachen'!B102,IF('Texte Sprachen'!A1=2,'Texte Sprachen'!C102,IF('Texte Sprachen'!A1=3,'Texte Sprachen'!D102,IF('Texte Sprachen'!A1=4,'Texte Sprachen'!E102,IF('Texte Sprachen'!A1=5,'Texte Sprachen'!F102,'Texte Sprachen'!G102))))) -> sonstiger Typ:
G33: =IF('Texte Sprachen'!A1=1,'Texte Sprachen'!B103,IF('Texte Sprachen'!A1=2,'Texte Sprachen'!C103,IF('Texte Sprachen'!A1=3,'Texte Sprachen'!D103,IF('Texte Sprachen'!A1=4,'Texte Sprachen'!E103,IF('Texte Sprachen'!A1=5,'Texte Sprachen'!F103,'Texte Sprachen'!G103))))) -> 400V Türe Typ: | X33: =IF('Texte Sprachen'!A1=1,'Texte Sprachen'!B105,IF('Texte Sprachen'!A1=2,'Texte Sprachen'!C105,IF('Texte Sprachen'!A1=3,'Texte Sprachen'!D105,IF('Texte Sprachen'!A1=4,'Texte Sprachen'!E105,IF('Texte Sprachen'!A1=5,'Texte Sprachen'!F105,'Texte Sprachen'!G105))))) -> Tür-Auf Endschalter
G34: =IF('Texte Sprachen'!A1=1,'Texte Sprachen'!B104,IF('Texte Sprachen'!A1=2,'Texte Sprachen'!C104,IF('Texte Sprachen'!A1=3,'Texte Sprachen'!D104,IF('Texte Sprachen'!A1=4,'Texte Sprachen'!E104,IF('Texte Sprachen'!A1=5,'Texte Sprachen'!F104,'Texte Sprachen'!G104))))) -> Nennstrom (A): | X34: =IF('Texte Sprachen'!A1=1,'Texte Sprachen'!B106,IF('Texte Sprachen'!A1=2,'Texte Sprachen'!C106,IF('Texte Sprachen'!A1=3,'Texte Sprachen'!D106,IF('Texte Sprachen'!A1=4,'Texte Sprachen'!E106,IF('Texte Sprachen'!A1=5,'Texte Sprachen'!F106,'Texte Sprachen'!G106))))) -> Tür-Zu Endschalter
A35: =IF('Texte Sprachen'!A1=1,'Texte Sprachen'!B75,IF('Texte Sprachen'!A1=2,'Texte Sprachen'!C75,IF('Texte Sprachen'!A1=3,'Texte Sprachen'!D75,IF('Texte Sprachen'!A1=4,'Texte Sprachen'!E75,IF('Texte Sprachen'!A1=5,'Texte Sprachen'!F75,'Texte Sprachen'!G75))))) -> Türseite 2: | G35: =IF('Texte Sprachen'!A1=1,'Texte Sprachen'!B107,IF('Texte Sprachen'!A1=2,'Texte Sprachen'!C107,IF('Texte Sprachen'!A1=3,'Texte Sprachen'!D107,IF('Texte Sprachen'!A1=4,'Texte Sprachen'!E107,IF('Texte Sprachen'!A1=5,'Texte Sprachen'!F107,'Texte Sprachen'!G107))))) -> gleiche Ausführung wie Türseite 1
G36: =IF('Texte Sprachen'!A1=1,'Texte Sprachen'!B77,IF('Texte Sprachen'!A1=2,'Texte Sprachen'!C77,IF('Texte Sprachen'!A1=3,'Texte Sprachen'!D77,IF('Texte Sprachen'!A1=4,'Texte Sprachen'!E77,IF('Texte Sprachen'!A1=5,'Texte Sprachen'!F77,'Texte Sprachen'!G77))))) -> Türsteuergerät Typ: | X36: =IF('Texte Sprachen'!A1=1,'Texte Sprachen'!B102,IF('Texte Sprachen'!A1=2,'Texte Sprachen'!C102,IF('Texte Sprachen'!A1=3,'Texte Sprachen'!D102,IF('Texte Sprachen'!A1=4,'Texte Sprachen'!E102,IF('Texte Sprachen'!A1=5,'Texte Sprachen'!F102,'Texte Sprachen'!G102))))) -> sonstiger Typ:
G37: =IF('Texte Sprachen'!A1=1,'Texte Sprachen'!B103,IF('Texte Sprachen'!A1=2,'Texte Sprachen'!C103,IF('Texte Sprachen'!A1=3,'Texte Sprachen'!D103,IF('Texte Sprachen'!A1=4,'Texte Sprachen'!E103,IF('Texte Sprachen'!A1=5,'Texte Sprachen'!F103,'Texte Sprachen'!G103))))) -> 400V Türe Typ: | X37: =IF('Texte Sprachen'!A1=1,'Texte Sprachen'!B105,IF('Texte Sprachen'!A1=2,'Texte Sprachen'!C105,IF('Texte Sprachen'!A1=3,'Texte Sprachen'!D105,IF('Texte Sprachen'!A1=4,'Texte Sprachen'!E105,IF('Texte Sprachen'!A1=5,'Texte Sprachen'!F105,'Texte Sprachen'!G105))))) -> Tür-Auf Endschalter
G38: =IF('Texte Sprachen'!A1=1,'Texte Sprachen'!B104,IF('Texte Sprachen'!A1=2,'Texte Sprachen'!C104,IF('Texte Sprachen'!A1=3,'Texte Sprachen'!D104,IF('Texte Sprachen'!A1=4,'Texte Sprachen'!E104,IF('Texte Sprachen'!A1=5,'Texte Sprachen'!F104,'Texte Sprachen'!G104))))) -> Nennstrom (A): | X38: =IF('Texte Sprachen'!A1=1,'Texte Sprachen'!B106,IF('Texte Sprachen'!A1=2,'Texte Sprachen'!C106,IF('Texte Sprachen'!A1=3,'Texte Sprachen'!D106,IF('Texte Sprachen'!A1=4,'Texte Sprachen'!E106,IF('Texte Sprachen'!A1=5,'Texte Sprachen'!F106,'Texte Sprachen'!G106))))) -> Tür-Zu Endschalter
A39: =IF('Texte Sprachen'!A1=1,'Texte Sprachen'!B76,IF('Texte Sprachen'!A1=2,'Texte Sprachen'!C76,IF('Texte Sprachen'!A1=3,'Texte Sprachen'!D76,IF('Texte Sprachen'!A1=4,'Texte Sprachen'!E76,IF('Texte Sprachen'!A1=5,'Texte Sprachen'!F76,'Texte Sprachen'!G76))))) -> Türseite 3: | G39: =IF('Texte Sprachen'!A1=1,'Texte Sprachen'!B107,IF('Texte Sprachen'!A1=2,'Texte Sprachen'!C107,IF('Texte Sprachen'!A1=3,'Texte Sprachen'!D107,IF('Texte Sprachen'!A1=4,'Texte Sprachen'!E107,IF('Texte Sprachen'!A1=5,'Texte Sprachen'!F107,'Texte Sprachen'!G107))))) -> gleiche Ausführung wie Türseite 1
G40: =IF('Texte Sprachen'!A1=1,'Texte Sprachen'!B77,IF('Texte Sprachen'!A1=2,'Texte Sprachen'!C77,IF('Texte Sprachen'!A1=3,'Texte Sprachen'!D77,IF('Texte Sprachen'!A1=4,'Texte Sprachen'!E77,IF('Texte Sprachen'!A1=5,'Texte Sprachen'!F77,'Texte Sprachen'!G77))))) -> Türsteuergerät Typ: | X40: =IF('Texte Sprachen'!A1=1,'Texte Sprachen'!B102,IF('Texte Sprachen'!A1=2,'Texte Sprachen'!C102,IF('Texte Sprachen'!A1=3,'Texte Sprachen'!D102,IF('Texte Sprachen'!A1=4,'Texte Sprachen'!E102,IF('Texte Sprachen'!A1=5,'Texte Sprachen'!F102,'Texte Sprachen'!G102))))) -> sonstiger Typ:
G41: =IF('Texte Sprachen'!A1=1,'Texte Sprachen'!B103,IF('Texte Sprachen'!A1=2,'Texte Sprachen'!C103,IF('Texte Sprachen'!A1=3,'Texte Sprachen'!D103,IF('Texte Sprachen'!A1=4,'Texte Sprachen'!E103,IF('Texte Sprachen'!A1=5,'Texte Sprachen'!F103,'Texte Sprachen'!G103))))) -> 400V Türe Typ: | X41: =IF('Texte Sprachen'!A1=1,'Texte Sprachen'!B105,IF('Texte Sprachen'!A1=2,'Texte Sprachen'!C105,IF('Texte Sprachen'!A1=3,'Texte Sprachen'!D105,IF('Texte Sprachen'!A1=4,'Texte Sprachen'!E105,IF('Texte Sprachen'!A1=5,'Texte Sprachen'!F105,'Texte Sprachen'!G105))))) -> Tür-Auf Endschalter
G42: =IF('Texte Sprachen'!A1=1,'Texte Sprachen'!B104,IF('Texte Sprachen'!A1=2,'Texte Sprachen'!C104,IF('Texte Sprachen'!A1=3,'Texte Sprachen'!D104,IF('Texte Sprachen'!A1=4,'Texte Sprachen'!E104,IF('Texte Sprachen'!A1=5,'Texte Sprachen'!F104,'Texte Sprachen'!G104))))) -> Nennstrom (A): | X42: =IF('Texte Sprachen'!A1=1,'Texte Sprachen'!B106,IF('Texte Sprachen'!A1=2,'Texte Sprachen'!C106,IF('Texte Sprachen'!A1=3,'Texte Sprachen'!D106,IF('Texte Sprachen'!A1=4,'Texte Sprachen'!E106,IF('Texte Sprachen'!A1=5,'Texte Sprachen'!F106,'Texte Sprachen'!G106))))) -> Tür-Zu Endschalter
A43: =IF('Texte Sprachen'!A1=1,'Texte Sprachen'!B108,IF('Texte Sprachen'!A1=2,'Texte Sprachen'!C108,IF('Texte Sprachen'!A1=3,'Texte Sprachen'!D108,IF('Texte Sprachen'!A1=4,'Texte Sprachen'!E108,IF('Texte Sprachen'!A1=5,'Texte Sprachen'!F108,'Texte Sprachen'!G108))))) -> Lichtschranke/-gitter Typ: | X43: =IF('Texte Sprachen'!A1=1,'Texte Sprachen'!B109,IF('Texte Sprachen'!A1=2,'Texte Sprachen'!C109,IF('Texte Sprachen'!A1=3,'Texte Sprachen'!D109,IF('Texte Sprachen'!A1=4,'Texte Sprachen'!E109,IF('Texte Sprachen'!A1=5,'Texte Sprachen'!F109,'Texte Sprachen'!G109))))) -> Spannung:
G44: =IF('Texte Sprachen'!A1=1,'Texte Sprachen'!B110,IF('Texte Sprachen'!A1=2,'Texte Sprachen'!C110,IF('Texte Sprachen'!A1=3,'Texte Sprachen'!D110,IF('Texte Sprachen'!A1=4,'Texte Sprachen'!E110,IF('Texte Sprachen'!A1=5,'Texte Sprachen'!F110,'Texte Sprachen'!G110))))) -> potentialfreier Kontakt | P44: =IF('Texte Sprachen'!A1=1,'Texte Sprachen'!B111,IF('Texte Sprachen'!A1=2,'Texte Sprachen'!C111,IF('Texte Sprachen'!A1=3,'Texte Sprachen'!D111,IF('Texte Sprachen'!A1=4,'Texte Sprachen'!E111,IF('Texte Sprachen'!A1=5,'Texte Sprachen'!F111,'Texte Sprachen'!G111))))) -> npn (bevorzugen) | X44: =IF('Texte Sprachen'!A1=1,'Texte Sprachen'!B112,IF('Texte Sprachen'!A1=2,'Texte Sprachen'!C112,IF('Texte Sprachen'!A1=3,'Texte Sprachen'!D112,IF('Texte Sprachen'!A1=4,'Texte Sprachen'!E112,IF('Texte Sprachen'!A1=5,'Texte Sprachen'!F112,'Texte Sprachen'!G112))))) -> pnp
A45: =IF('Texte Sprachen'!A1=1,'Texte Sprachen'!B113,IF('Texte Sprachen'!A1=2,'Texte Sprachen'!C113,IF('Texte Sprachen'!A1=3,'Texte Sprachen'!D113,IF('Texte Sprachen'!A1=4,'Texte Sprachen'!E113,IF('Texte Sprachen'!A1=5,'Texte Sprachen'!F113,'Texte Sprachen'!G113))))) -> Ergänzung zu 3.1:
A46: =IF('Texte Sprachen'!A1=1,'Texte Sprachen'!B114,IF('Texte Sprachen'!A1=2,'Texte Sprachen'!C114,IF('Texte Sprachen'!A1=3,'Texte Sprachen'!D114,IF('Texte Sprachen'!A1=4,'Texte Sprachen'!E114,IF('Texte Sprachen'!A1=5,'Texte Sprachen'!F114,'Texte Sprachen'!G114))))) -> 3.2 Schachttüren
A47: =IF('Texte Sprachen'!A1=1,'Texte Sprachen'!B115,IF('Texte Sprachen'!A1=2,'Texte Sprachen'!C115,IF('Texte Sprachen'!A1=3,'Texte Sprachen'!D115,IF('Texte Sprachen'!A1=4,'Texte Sprachen'!E115,IF('Texte Sprachen'!A1=5,'Texte Sprachen'!F115,'Texte Sprachen'!G115))))) -> Betätigung: | I47: =IF('Texte Sprachen'!A1=1,'Texte Sprachen'!B116,IF('Texte Sprachen'!A1=2,'Texte Sprachen'!C116,IF('Texte Sprachen'!A1=3,'Texte Sprachen'!D116,IF('Texte Sprachen'!A1=4,'Texte Sprachen'!E116,IF('Texte Sprachen'!A1=5,'Texte Sprachen'!F116,'Texte Sprachen'!G116))))) -> automatisch (ohne Riegelmagnet) | W47: =IF('Texte Sprachen'!A1=1,'Texte Sprachen'!B117,IF('Texte Sprachen'!A1=2,'Texte Sprachen'!C117,IF('Texte Sprachen'!A1=3,'Texte Sprachen'!D117,IF('Texte Sprachen'!A1=4,'Texte Sprachen'!E117,IF('Texte Sprachen'!A1=5,'Texte Sprachen'!F117,'Texte Sprachen'!G117))))) -> handbetätigt (ohne Riegelmagnet)
I48: =IF('Texte Sprachen'!A1=1,'Texte Sprachen'!B118,IF('Texte Sprachen'!A1=2,'Texte Sprachen'!C118,IF('Texte Sprachen'!A1=3,'Texte Sprachen'!D118,IF('Texte Sprachen'!A1=4,'Texte Sprachen'!E118,IF('Texte Sprachen'!A1=5,'Texte Sprachen'!F118,'Texte Sprachen'!G118))))) -> automatisch (mit Riegelmagnet) | W48: =IF('Texte Sprachen'!A1=1,'Texte Sprachen'!B119,IF('Texte Sprachen'!A1=2,'Texte Sprachen'!C119,IF('Texte Sprachen'!A1=3,'Texte Sprachen'!D119,IF('Texte Sprachen'!A1=4,'Texte Sprachen'!E119,IF('Texte Sprachen'!A1=5,'Texte Sprachen'!F119,'Texte Sprachen'!G119))))) -> handbetätigt (mit Riegelmagnet)
A49: =IF('Texte Sprachen'!A1=1,'Texte Sprachen'!B120,IF('Texte Sprachen'!A1=2,'Texte Sprachen'!C120,IF('Texte Sprachen'!A1=3,'Texte Sprachen'!D120,IF('Texte Sprachen'!A1=4,'Texte Sprachen'!E120,IF('Texte Sprachen'!A1=5,'Texte Sprachen'!F120,'Texte Sprachen'!G120))))) -> Riegelmagnet: | I49: =IF('Texte Sprachen'!A1=1,'Texte Sprachen'!B121,IF('Texte Sprachen'!A1=2,'Texte Sprachen'!C121,IF('Texte Sprachen'!A1=3,'Texte Sprachen'!D121,IF('Texte Sprachen'!A1=4,'Texte Sprachen'!E121,IF('Texte Sprachen'!A1=5,'Texte Sprachen'!F121,'Texte Sprachen'!G121))))) -> 180VDC | P49: =IF('Texte Sprachen'!A1=1,'Texte Sprachen'!B122,IF('Texte Sprachen'!A1=2,'Texte Sprachen'!C122,IF('Texte Sprachen'!A1=3,'Texte Sprachen'!D122,IF('Texte Sprachen'!A1=4,'Texte Sprachen'!E122,IF('Texte Sprachen'!A1=5,'Texte Sprachen'!F122,'Texte Sprachen'!G122))))) -> 230VAC | W49: =IF('Texte Sprachen'!A1=1,'Texte Sprachen'!B123,IF('Texte Sprachen'!A1=2,'Texte Sprachen'!C123,IF('Texte Sprachen'!A1=3,'Texte Sprachen'!D123,IF('Texte Sprachen'!A1=4,'Texte Sprachen'!E123,IF('Texte Sprachen'!A1=5,'Texte Sprachen'!F123,'Texte Sprachen'!G123))))) -> 3*400VAC | AC49: =IF('Texte Sprachen'!A1=1,'Texte Sprachen'!B124,IF('Texte Sprachen'!A1=2,'Texte Sprachen'!C124,IF('Texte Sprachen'!A1=3,'Texte Sprachen'!D124,IF('Texte Sprachen'!A1=4,'Texte Sprachen'!E124,IF('Texte Sprachen'!A1=5,'Texte Sprachen'!F124,'Texte Sprachen'!G124))))) -> Spannung:
A50: =IF('Texte Sprachen'!A1=1,'Texte Sprachen'!B125,IF('Texte Sprachen'!A1=2,'Texte Sprachen'!C125,IF('Texte Sprachen'!A1=3,'Texte Sprachen'!D125,IF('Texte Sprachen'!A1=4,'Texte Sprachen'!E125,IF('Texte Sprachen'!A1=5,'Texte Sprachen'!F125,'Texte Sprachen'!G125))))) -> Schwellenheizung (230V): | P50: =IF('Texte Sprachen'!A1=1,'Texte Sprachen'!B126,IF('Texte Sprachen'!A1=2,'Texte Sprachen'!C126,IF('Texte Sprachen'!A1=3,'Texte Sprachen'!D126,IF('Texte Sprachen'!A1=4,'Texte Sprachen'!E126,IF('Texte Sprachen'!A1=5,'Texte Sprachen'!F126,'Texte Sprachen'!G126))))) -> in Etage(n):
A51: =IF('Texte Sprachen'!A1=1,'Texte Sprachen'!B127,IF('Texte Sprachen'!A1=2,'Texte Sprachen'!C127,IF('Texte Sprachen'!A1=3,'Texte Sprachen'!D127,IF('Texte Sprachen'!A1=4,'Texte Sprachen'!E127,IF('Texte Sprachen'!A1=5,'Texte Sprachen'!F127,'Texte Sprachen'!G127))))) -> Ergänzung zu 3.2:
A52: =IF('Texte Sprachen'!A1=1,'Texte Sprachen'!B128,IF('Texte Sprachen'!A1=2,'Texte Sprachen'!C128,IF('Texte Sprachen'!A1=3,'Texte Sprachen'!D128,IF('Texte Sprachen'!A1=4,'Texte Sprachen'!E128,IF('Texte Sprachen'!A1=5,'Texte Sprachen'!F128,'Texte Sprachen'!G128))))) -> 3.3 Zugangskontrolle (Bitte Konzept zur Schutzraumabsicherung beifügen)
A53: =IF('Texte Sprachen'!A1=1,'Texte Sprachen'!B129,IF('Texte Sprachen'!A1=2,'Texte Sprachen'!C129,IF('Texte Sprachen'!A1=3,'Texte Sprachen'!D129,IF('Texte Sprachen'!A1=4,'Texte Sprachen'!E129,IF('Texte Sprachen'!A1=5,'Texte Sprachen'!F129,'Texte Sprachen'!G129))))) -> Schutzraum: | I53: =IF('Texte Sprachen'!A1=1,'Texte Sprachen'!B130,IF('Texte Sprachen'!A1=2,'Texte Sprachen'!C130,IF('Texte Sprachen'!A1=3,'Texte Sprachen'!D130,IF('Texte Sprachen'!A1=4,'Texte Sprachen'!E130,IF('Texte Sprachen'!A1=5,'Texte Sprachen'!F130,'Texte Sprachen'!G130))))) -> Schachtgrube zu klein | W53: =IF('Texte Sprachen'!A1=1,'Texte Sprachen'!B131,IF('Texte Sprachen'!A1=2,'Texte Sprachen'!C131,IF('Texte Sprachen'!A1=3,'Texte Sprachen'!D131,IF('Texte Sprachen'!A1=4,'Texte Sprachen'!E131,IF('Texte Sprachen'!A1=5,'Texte Sprachen'!F131,'Texte Sprachen'!G131))))) -> Schachtkopf zu klein
I54: =IF('Texte Sprachen'!A1=1,'Texte Sprachen'!B132,IF('Texte Sprachen'!A1=2,'Texte Sprachen'!C132,IF('Texte Sprachen'!A1=3,'Texte Sprachen'!D132,IF('Texte Sprachen'!A1=4,'Texte Sprachen'!E132,IF('Texte Sprachen'!A1=5,'Texte Sprachen'!F132,'Texte Sprachen'!G132))))) -> Überwachung Notentriegelung durch LiSA Sicherheitsrelais (Rücksetzen über Taster)
A55: =IF('Texte Sprachen'!A1=1,'Texte Sprachen'!B133,IF('Texte Sprachen'!A1=2,'Texte Sprachen'!C133,IF('Texte Sprachen'!A1=3,'Texte Sprachen'!D133,IF('Texte Sprachen'!A1=4,'Texte Sprachen'!E133,IF('Texte Sprachen'!A1=5,'Texte Sprachen'!F133,'Texte Sprachen'!G133))))) -> Ergänzung zu 3.3:
A56: =IF('Texte Sprachen'!A1=1,'Texte Sprachen'!B134,IF('Texte Sprachen'!A1=2,'Texte Sprachen'!C134,IF('Texte Sprachen'!A1=3,'Texte Sprachen'!D134,IF('Texte Sprachen'!A1=4,'Texte Sprachen'!E134,IF('Texte Sprachen'!A1=5,'Texte Sprachen'!F134,'Texte Sprachen'!G134))))) -> 4. Netz / Anschluss
B57: =IF('Texte Sprachen'!A1=1,'Texte Sprachen'!B135,IF('Texte Sprachen'!A1=2,'Texte Sprachen'!C135,IF('Texte Sprachen'!A1=3,'Texte Sprachen'!D135,IF('Texte Sprachen'!A1=4,'Texte Sprachen'!E135,IF('Texte Sprachen'!A1=5,'Texte Sprachen'!F135,'Texte Sprachen'!G135))))) -> 400V / 50Hz | I57: =IF('Texte Sprachen'!A1=1,'Texte Sprachen'!B136,IF('Texte Sprachen'!A1=2,'Texte Sprachen'!C136,IF('Texte Sprachen'!A1=3,'Texte Sprachen'!D136,IF('Texte Sprachen'!A1=4,'Texte Sprachen'!E136,IF('Texte Sprachen'!A1=5,'Texte Sprachen'!F136,'Texte Sprachen'!G136))))) -> 500V / 50Hz | P57: =IF('Texte Sprachen'!A1=1,'Texte Sprachen'!B137,IF('Texte Sprachen'!A1=2,'Texte Sprachen'!C137,IF('Texte Sprachen'!A1=3,'Texte Sprachen'!D137,IF('Texte Sprachen'!A1=4,'Texte Sprachen'!E137,IF('Texte Sprachen'!A1=5,'Texte Sprachen'!F137,'Texte Sprachen'!G137))))) -> N-Leiter | U57: =IF('Texte Sprachen'!A1=1,'Texte Sprachen'!B138,IF('Texte Sprachen'!A1=2,'Texte Sprachen'!C138,IF('Texte Sprachen'!A1=3,'Texte Sprachen'!D138,IF('Texte Sprachen'!A1=4,'Texte Sprachen'!E138,IF('Texte Sprachen'!A1=5,'Texte Sprachen'!F138,'Texte Sprachen'!G138))))) -> PE | X57: =IF('Texte Sprachen'!A1=1,'Texte Sprachen'!B139,IF('Texte Sprachen'!A1=2,'Texte Sprachen'!C139,IF('Texte Sprachen'!A1=3,'Texte Sprachen'!D139,IF('Texte Sprachen'!A1=4,'Texte Sprachen'!E139,IF('Texte Sprachen'!A1=5,'Texte Sprachen'!F139,'Texte Sprachen'!G139))))) -> andere Netzform:
B58: =IF('Texte Sprachen'!A1=1,'Texte Sprachen'!B140,IF('Texte Sprachen'!A1=2,'Texte Sprachen'!C140,IF('Texte Sprachen'!A1=3,'Texte Sprachen'!D140,IF('Texte Sprachen'!A1=4,'Texte Sprachen'!E140,IF('Texte Sprachen'!A1=5,'Texte Sprachen'!F140,'Texte Sprachen'!G140))))) -> Überspannungsschutz (empfohlen nach DIN VDE 0100-443 und DIN VDE 011-534)
A59: =IF('Texte Sprachen'!A1=1,'Texte Sprachen'!B141,IF('Texte Sprachen'!A1=2,'Texte Sprachen'!C141,IF('Texte Sprachen'!A1=3,'Texte Sprachen'!D141,IF('Texte Sprachen'!A1=4,'Texte Sprachen'!E141,IF('Texte Sprachen'!A1=5,'Texte Sprachen'!F141,'Texte Sprachen'!G141))))) -> Lichtspannung: | I59: =IF('Texte Sprachen'!A1=1,'Texte Sprachen'!B142,IF('Texte Sprachen'!A1=2,'Texte Sprachen'!C142,IF('Texte Sprachen'!A1=3,'Texte Sprachen'!D142,IF('Texte Sprachen'!A1=4,'Texte Sprachen'!E142,IF('Texte Sprachen'!A1=5,'Texte Sprachen'!F142,'Texte Sprachen'!G142))))) -> bauseitige Unterverteilung / Lichtspannung über eigene Zuleitung
I60: =IF('Texte Sprachen'!A1=1,'Texte Sprachen'!B143,IF('Texte Sprachen'!A1=2,'Texte Sprachen'!C143,IF('Texte Sprachen'!A1=3,'Texte Sprachen'!D143,IF('Texte Sprachen'!A1=4,'Texte Sprachen'!E143,IF('Texte Sprachen'!A1=5,'Texte Sprachen'!F143,'Texte Sprachen'!G143))))) -> Abgriff intern vor dem Hauptschalter | Y60: =IF('Texte Sprachen'!A1=1,'Texte Sprachen'!B144,IF('Texte Sprachen'!A1=2,'Texte Sprachen'!C144,IF('Texte Sprachen'!A1=3,'Texte Sprachen'!D144,IF('Texte Sprachen'!A1=4,'Texte Sprachen'!E144,IF('Texte Sprachen'!A1=5,'Texte Sprachen'!F144,'Texte Sprachen'!G144))))) -> Fi-Schutzschalter (30mA)
A61: =IF('Texte Sprachen'!A1=1,'Texte Sprachen'!B145,IF('Texte Sprachen'!A1=2,'Texte Sprachen'!C145,IF('Texte Sprachen'!A1=3,'Texte Sprachen'!D145,IF('Texte Sprachen'!A1=4,'Texte Sprachen'!E145,IF('Texte Sprachen'!A1=5,'Texte Sprachen'!F145,'Texte Sprachen'!G145))))) -> Ergänzung zu 4.:
A62: =IF('Texte Sprachen'!A1=1,'Texte Sprachen'!B146,IF('Texte Sprachen'!A1=2,'Texte Sprachen'!C146,IF('Texte Sprachen'!A1=3,'Texte Sprachen'!D146,IF('Texte Sprachen'!A1=4,'Texte Sprachen'!E146,IF('Texte Sprachen'!A1=5,'Texte Sprachen'!F146,'Texte Sprachen'!G146))))) -> 5. Antrieb / Aggregat
A63: =IF('Texte Sprachen'!A1=1,'Texte Sprachen'!B147,IF('Texte Sprachen'!A1=2,'Texte Sprachen'!C147,IF('Texte Sprachen'!A1=3,'Texte Sprachen'!D147,IF('Texte Sprachen'!A1=4,'Texte Sprachen'!E147,IF('Texte Sprachen'!A1=5,'Texte Sprachen'!F147,'Texte Sprachen'!G147))))) -> Aufhängung: | I63: =IF('Texte Sprachen'!A1=1,'Texte Sprachen'!B148,IF('Texte Sprachen'!A1=2,'Texte Sprachen'!C148,IF('Texte Sprachen'!A1=3,'Texte Sprachen'!D148,IF('Texte Sprachen'!A1=4,'Texte Sprachen'!E148,IF('Texte Sprachen'!A1=5,'Texte Sprachen'!F148,'Texte Sprachen'!G148))))) -> 1:1 | M63: =IF('Texte Sprachen'!A1=1,'Texte Sprachen'!B149,IF('Texte Sprachen'!A1=2,'Texte Sprachen'!C149,IF('Texte Sprachen'!A1=3,'Texte Sprachen'!D149,IF('Texte Sprachen'!A1=4,'Texte Sprachen'!E149,IF('Texte Sprachen'!A1=5,'Texte Sprachen'!F149,'Texte Sprachen'!G149))))) -> 2:1 | Q63: =IF('Texte Sprachen'!A1=1,'Texte Sprachen'!B150,IF('Texte Sprachen'!A1=2,'Texte Sprachen'!C150,IF('Texte Sprachen'!A1=3,'Texte Sprachen'!D150,IF('Texte Sprachen'!A1=4,'Texte Sprachen'!E150,IF('Texte Sprachen'!A1=5,'Texte Sprachen'!F150,'Texte Sprachen'!G150))))) -> 4:1 | Y63: =IF('Texte Sprachen'!A1=1,'Texte Sprachen'!B151,IF('Texte Sprachen'!A1=2,'Texte Sprachen'!C151,IF('Texte Sprachen'!A1=3,'Texte Sprachen'!D151,IF('Texte Sprachen'!A1=4,'Texte Sprachen'!E151,IF('Texte Sprachen'!A1=5,'Texte Sprachen'!F151,'Texte Sprachen'!G151))))) -> Tragfähigkeit (kg):
A64: =IF('Texte Sprachen'!A1=1,'Texte Sprachen'!B152,IF('Texte Sprachen'!A1=2,'Texte Sprachen'!C152,IF('Texte Sprachen'!A1=3,'Texte Sprachen'!D152,IF('Texte Sprachen'!A1=4,'Texte Sprachen'!E152,IF('Texte Sprachen'!A1=5,'Texte Sprachen'!F152,'Texte Sprachen'!G152))))) -> Nennleistung (kW): | M64: =IF('Texte Sprachen'!A1=1,'Texte Sprachen'!B153,IF('Texte Sprachen'!A1=2,'Texte Sprachen'!C153,IF('Texte Sprachen'!A1=3,'Texte Sprachen'!D153,IF('Texte Sprachen'!A1=4,'Texte Sprachen'!E153,IF('Texte Sprachen'!A1=5,'Texte Sprachen'!F153,'Texte Sprachen'!G153))))) -> Nennstrom (A): | Y64: =IF('Texte Sprachen'!A1=1,'Texte Sprachen'!B154,IF('Texte Sprachen'!A1=2,'Texte Sprachen'!C154,IF('Texte Sprachen'!A1=3,'Texte Sprachen'!D154,IF('Texte Sprachen'!A1=4,'Texte Sprachen'!E154,IF('Texte Sprachen'!A1=5,'Texte Sprachen'!F154,'Texte Sprachen'!G154))))) -> Geschwindigkeit (m/s):
B65: =IF('Texte Sprachen'!A1=1,'Texte Sprachen'!B155,IF('Texte Sprachen'!A1=2,'Texte Sprachen'!C155,IF('Texte Sprachen'!A1=3,'Texte Sprachen'!D155,IF('Texte Sprachen'!A1=4,'Texte Sprachen'!E155,IF('Texte Sprachen'!A1=5,'Texte Sprachen'!F155,'Texte Sprachen'!G155))))) -> A3-Lösung: | T65: =IF('Texte Sprachen'!A1=1,'Texte Sprachen'!B160,IF('Texte Sprachen'!A1=2,'Texte Sprachen'!C160,IF('Texte Sprachen'!A1=3,'Texte Sprachen'!D160,IF('Texte Sprachen'!A1=4,'Texte Sprachen'!E160,IF('Texte Sprachen'!A1=5,'Texte Sprachen'!F160,'Texte Sprachen'!G160))))) -> (z.B. Bremsüberw.,Absinkschutz,NBS,A3-Ventil)
A66: =IF('Texte Sprachen'!A1=1,'Texte Sprachen'!B161,IF('Texte Sprachen'!A1=2,'Texte Sprachen'!C161,IF('Texte Sprachen'!A1=3,'Texte Sprachen'!D161,IF('Texte Sprachen'!A1=4,'Texte Sprachen'!E161,IF('Texte Sprachen'!A1=5,'Texte Sprachen'!F161,'Texte Sprachen'!G161))))) -> Ergänzung zu 5.:
A67: =IF('Texte Sprachen'!A1=1,'Texte Sprachen'!B162,IF('Texte Sprachen'!A1=2,'Texte Sprachen'!C162,IF('Texte Sprachen'!A1=3,'Texte Sprachen'!D162,IF('Texte Sprachen'!A1=4,'Texte Sprachen'!E162,IF('Texte Sprachen'!A1=5,'Texte Sprachen'!F162,'Texte Sprachen'!G162))))) -> 5.1 Seil
A68: =IF('Texte Sprachen'!A1=1,'Texte Sprachen'!B163,IF('Texte Sprachen'!A1=2,'Texte Sprachen'!C163,IF('Texte Sprachen'!A1=3,'Texte Sprachen'!D163,IF('Texte Sprachen'!A1=4,'Texte Sprachen'!E163,IF('Texte Sprachen'!A1=5,'Texte Sprachen'!F163,'Texte Sprachen'!G163))))) -> Motor: | J68: =IF('Texte Sprachen'!A1=1,'Texte Sprachen'!B164,IF('Texte Sprachen'!A1=2,'Texte Sprachen'!C164,IF('Texte Sprachen'!A1=3,'Texte Sprachen'!D164,IF('Texte Sprachen'!A1=4,'Texte Sprachen'!E164,IF('Texte Sprachen'!A1=5,'Texte Sprachen'!F164,'Texte Sprachen'!G164))))) -> synchron | O68: =IF('Texte Sprachen'!A1=1,'Texte Sprachen'!B165,IF('Texte Sprachen'!A1=2,'Texte Sprachen'!C165,IF('Texte Sprachen'!A1=3,'Texte Sprachen'!D165,IF('Texte Sprachen'!A1=4,'Texte Sprachen'!E165,IF('Texte Sprachen'!A1=5,'Texte Sprachen'!F165,'Texte Sprachen'!G165))))) -> asynchron | U68: =IF('Texte Sprachen'!A1=1,'Texte Sprachen'!B166,IF('Texte Sprachen'!A1=2,'Texte Sprachen'!C166,IF('Texte Sprachen'!A1=3,'Texte Sprachen'!D166,IF('Texte Sprachen'!A1=4,'Texte Sprachen'!E166,IF('Texte Sprachen'!A1=5,'Texte Sprachen'!F166,'Texte Sprachen'!G166))))) -> 2-Geschwindigkeiten | AD68: =IF('Texte Sprachen'!A1=1,'Texte Sprachen'!B167,IF('Texte Sprachen'!A1=2,'Texte Sprachen'!C167,IF('Texte Sprachen'!A1=3,'Texte Sprachen'!D167,IF('Texte Sprachen'!A1=4,'Texte Sprachen'!E167,IF('Texte Sprachen'!A1=5,'Texte Sprachen'!F167,'Texte Sprachen'!G167))))) -> 1-Geschwindigkeit
A69: =IF('Texte Sprachen'!A1=1,'Texte Sprachen'!B168,IF('Texte Sprachen'!A1=2,'Texte Sprachen'!C168,IF('Texte Sprachen'!A1=3,'Texte Sprachen'!D168,IF('Texte Sprachen'!A1=4,'Texte Sprachen'!E168,IF('Texte Sprachen'!A1=5,'Texte Sprachen'!F168,'Texte Sprachen'!G168))))) -> Bremslüftung: | J69: =IF('Texte Sprachen'!A1=1,'Texte Sprachen'!B169,IF('Texte Sprachen'!A1=2,'Texte Sprachen'!C169,IF('Texte Sprachen'!A1=3,'Texte Sprachen'!D169,IF('Texte Sprachen'!A1=4,'Texte Sprachen'!E169,IF('Texte Sprachen'!A1=5,'Texte Sprachen'!F169,'Texte Sprachen'!G169))))) -> mechanisch | U69: =IF('Texte Sprachen'!A1=1,'Texte Sprachen'!B170,IF('Texte Sprachen'!A1=2,'Texte Sprachen'!C170,IF('Texte Sprachen'!A1=3,'Texte Sprachen'!D170,IF('Texte Sprachen'!A1=4,'Texte Sprachen'!E170,IF('Texte Sprachen'!A1=5,'Texte Sprachen'!F170,'Texte Sprachen'!G170))))) -> nur Züs-Test Taster (ohne USV)
J70: =IF('Texte Sprachen'!A1=1,'Texte Sprachen'!B171,IF('Texte Sprachen'!A1=2,'Texte Sprachen'!C171,IF('Texte Sprachen'!A1=3,'Texte Sprachen'!D171,IF('Texte Sprachen'!A1=4,'Texte Sprachen'!E171,IF('Texte Sprachen'!A1=5,'Texte Sprachen'!F171,'Texte Sprachen'!G171))))) -> elektrisch über USV | U70: =IF('Texte Sprachen'!A1=1,'Texte Sprachen'!B172,IF('Texte Sprachen'!A1=2,'Texte Sprachen'!C172,IF('Texte Sprachen'!A1=3,'Texte Sprachen'!D172,IF('Texte Sprachen'!A1=4,'Texte Sprachen'!E172,IF('Texte Sprachen'!A1=5,'Texte Sprachen'!F172,'Texte Sprachen'!G172))))) -> USV von LiSA | AA70: =IF('Texte Sprachen'!A1=1,'Texte Sprachen'!B173,IF('Texte Sprachen'!A1=2,'Texte Sprachen'!C173,IF('Texte Sprachen'!A1=3,'Texte Sprachen'!D173,IF('Texte Sprachen'!A1=4,'Texte Sprachen'!E173,IF('Texte Sprachen'!A1=5,'Texte Sprachen'!F173,'Texte Sprachen'!G173))))) -> USV beigestellt
A71: =IF('Texte Sprachen'!A1=1,'Texte Sprachen'!B174,IF('Texte Sprachen'!A1=2,'Texte Sprachen'!C174,IF('Texte Sprachen'!A1=3,'Texte Sprachen'!D174,IF('Texte Sprachen'!A1=4,'Texte Sprachen'!E174,IF('Texte Sprachen'!A1=5,'Texte Sprachen'!F174,'Texte Sprachen'!G174))))) -> Bremse: | J71: =IF('Texte Sprachen'!A1=1,'Texte Sprachen'!B175,IF('Texte Sprachen'!A1=2,'Texte Sprachen'!C175,IF('Texte Sprachen'!A1=3,'Texte Sprachen'!D175,IF('Texte Sprachen'!A1=4,'Texte Sprachen'!E175,IF('Texte Sprachen'!A1=5,'Texte Sprachen'!F175,'Texte Sprachen'!G175))))) -> 207VDC | O71: =IF('Texte Sprachen'!A1=1,'Texte Sprachen'!B176,IF('Texte Sprachen'!A1=2,'Texte Sprachen'!C176,IF('Texte Sprachen'!A1=3,'Texte Sprachen'!D176,IF('Texte Sprachen'!A1=4,'Texte Sprachen'!E176,IF('Texte Sprachen'!A1=5,'Texte Sprachen'!F176,'Texte Sprachen'!G176))))) -> 230VAC | U71: =IF('Texte Sprachen'!A1=1,'Texte Sprachen'!B177,IF('Texte Sprachen'!A1=2,'Texte Sprachen'!C177,IF('Texte Sprachen'!A1=3,'Texte Sprachen'!D177,IF('Texte Sprachen'!A1=4,'Texte Sprachen'!E177,IF('Texte Sprachen'!A1=5,'Texte Sprachen'!F177,'Texte Sprachen'!G177))))) -> sonstige:
J72: =IF('Texte Sprachen'!A1=1,'Texte Sprachen'!B178,IF('Texte Sprachen'!A1=2,'Texte Sprachen'!C178,IF('Texte Sprachen'!A1=3,'Texte Sprachen'!D178,IF('Texte Sprachen'!A1=4,'Texte Sprachen'!E178,IF('Texte Sprachen'!A1=5,'Texte Sprachen'!F178,'Texte Sprachen'!G178))))) -> BSV-Gerät | O72: =IF('Texte Sprachen'!A1=1,'Texte Sprachen'!B179,IF('Texte Sprachen'!A1=2,'Texte Sprachen'!C179,IF('Texte Sprachen'!A1=3,'Texte Sprachen'!D179,IF('Texte Sprachen'!A1=4,'Texte Sprachen'!E179,IF('Texte Sprachen'!A1=5,'Texte Sprachen'!F179,'Texte Sprachen'!G179))))) -> beigestellt | U72: =IF('Texte Sprachen'!A1=1,'Texte Sprachen'!B180,IF('Texte Sprachen'!A1=2,'Texte Sprachen'!C180,IF('Texte Sprachen'!A1=3,'Texte Sprachen'!D180,IF('Texte Sprachen'!A1=4,'Texte Sprachen'!E180,IF('Texte Sprachen'!A1=5,'Texte Sprachen'!F180,'Texte Sprachen'!G180))))) -> von Lisa | AA72: =IF('Texte Sprachen'!A1=1,'Texte Sprachen'!B181,IF('Texte Sprachen'!A1=2,'Texte Sprachen'!C181,IF('Texte Sprachen'!A1=3,'Texte Sprachen'!D181,IF('Texte Sprachen'!A1=4,'Texte Sprachen'!E181,IF('Texte Sprachen'!A1=5,'Texte Sprachen'!F181,'Texte Sprachen'!G181))))) -> nur vorbereiten
J73: =IF('Texte Sprachen'!A1=1,'Texte Sprachen'!B182,IF('Texte Sprachen'!A1=2,'Texte Sprachen'!C182,IF('Texte Sprachen'!A1=3,'Texte Sprachen'!D182,IF('Texte Sprachen'!A1=4,'Texte Sprachen'!E182,IF('Texte Sprachen'!A1=5,'Texte Sprachen'!F182,'Texte Sprachen'!G182))))) -> Bremslüftüberwachung | U73: =IF('Texte Sprachen'!A1=1,'Texte Sprachen'!B183,IF('Texte Sprachen'!A1=2,'Texte Sprachen'!C183,IF('Texte Sprachen'!A1=3,'Texte Sprachen'!D183,IF('Texte Sprachen'!A1=4,'Texte Sprachen'!E183,IF('Texte Sprachen'!A1=5,'Texte Sprachen'!F183,'Texte Sprachen'!G183))))) -> Bremsverschleißkontrolle
A74: =IF('Texte Sprachen'!A1=1,'Texte Sprachen'!B184,IF('Texte Sprachen'!A1=2,'Texte Sprachen'!C184,IF('Texte Sprachen'!A1=3,'Texte Sprachen'!D184,IF('Texte Sprachen'!A1=4,'Texte Sprachen'!E184,IF('Texte Sprachen'!A1=5,'Texte Sprachen'!F184,'Texte Sprachen'!G184))))) -> Tacho: | J74: =IF('Texte Sprachen'!A1=1,'Texte Sprachen'!B185,IF('Texte Sprachen'!A1=2,'Texte Sprachen'!C185,IF('Texte Sprachen'!A1=3,'Texte Sprachen'!D185,IF('Texte Sprachen'!A1=4,'Texte Sprachen'!E185,IF('Texte Sprachen'!A1=5,'Texte Sprachen'!F185,'Texte Sprachen'!G185))))) -> Typ: | S74: =IF('Texte Sprachen'!A1=1,'Texte Sprachen'!B186,IF('Texte Sprachen'!A1=2,'Texte Sprachen'!C186,IF('Texte Sprachen'!A1=3,'Texte Sprachen'!D186,IF('Texte Sprachen'!A1=4,'Texte Sprachen'!E186,IF('Texte Sprachen'!A1=5,'Texte Sprachen'!F186,'Texte Sprachen'!G186))))) -> Tacho mitliefern | AA74: =IF('Texte Sprachen'!A1=1,'Texte Sprachen'!B187,IF('Texte Sprachen'!A1=2,'Texte Sprachen'!C187,IF('Texte Sprachen'!A1=3,'Texte Sprachen'!D187,IF('Texte Sprachen'!A1=4,'Texte Sprachen'!E187,IF('Texte Sprachen'!A1=5,'Texte Sprachen'!F187,'Texte Sprachen'!G187))))) -> ohne (möglichst vermeiden)
A75: =IF('Texte Sprachen'!A1=1,'Texte Sprachen'!B188,IF('Texte Sprachen'!A1=2,'Texte Sprachen'!C188,IF('Texte Sprachen'!A1=3,'Texte Sprachen'!D188,IF('Texte Sprachen'!A1=4,'Texte Sprachen'!E188,IF('Texte Sprachen'!A1=5,'Texte Sprachen'!F188,'Texte Sprachen'!G188))))) -> Anbausatz mitliefern: | J75: =IF('Texte Sprachen'!A1=1,'Texte Sprachen'!B189,IF('Texte Sprachen'!A1=2,'Texte Sprachen'!C189,IF('Texte Sprachen'!A1=3,'Texte Sprachen'!D189,IF('Texte Sprachen'!A1=4,'Texte Sprachen'!E189,IF('Texte Sprachen'!A1=5,'Texte Sprachen'!F189,'Texte Sprachen'!G189))))) -> Hohlwellengeber | Q75: =IF('Texte Sprachen'!A1=1,'Texte Sprachen'!B190,IF('Texte Sprachen'!A1=2,'Texte Sprachen'!C190,IF('Texte Sprachen'!A1=3,'Texte Sprachen'!D190,IF('Texte Sprachen'!A1=4,'Texte Sprachen'!E190,IF('Texte Sprachen'!A1=5,'Texte Sprachen'!F190,'Texte Sprachen'!G190))))) -> Wellendurchmesser (mm):
J76: =IF('Texte Sprachen'!A1=1,'Texte Sprachen'!B191,IF('Texte Sprachen'!A1=2,'Texte Sprachen'!C191,IF('Texte Sprachen'!A1=3,'Texte Sprachen'!D191,IF('Texte Sprachen'!A1=4,'Texte Sprachen'!E191,IF('Texte Sprachen'!A1=5,'Texte Sprachen'!F191,'Texte Sprachen'!G191))))) -> Paguflex | Q76: =IF('Texte Sprachen'!A1=1,'Texte Sprachen'!B192,IF('Texte Sprachen'!A1=2,'Texte Sprachen'!C192,IF('Texte Sprachen'!A1=3,'Texte Sprachen'!D192,IF('Texte Sprachen'!A1=4,'Texte Sprachen'!E192,IF('Texte Sprachen'!A1=5,'Texte Sprachen'!F192,'Texte Sprachen'!G192))))) -> Wellengewinde (M):
J77: =IF('Texte Sprachen'!A1=1,'Texte Sprachen'!B193,IF('Texte Sprachen'!A1=2,'Texte Sprachen'!C193,IF('Texte Sprachen'!A1=3,'Texte Sprachen'!D193,IF('Texte Sprachen'!A1=4,'Texte Sprachen'!E193,IF('Texte Sprachen'!A1=5,'Texte Sprachen'!F193,'Texte Sprachen'!G193))))) -> Zahnriemen | Q77: =IF('Texte Sprachen'!A1=1,'Texte Sprachen'!B194,IF('Texte Sprachen'!A1=2,'Texte Sprachen'!C194,IF('Texte Sprachen'!A1=3,'Texte Sprachen'!D194,IF('Texte Sprachen'!A1=4,'Texte Sprachen'!E194,IF('Texte Sprachen'!A1=5,'Texte Sprachen'!F194,'Texte Sprachen'!G194))))) -> Länge (mm): | AA77: =IF('Texte Sprachen'!A1=1,'Texte Sprachen'!B195,IF('Texte Sprachen'!A1=2,'Texte Sprachen'!C195,IF('Texte Sprachen'!A1=3,'Texte Sprachen'!D195,IF('Texte Sprachen'!A1=4,'Texte Sprachen'!E195,IF('Texte Sprachen'!A1=5,'Texte Sprachen'!F195,'Texte Sprachen'!G195))))) -> Schutzverkleidung mitliefern
Q78: =IF('Texte Sprachen'!A1=1,'Texte Sprachen'!B196,IF('Texte Sprachen'!A1=2,'Texte Sprachen'!C196,IF('Texte Sprachen'!A1=3,'Texte Sprachen'!D196,IF('Texte Sprachen'!A1=4,'Texte Sprachen'!E196,IF('Texte Sprachen'!A1=5,'Texte Sprachen'!F196,'Texte Sprachen'!G196))))) -> Wellendurchmesser (mm):
A79: =IF('Texte Sprachen'!A1=1,'Texte Sprachen'!B197,IF('Texte Sprachen'!A1=2,'Texte Sprachen'!C197,IF('Texte Sprachen'!A1=3,'Texte Sprachen'!D197,IF('Texte Sprachen'!A1=4,'Texte Sprachen'!E197,IF('Texte Sprachen'!A1=5,'Texte Sprachen'!F197,'Texte Sprachen'!G197))))) -> Motorschutz: | J79: =IF('Texte Sprachen'!A1=1,'Texte Sprachen'!B198,IF('Texte Sprachen'!A1=2,'Texte Sprachen'!C198,IF('Texte Sprachen'!A1=3,'Texte Sprachen'!D198,IF('Texte Sprachen'!A1=4,'Texte Sprachen'!E198,IF('Texte Sprachen'!A1=5,'Texte Sprachen'!F198,'Texte Sprachen'!G198))))) -> Kaltleiter | S79: =IF('Texte Sprachen'!A1=1,'Texte Sprachen'!B199,IF('Texte Sprachen'!A1=2,'Texte Sprachen'!C199,IF('Texte Sprachen'!A1=3,'Texte Sprachen'!D199,IF('Texte Sprachen'!A1=4,'Texte Sprachen'!E199,IF('Texte Sprachen'!A1=5,'Texte Sprachen'!F199,'Texte Sprachen'!G199))))) -> Motorschutzschalter
A80: =IF('Texte Sprachen'!A1=1,'Texte Sprachen'!B200,IF('Texte Sprachen'!A1=2,'Texte Sprachen'!C200,IF('Texte Sprachen'!A1=3,'Texte Sprachen'!D200,IF('Texte Sprachen'!A1=4,'Texte Sprachen'!E200,IF('Texte Sprachen'!A1=5,'Texte Sprachen'!F200,'Texte Sprachen'!G200))))) -> Motorlüfter: | J80: =IF('Texte Sprachen'!A1=1,'Texte Sprachen'!B201,IF('Texte Sprachen'!A1=2,'Texte Sprachen'!C201,IF('Texte Sprachen'!A1=3,'Texte Sprachen'!D201,IF('Texte Sprachen'!A1=4,'Texte Sprachen'!E201,IF('Texte Sprachen'!A1=5,'Texte Sprachen'!F201,'Texte Sprachen'!G201))))) -> 230V | N80: =IF('Texte Sprachen'!A1=1,'Texte Sprachen'!B202,IF('Texte Sprachen'!A1=2,'Texte Sprachen'!C202,IF('Texte Sprachen'!A1=3,'Texte Sprachen'!D202,IF('Texte Sprachen'!A1=4,'Texte Sprachen'!E202,IF('Texte Sprachen'!A1=5,'Texte Sprachen'!F202,'Texte Sprachen'!G202))))) -> 400V | R80: =IF('Texte Sprachen'!A1=1,'Texte Sprachen'!B203,IF('Texte Sprachen'!A1=2,'Texte Sprachen'!C203,IF('Texte Sprachen'!A1=3,'Texte Sprachen'!D203,IF('Texte Sprachen'!A1=4,'Texte Sprachen'!E203,IF('Texte Sprachen'!A1=5,'Texte Sprachen'!F203,'Texte Sprachen'!G203))))) -> durch Thermokontakt | AA80: =IF('Texte Sprachen'!A1=1,'Texte Sprachen'!B204,IF('Texte Sprachen'!A1=2,'Texte Sprachen'!C204,IF('Texte Sprachen'!A1=3,'Texte Sprachen'!D204,IF('Texte Sprachen'!A1=4,'Texte Sprachen'!E204,IF('Texte Sprachen'!A1=5,'Texte Sprachen'!F204,'Texte Sprachen'!G204))))) -> durch Steuerung mit Nachlauf
A81: =IF('Texte Sprachen'!A1=1,'Texte Sprachen'!B205,IF('Texte Sprachen'!A1=2,'Texte Sprachen'!C205,IF('Texte Sprachen'!A1=3,'Texte Sprachen'!D205,IF('Texte Sprachen'!A1=4,'Texte Sprachen'!E205,IF('Texte Sprachen'!A1=5,'Texte Sprachen'!F205,'Texte Sprachen'!G205))))) -> Sicherheitsbremse: | J81: =IF('Texte Sprachen'!A1=1,'Texte Sprachen'!B206,IF('Texte Sprachen'!A1=2,'Texte Sprachen'!C206,IF('Texte Sprachen'!A1=3,'Texte Sprachen'!D206,IF('Texte Sprachen'!A1=4,'Texte Sprachen'!E206,IF('Texte Sprachen'!A1=5,'Texte Sprachen'!F206,'Texte Sprachen'!G206))))) -> Thyssen NBS | P81: =IF('Texte Sprachen'!A1=1,'Texte Sprachen'!B207,IF('Texte Sprachen'!A1=2,'Texte Sprachen'!C207,IF('Texte Sprachen'!A1=3,'Texte Sprachen'!D207,IF('Texte Sprachen'!A1=4,'Texte Sprachen'!E207,IF('Texte Sprachen'!A1=5,'Texte Sprachen'!F207,'Texte Sprachen'!G207))))) -> Steuereinheit bauseits | Y81: =IF('Texte Sprachen'!A1=1,'Texte Sprachen'!B208,IF('Texte Sprachen'!A1=2,'Texte Sprachen'!C208,IF('Texte Sprachen'!A1=3,'Texte Sprachen'!D208,IF('Texte Sprachen'!A1=4,'Texte Sprachen'!E208,IF('Texte Sprachen'!A1=5,'Texte Sprachen'!F208,'Texte Sprachen'!G208))))) -> Steuereinheit im Schrank integrieren
J82: =IF('Texte Sprachen'!A1=1,'Texte Sprachen'!B209,IF('Texte Sprachen'!A1=2,'Texte Sprachen'!C209,IF('Texte Sprachen'!A1=3,'Texte Sprachen'!D209,IF('Texte Sprachen'!A1=4,'Texte Sprachen'!E209,IF('Texte Sprachen'!A1=5,'Texte Sprachen'!F209,'Texte Sprachen'!G209))))) -> Wittur EOS | P82: =IF('Texte Sprachen'!A1=1,'Texte Sprachen'!B210,IF('Texte Sprachen'!A1=2,'Texte Sprachen'!C210,IF('Texte Sprachen'!A1=3,'Texte Sprachen'!D210,IF('Texte Sprachen'!A1=4,'Texte Sprachen'!E210,IF('Texte Sprachen'!A1=5,'Texte Sprachen'!F210,'Texte Sprachen'!G210))))) -> Bode Seilbremse | Y82: =IF('Texte Sprachen'!A1=1,'Texte Sprachen'!B211,IF('Texte Sprachen'!A1=2,'Texte Sprachen'!C211,IF('Texte Sprachen'!A1=3,'Texte Sprachen'!D211,IF('Texte Sprachen'!A1=4,'Texte Sprachen'!E211,IF('Texte Sprachen'!A1=5,'Texte Sprachen'!F211,'Texte Sprachen'!G211))))) -> sonst.:
A83: =IF('Texte Sprachen'!A1=1,'Texte Sprachen'!B212,IF('Texte Sprachen'!A1=2,'Texte Sprachen'!C212,IF('Texte Sprachen'!A1=3,'Texte Sprachen'!D212,IF('Texte Sprachen'!A1=4,'Texte Sprachen'!E212,IF('Texte Sprachen'!A1=5,'Texte Sprachen'!F212,'Texte Sprachen'!G212))))) -> Lastmessung: | I83: =IF('Texte Sprachen'!A1=1,'Texte Sprachen'!B213,IF('Texte Sprachen'!A1=2,'Texte Sprachen'!C213,IF('Texte Sprachen'!A1=3,'Texte Sprachen'!D213,IF('Texte Sprachen'!A1=4,'Texte Sprachen'!E213,IF('Texte Sprachen'!A1=5,'Texte Sprachen'!F213,'Texte Sprachen'!G213))))) -> Anschluss: | P83: =IF('Texte Sprachen'!A1=1,'Texte Sprachen'!B214,IF('Texte Sprachen'!A1=2,'Texte Sprachen'!C214,IF('Texte Sprachen'!A1=3,'Texte Sprachen'!D214,IF('Texte Sprachen'!A1=4,'Texte Sprachen'!E214,IF('Texte Sprachen'!A1=5,'Texte Sprachen'!F214,'Texte Sprachen'!G214))))) -> auf der Kabine | Y83: =IF('Texte Sprachen'!A1=1,'Texte Sprachen'!B215,IF('Texte Sprachen'!A1=2,'Texte Sprachen'!C215,IF('Texte Sprachen'!A1=3,'Texte Sprachen'!D215,IF('Texte Sprachen'!A1=4,'Texte Sprachen'!E215,IF('Texte Sprachen'!A1=5,'Texte Sprachen'!F215,'Texte Sprachen'!G215))))) -> im Schaltschrank
I84: =IF('Texte Sprachen'!A1=1,'Texte Sprachen'!B216,IF('Texte Sprachen'!A1=2,'Texte Sprachen'!C216,IF('Texte Sprachen'!A1=3,'Texte Sprachen'!D216,IF('Texte Sprachen'!A1=4,'Texte Sprachen'!E216,IF('Texte Sprachen'!A1=5,'Texte Sprachen'!F216,'Texte Sprachen'!G216))))) -> Typ: | Y84: =IF('Texte Sprachen'!A1=1,'Texte Sprachen'!B217,IF('Texte Sprachen'!A1=2,'Texte Sprachen'!C217,IF('Texte Sprachen'!A1=3,'Texte Sprachen'!D217,IF('Texte Sprachen'!A1=4,'Texte Sprachen'!E217,IF('Texte Sprachen'!A1=5,'Texte Sprachen'!F217,'Texte Sprachen'!G217))))) -> 24VDC | AD84: =IF('Texte Sprachen'!A1=1,'Texte Sprachen'!B218,IF('Texte Sprachen'!A1=2,'Texte Sprachen'!C218,IF('Texte Sprachen'!A1=3,'Texte Sprachen'!D218,IF('Texte Sprachen'!A1=4,'Texte Sprachen'!E218,IF('Texte Sprachen'!A1=5,'Texte Sprachen'!F218,'Texte Sprachen'!G218))))) -> 230VAC
I85: =IF('Texte Sprachen'!A1=1,'Texte Sprachen'!B219,IF('Texte Sprachen'!A1=2,'Texte Sprachen'!C219,IF('Texte Sprachen'!A1=3,'Texte Sprachen'!D219,IF('Texte Sprachen'!A1=4,'Texte Sprachen'!E219,IF('Texte Sprachen'!A1=5,'Texte Sprachen'!F219,'Texte Sprachen'!G219))))) -> Funktionen: | P85: =IF('Texte Sprachen'!A1=1,'Texte Sprachen'!B220,IF('Texte Sprachen'!A1=2,'Texte Sprachen'!C220,IF('Texte Sprachen'!A1=3,'Texte Sprachen'!D220,IF('Texte Sprachen'!A1=4,'Texte Sprachen'!E220,IF('Texte Sprachen'!A1=5,'Texte Sprachen'!F220,'Texte Sprachen'!G220))))) -> Überlast | U85: =IF('Texte Sprachen'!A1=1,'Texte Sprachen'!B221,IF('Texte Sprachen'!A1=2,'Texte Sprachen'!C221,IF('Texte Sprachen'!A1=3,'Texte Sprachen'!D221,IF('Texte Sprachen'!A1=4,'Texte Sprachen'!E221,IF('Texte Sprachen'!A1=5,'Texte Sprachen'!F221,'Texte Sprachen'!G221))))) -> Volllast | Y85: =IF('Texte Sprachen'!A1=1,'Texte Sprachen'!B222,IF('Texte Sprachen'!A1=2,'Texte Sprachen'!C222,IF('Texte Sprachen'!A1=3,'Texte Sprachen'!D222,IF('Texte Sprachen'!A1=4,'Texte Sprachen'!E222,IF('Texte Sprachen'!A1=5,'Texte Sprachen'!F222,'Texte Sprachen'!G222))))) -> Nulllast
I86: =IF('Texte Sprachen'!A1=1,'Texte Sprachen'!B223,IF('Texte Sprachen'!A1=2,'Texte Sprachen'!C223,IF('Texte Sprachen'!A1=3,'Texte Sprachen'!D223,IF('Texte Sprachen'!A1=4,'Texte Sprachen'!E223,IF('Texte Sprachen'!A1=5,'Texte Sprachen'!F223,'Texte Sprachen'!G223))))) -> Ausgang: | P86: =IF('Texte Sprachen'!A1=1,'Texte Sprachen'!B224,IF('Texte Sprachen'!A1=2,'Texte Sprachen'!C224,IF('Texte Sprachen'!A1=3,'Texte Sprachen'!D224,IF('Texte Sprachen'!A1=4,'Texte Sprachen'!E224,IF('Texte Sprachen'!A1=5,'Texte Sprachen'!F224,'Texte Sprachen'!G224))))) -> potentialfreier Kontakt | Y86: =IF('Texte Sprachen'!A1=1,'Texte Sprachen'!B225,IF('Texte Sprachen'!A1=2,'Texte Sprachen'!C225,IF('Texte Sprachen'!A1=3,'Texte Sprachen'!D225,IF('Texte Sprachen'!A1=4,'Texte Sprachen'!E225,IF('Texte Sprachen'!A1=5,'Texte Sprachen'!F225,'Texte Sprachen'!G225))))) -> npn (bevorzugen) | AG86: =IF('Texte Sprachen'!A1=1,'Texte Sprachen'!B226,IF('Texte Sprachen'!A1=2,'Texte Sprachen'!C226,IF('Texte Sprachen'!A1=3,'Texte Sprachen'!D226,IF('Texte Sprachen'!A1=4,'Texte Sprachen'!E226,IF('Texte Sprachen'!A1=5,'Texte Sprachen'!F226,'Texte Sprachen'!G226))))) -> pnp
A87: =IF('Texte Sprachen'!A1=1,'Texte Sprachen'!B227,IF('Texte Sprachen'!A1=2,'Texte Sprachen'!C227,IF('Texte Sprachen'!A1=3,'Texte Sprachen'!D227,IF('Texte Sprachen'!A1=4,'Texte Sprachen'!E227,IF('Texte Sprachen'!A1=5,'Texte Sprachen'!F227,'Texte Sprachen'!G227))))) -> Ergänzung zu 5.1:
A88: =IF('Texte Sprachen'!A1=1,'Texte Sprachen'!B228,IF('Texte Sprachen'!A1=2,'Texte Sprachen'!C228,IF('Texte Sprachen'!A1=3,'Texte Sprachen'!D228,IF('Texte Sprachen'!A1=4,'Texte Sprachen'!E228,IF('Texte Sprachen'!A1=5,'Texte Sprachen'!F228,'Texte Sprachen'!G228))))) -> 5.2 Frequenzregelung
A89: =IF('Texte Sprachen'!A1=1,'Texte Sprachen'!B229,IF('Texte Sprachen'!A1=2,'Texte Sprachen'!C229,IF('Texte Sprachen'!A1=3,'Texte Sprachen'!D229,IF('Texte Sprachen'!A1=4,'Texte Sprachen'!E229,IF('Texte Sprachen'!A1=5,'Texte Sprachen'!F229,'Texte Sprachen'!G229))))) -> Hersteller: | V89: =IF('Texte Sprachen'!A1=1,'Texte Sprachen'!B230,IF('Texte Sprachen'!A1=2,'Texte Sprachen'!C230,IF('Texte Sprachen'!A1=3,'Texte Sprachen'!D230,IF('Texte Sprachen'!A1=4,'Texte Sprachen'!E230,IF('Texte Sprachen'!A1=5,'Texte Sprachen'!F230,'Texte Sprachen'!G230))))) -> Typ:
B90: =IF('Texte Sprachen'!A1=1,'Texte Sprachen'!B231,IF('Texte Sprachen'!A1=2,'Texte Sprachen'!C231,IF('Texte Sprachen'!A1=3,'Texte Sprachen'!D231,IF('Texte Sprachen'!A1=4,'Texte Sprachen'!E231,IF('Texte Sprachen'!A1=5,'Texte Sprachen'!F231,'Texte Sprachen'!G231))))) -> Fu von LiSA | H90: =IF('Texte Sprachen'!A1=1,'Texte Sprachen'!B232,IF('Texte Sprachen'!A1=2,'Texte Sprachen'!C232,IF('Texte Sprachen'!A1=3,'Texte Sprachen'!D232,IF('Texte Sprachen'!A1=4,'Texte Sprachen'!E232,IF('Texte Sprachen'!A1=5,'Texte Sprachen'!F232,'Texte Sprachen'!G232))))) -> Fu beigestellt, wird zu LiSA geliefert | W90: =IF('Texte Sprachen'!A1=1,'Texte Sprachen'!B233,IF('Texte Sprachen'!A1=2,'Texte Sprachen'!C233,IF('Texte Sprachen'!A1=3,'Texte Sprachen'!D233,IF('Texte Sprachen'!A1=4,'Texte Sprachen'!E233,IF('Texte Sprachen'!A1=5,'Texte Sprachen'!F233,'Texte Sprachen'!G233))))) -> Fu beigestellt, wird nicht zu LiSA geliefert
A91: =IF('Texte Sprachen'!A1=1,'Texte Sprachen'!B234,IF('Texte Sprachen'!A1=2,'Texte Sprachen'!C234,IF('Texte Sprachen'!A1=3,'Texte Sprachen'!D234,IF('Texte Sprachen'!A1=4,'Texte Sprachen'!E234,IF('Texte Sprachen'!A1=5,'Texte Sprachen'!F234,'Texte Sprachen'!G234))))) -> Montage: | H91: =IF('Texte Sprachen'!A1=1,'Texte Sprachen'!B235,IF('Texte Sprachen'!A1=2,'Texte Sprachen'!C235,IF('Texte Sprachen'!A1=3,'Texte Sprachen'!D235,IF('Texte Sprachen'!A1=4,'Texte Sprachen'!E235,IF('Texte Sprachen'!A1=5,'Texte Sprachen'!F235,'Texte Sprachen'!G235))))) -> Fu im Schaltschrank | Q91: =IF('Texte Sprachen'!A1=1,'Texte Sprachen'!B236,IF('Texte Sprachen'!A1=2,'Texte Sprachen'!C236,IF('Texte Sprachen'!A1=3,'Texte Sprachen'!D236,IF('Texte Sprachen'!A1=4,'Texte Sprachen'!E236,IF('Texte Sprachen'!A1=5,'Texte Sprachen'!F236,'Texte Sprachen'!G236))))) -> Fu extern | W91: =IF('Texte Sprachen'!A1=1,'Texte Sprachen'!B237,IF('Texte Sprachen'!A1=2,'Texte Sprachen'!C237,IF('Texte Sprachen'!A1=3,'Texte Sprachen'!D237,IF('Texte Sprachen'!A1=4,'Texte Sprachen'!E237,IF('Texte Sprachen'!A1=5,'Texte Sprachen'!F237,'Texte Sprachen'!G237))))) -> Steuerleitungen liefern (m):
H92: =IF('Texte Sprachen'!A1=1,'Texte Sprachen'!B238,IF('Texte Sprachen'!A1=2,'Texte Sprachen'!C238,IF('Texte Sprachen'!A1=3,'Texte Sprachen'!D238,IF('Texte Sprachen'!A1=4,'Texte Sprachen'!E238,IF('Texte Sprachen'!A1=5,'Texte Sprachen'!F238,'Texte Sprachen'!G238))))) -> Netzdrossel/-filter im Schrank einbauen | W92: =IF('Texte Sprachen'!A1=1,'Texte Sprachen'!B239,IF('Texte Sprachen'!A1=2,'Texte Sprachen'!C239,IF('Texte Sprachen'!A1=3,'Texte Sprachen'!D239,IF('Texte Sprachen'!A1=4,'Texte Sprachen'!E239,IF('Texte Sprachen'!A1=5,'Texte Sprachen'!F239,'Texte Sprachen'!G239))))) -> Motordrossel im Schrank einbauen
A93: =IF('Texte Sprachen'!A1=1,'Texte Sprachen'!B240,IF('Texte Sprachen'!A1=2,'Texte Sprachen'!C240,IF('Texte Sprachen'!A1=3,'Texte Sprachen'!D240,IF('Texte Sprachen'!A1=4,'Texte Sprachen'!E240,IF('Texte Sprachen'!A1=5,'Texte Sprachen'!F240,'Texte Sprachen'!G240))))) -> Ansteuerung: | H93: =IF('Texte Sprachen'!A1=1,'Texte Sprachen'!B241,IF('Texte Sprachen'!A1=2,'Texte Sprachen'!C241,IF('Texte Sprachen'!A1=3,'Texte Sprachen'!D241,IF('Texte Sprachen'!A1=4,'Texte Sprachen'!E241,IF('Texte Sprachen'!A1=5,'Texte Sprachen'!F241,'Texte Sprachen'!G241))))) -> DCP 4 (nur bei LiSA20 und ZiehlAbegg, B&F, RST) | AE93: =IF('Texte Sprachen'!A1=1,'Texte Sprachen'!B242,IF('Texte Sprachen'!A1=2,'Texte Sprachen'!C242,IF('Texte Sprachen'!A1=3,'Texte Sprachen'!D242,IF('Texte Sprachen'!A1=4,'Texte Sprachen'!E242,IF('Texte Sprachen'!A1=5,'Texte Sprachen'!F242,'Texte Sprachen'!G242))))) -> parallel
A94: =IF('Texte Sprachen'!A1=1,'Texte Sprachen'!B243,IF('Texte Sprachen'!A1=2,'Texte Sprachen'!C243,IF('Texte Sprachen'!A1=3,'Texte Sprachen'!D243,IF('Texte Sprachen'!A1=4,'Texte Sprachen'!E243,IF('Texte Sprachen'!A1=5,'Texte Sprachen'!F243,'Texte Sprachen'!G243))))) -> Ergänzung zu 5.2:
A95: =IF('Texte Sprachen'!A1=1,'Texte Sprachen'!B244,IF('Texte Sprachen'!A1=2,'Texte Sprachen'!C244,IF('Texte Sprachen'!A1=3,'Texte Sprachen'!D244,IF('Texte Sprachen'!A1=4,'Texte Sprachen'!E244,IF('Texte Sprachen'!A1=5,'Texte Sprachen'!F244,'Texte Sprachen'!G244))))) -> 5.3 Hydraulik
A96: =IF('Texte Sprachen'!A1=1,'Texte Sprachen'!B245,IF('Texte Sprachen'!A1=2,'Texte Sprachen'!C245,IF('Texte Sprachen'!A1=3,'Texte Sprachen'!D245,IF('Texte Sprachen'!A1=4,'Texte Sprachen'!E245,IF('Texte Sprachen'!A1=5,'Texte Sprachen'!F245,'Texte Sprachen'!G245))))) -> Ungeregelte Systeme:
B97: =IF('Texte Sprachen'!A1=1,'Texte Sprachen'!B246,IF('Texte Sprachen'!A1=2,'Texte Sprachen'!C246,IF('Texte Sprachen'!A1=3,'Texte Sprachen'!D246,IF('Texte Sprachen'!A1=4,'Texte Sprachen'!E246,IF('Texte Sprachen'!A1=5,'Texte Sprachen'!F246,'Texte Sprachen'!G246))))) -> Hersteller: | Q97: =IF('Texte Sprachen'!A1=1,'Texte Sprachen'!B247,IF('Texte Sprachen'!A1=2,'Texte Sprachen'!C247,IF('Texte Sprachen'!A1=3,'Texte Sprachen'!D247,IF('Texte Sprachen'!A1=4,'Texte Sprachen'!E247,IF('Texte Sprachen'!A1=5,'Texte Sprachen'!F247,'Texte Sprachen'!G247))))) -> Ventilspannung:
A98: =IF('Texte Sprachen'!A1=1,'Texte Sprachen'!B248,IF('Texte Sprachen'!A1=2,'Texte Sprachen'!C248,IF('Texte Sprachen'!A1=3,'Texte Sprachen'!D248,IF('Texte Sprachen'!A1=4,'Texte Sprachen'!E248,IF('Texte Sprachen'!A1=5,'Texte Sprachen'!F248,'Texte Sprachen'!G248))))) -> Geregelte Systeme:
B99: =IF('Texte Sprachen'!A1=1,'Texte Sprachen'!B249,IF('Texte Sprachen'!A1=2,'Texte Sprachen'!C249,IF('Texte Sprachen'!A1=3,'Texte Sprachen'!D249,IF('Texte Sprachen'!A1=4,'Texte Sprachen'!E249,IF('Texte Sprachen'!A1=5,'Texte Sprachen'!F249,'Texte Sprachen'!G249))))) -> ALGI: | J99: =IF('Texte Sprachen'!A1=1,'Texte Sprachen'!B250,IF('Texte Sprachen'!A1=2,'Texte Sprachen'!C250,IF('Texte Sprachen'!A1=3,'Texte Sprachen'!D250,IF('Texte Sprachen'!A1=4,'Texte Sprachen'!E250,IF('Texte Sprachen'!A1=5,'Texte Sprachen'!F250,'Texte Sprachen'!G250))))) -> AZSTB (3 Ventile) | S99: =IF('Texte Sprachen'!A1=1,'Texte Sprachen'!B251,IF('Texte Sprachen'!A1=2,'Texte Sprachen'!C251,IF('Texte Sprachen'!A1=3,'Texte Sprachen'!D251,IF('Texte Sprachen'!A1=4,'Texte Sprachen'!E251,IF('Texte Sprachen'!A1=5,'Texte Sprachen'!F251,'Texte Sprachen'!G251))))) -> AZSTB (4 Ventile) | AA99: =IF('Texte Sprachen'!A1=1,'Texte Sprachen'!B252,IF('Texte Sprachen'!A1=2,'Texte Sprachen'!C252,IF('Texte Sprachen'!A1=3,'Texte Sprachen'!D252,IF('Texte Sprachen'!A1=4,'Texte Sprachen'!E252,IF('Texte Sprachen'!A1=5,'Texte Sprachen'!F252,'Texte Sprachen'!G252))))) -> AZRS | AF99: =IF('Texte Sprachen'!A1=1,'Texte Sprachen'!B253,IF('Texte Sprachen'!A1=2,'Texte Sprachen'!C253,IF('Texte Sprachen'!A1=3,'Texte Sprachen'!D253,IF('Texte Sprachen'!A1=4,'Texte Sprachen'!E253,IF('Texte Sprachen'!A1=5,'Texte Sprachen'!F253,'Texte Sprachen'!G253))))) -> AZFR
B100: =IF('Texte Sprachen'!A1=1,'Texte Sprachen'!B254,IF('Texte Sprachen'!A1=2,'Texte Sprachen'!C254,IF('Texte Sprachen'!A1=3,'Texte Sprachen'!D254,IF('Texte Sprachen'!A1=4,'Texte Sprachen'!E254,IF('Texte Sprachen'!A1=5,'Texte Sprachen'!F254,'Texte Sprachen'!G254))))) -> Oildinamic/GMV: | J100: =IF('Texte Sprachen'!A1=1,'Texte Sprachen'!B255,IF('Texte Sprachen'!A1=2,'Texte Sprachen'!C255,IF('Texte Sprachen'!A1=3,'Texte Sprachen'!D255,IF('Texte Sprachen'!A1=4,'Texte Sprachen'!E255,IF('Texte Sprachen'!A1=5,'Texte Sprachen'!F255,'Texte Sprachen'!G255))))) -> NGV A3 | S100: =IF('Texte Sprachen'!A1=1,'Texte Sprachen'!B256,IF('Texte Sprachen'!A1=2,'Texte Sprachen'!C256,IF('Texte Sprachen'!A1=3,'Texte Sprachen'!D256,IF('Texte Sprachen'!A1=4,'Texte Sprachen'!E256,IF('Texte Sprachen'!A1=5,'Texte Sprachen'!F256,'Texte Sprachen'!G256))))) -> NGV | AA100: =IF('Texte Sprachen'!A1=1,'Texte Sprachen'!B257,IF('Texte Sprachen'!A1=2,'Texte Sprachen'!C257,IF('Texte Sprachen'!A1=3,'Texte Sprachen'!D257,IF('Texte Sprachen'!A1=4,'Texte Sprachen'!E257,IF('Texte Sprachen'!A1=5,'Texte Sprachen'!F257,'Texte Sprachen'!G257))))) -> ER3100
...

Sheet DropDown
A1: 1. Ausführung in Halogenfrei | B1: 1. Ausführung in IP54 | C1: 4.1 Türsteuergerät Typ | D1: 5. A3-Lösung | E1: 5.1 Hohlw.Geber Motorwelle | F1: 5.1 Paguflex Wellengewinde | G1: 5.1 Zahnriemen Motorwelle
A3: =IF('Texte Sprachen'!A1=1,'Texte Sprachen'!B26,IF('Texte Sprachen'!A1=2,'Texte Sprachen'!C26,IF('Texte Sprachen'!A1=3,'Texte Sprachen'!D26,IF('Texte Sprachen'!A1=4,'Texte Sprachen'!E26,IF('Texte Sprachen'!A1=5,'Texte Sprachen'!F26))))) -> komplette Anlage | B3: =IF('Texte Sprachen'!A1=1,'Texte Sprachen'!B31,IF('Texte Sprachen'!A1=2,'Texte Sprachen'!C31,IF('Texte Sprachen'!A1=3,'Texte Sprachen'!D31,IF('Texte Sprachen'!A1=4,'Texte Sprachen'!E31,IF('Texte Sprachen'!A1=5,'Texte Sprachen'!F31))))) -> komplette Anlage | C3: =IF('Texte Sprachen'!A1=1,'Texte Sprachen'!B78,IF('Texte Sprachen'!A1=2,'Texte Sprachen'!C78,IF('Texte Sprachen'!A1=3,'Texte Sprachen'!D78,IF('Texte Sprachen'!A1=4,'Texte Sprachen'!E78,IF('Texte Sprachen'!A1=5,'Texte Sprachen'!F78,'Texte Sprachen'!G78))))) -> Fermator C2T | D3: =IF('Texte Sprachen'!A1=1,'Texte Sprachen'!B156,IF('Texte Sprachen'!A1=2,'Texte Sprachen'!C156,IF('Texte Sprachen'!A1=3,'Texte Sprachen'!D156,IF('Texte Sprachen'!A1=4,'Texte Sprachen'!E156,IF('Texte Sprachen'!A1=5,'Texte Sprachen'!F156,'Texte Sprachen'!G156))))) -> A3-Ventil | E3: 23 | F3: M8 | G3: 23
A4: =IF('Texte Sprachen'!A1=1,'Texte Sprachen'!B27,IF('Texte Sprachen'!A1=2,'Texte Sprachen'!C27,IF('Texte Sprachen'!A1=3,'Texte Sprachen'!D27,IF('Texte Sprachen'!A1=4,'Texte Sprachen'!E27,IF('Texte Sprachen'!A1=5,'Texte Sprachen'!F27))))) -> Schaltschrank | B4: =IF('Texte Sprachen'!A1=1,'Texte Sprachen'!B32,IF('Texte Sprachen'!A1=2,'Texte Sprachen'!C32,IF('Texte Sprachen'!A1=3,'Texte Sprachen'!D32,IF('Texte Sprachen'!A1=4,'Texte Sprachen'!E32,IF('Texte Sprachen'!A1=5,'Texte Sprachen'!F32))))) -> Schacht | C4: =IF('Texte Sprachen'!A1=1,'Texte Sprachen'!B79,IF('Texte Sprachen'!A1=2,'Texte Sprachen'!C79,IF('Texte Sprachen'!A1=3,'Texte Sprachen'!D79,IF('Texte Sprachen'!A1=4,'Texte Sprachen'!E79,IF('Texte Sprachen'!A1=5,'Texte Sprachen'!F79,'Texte Sprachen'!G79))))) -> Fermator VVVF4 | D4: =IF('Texte Sprachen'!A1=1,'Texte Sprachen'!B157,IF('Texte Sprachen'!A1=2,'Texte Sprachen'!C157,IF('Texte Sprachen'!A1=3,'Texte Sprachen'!D157,IF('Texte Sprachen'!A1=4,'Texte Sprachen'!E157,IF('Texte Sprachen'!A1=5,'Texte Sprachen'!F157,'Texte Sprachen'!G157))))) -> Absinkschutz | E4: 25 | F4: M10 | G4: 25
A5: =IF('Texte Sprachen'!A1=1,'Texte Sprachen'!B28,IF('Texte Sprachen'!A1=2,'Texte Sprachen'!C28,IF('Texte Sprachen'!A1=3,'Texte Sprachen'!D28,IF('Texte Sprachen'!A1=4,'Texte Sprachen'!E28,IF('Texte Sprachen'!A1=5,'Texte Sprachen'!F28))))) -> Schacht | B5: =IF('Texte Sprachen'!A1=1,'Texte Sprachen'!B33,IF('Texte Sprachen'!A1=2,'Texte Sprachen'!C33,IF('Texte Sprachen'!A1=3,'Texte Sprachen'!D33,IF('Texte Sprachen'!A1=4,'Texte Sprachen'!E33,IF('Texte Sprachen'!A1=5,'Texte Sprachen'!F33))))) -> Schaltschrank | C5: =IF('Texte Sprachen'!A1=1,'Texte Sprachen'!B80,IF('Texte Sprachen'!A1=2,'Texte Sprachen'!C80,IF('Texte Sprachen'!A1=3,'Texte Sprachen'!D80,IF('Texte Sprachen'!A1=4,'Texte Sprachen'!E80,IF('Texte Sprachen'!A1=5,'Texte Sprachen'!F80,'Texte Sprachen'!G80))))) -> Langer und Laumann TSG | D5: =IF('Texte Sprachen'!A1=1,'Texte Sprachen'!B158,IF('Texte Sprachen'!A1=2,'Texte Sprachen'!C158,IF('Texte Sprachen'!A1=3,'Texte Sprachen'!D158,IF('Texte Sprachen'!A1=4,'Texte Sprachen'!E158,IF('Texte Sprachen'!A1=5,'Texte Sprachen'!F158,'Texte Sprachen'!G158))))) -> Bremsüberwachung | E5: 28 | F5: M12 | G5: 28
A6: =IF('Texte Sprachen'!A1=1,'Texte Sprachen'!B29,IF('Texte Sprachen'!A1=2,'Texte Sprachen'!C29,IF('Texte Sprachen'!A1=3,'Texte Sprachen'!D29,IF('Texte Sprachen'!A1=4,'Texte Sprachen'!E29,IF('Texte Sprachen'!A1=5,'Texte Sprachen'!F29))))) -> Hängekabel | B6: =IF('Texte Sprachen'!A1=1,'Texte Sprachen'!B34,IF('Texte Sprachen'!A1=2,'Texte Sprachen'!C34,IF('Texte Sprachen'!A1=3,'Texte Sprachen'!D34,IF('Texte Sprachen'!A1=4,'Texte Sprachen'!E34,IF('Texte Sprachen'!A1=5,'Texte Sprachen'!F34))))) -> Inspektionskasten | C6: =IF('Texte Sprachen'!A1=1,'Texte Sprachen'!B81,IF('Texte Sprachen'!A1=2,'Texte Sprachen'!C81,IF('Texte Sprachen'!A1=3,'Texte Sprachen'!D81,IF('Texte Sprachen'!A1=4,'Texte Sprachen'!E81,IF('Texte Sprachen'!A1=5,'Texte Sprachen'!F81,'Texte Sprachen'!G81))))) -> LDO AC 2.0 | D6: =IF('Texte Sprachen'!A1=1,'Texte Sprachen'!B159,IF('Texte Sprachen'!A1=2,'Texte Sprachen'!C159,IF('Texte Sprachen'!A1=3,'Texte Sprachen'!D159,IF('Texte Sprachen'!A1=4,'Texte Sprachen'!E159,IF('Texte Sprachen'!A1=5,'Texte Sprachen'!F159,'Texte Sprachen'!G159))))) -> Sicherheitsbremse (siehe 5.1) | E6: 30 | F6: M14 | G6: 30
B7: =IF('Texte Sprachen'!A1=1,'Texte Sprachen'!B35,IF('Texte Sprachen'!A1=2,'Texte Sprachen'!C35,IF('Texte Sprachen'!A1=3,'Texte Sprachen'!D35,IF('Texte Sprachen'!A1=4,'Texte Sprachen'!E35,IF('Texte Sprachen'!A1=5,'Texte Sprachen'!F35))))) -> Tableaus | C7: =IF('Texte Sprachen'!A1=1,'Texte Sprachen'!B82,IF('Texte Sprachen'!A1=2,'Texte Sprachen'!C82,IF('Texte Sprachen'!A1=3,'Texte Sprachen'!D82,IF('Texte Sprachen'!A1=4,'Texte Sprachen'!E82,IF('Texte Sprachen'!A1=5,'Texte Sprachen'!F82,'Texte Sprachen'!G82))))) -> LDO AC 2.2 | E7: 32 | F7: M16 | G7: 32
C8: =IF('Texte Sprachen'!A1=1,'Texte Sprachen'!B83,IF('Texte Sprachen'!A1=2,'Texte Sprachen'!C83,IF('Texte Sprachen'!A1=3,'Texte Sprachen'!D83,IF('Texte Sprachen'!A1=4,'Texte Sprachen'!E83,IF('Texte Sprachen'!A1=5,'Texte Sprachen'!F83,'Texte Sprachen'!G83))))) -> Omron | E8: 38 | F8: M20 | G8: 38
C9: =IF('Texte Sprachen'!A1=1,'Texte Sprachen'!B84,IF('Texte Sprachen'!A1=2,'Texte Sprachen'!C84,IF('Texte Sprachen'!A1=3,'Texte Sprachen'!D84,IF('Texte Sprachen'!A1=4,'Texte Sprachen'!E84,IF('Texte Sprachen'!A1=5,'Texte Sprachen'!F84,'Texte Sprachen'!G84))))) -> Osma | E9: 40 | G9: 42
C10: =IF('Texte Sprachen'!A1=1,'Texte Sprachen'!B85,IF('Texte Sprachen'!A1=2,'Texte Sprachen'!C85,IF('Texte Sprachen'!A1=3,'Texte Sprachen'!D85,IF('Texte Sprachen'!A1=4,'Texte Sprachen'!E85,IF('Texte Sprachen'!A1=5,'Texte Sprachen'!F85,'Texte Sprachen'!G85))))) -> Prisma | E10: 42 | G10: 45
C11: =IF('Texte Sprachen'!A1=1,'Texte Sprachen'!B86,IF('Texte Sprachen'!A1=2,'Texte Sprachen'!C86,IF('Texte Sprachen'!A1=3,'Texte Sprachen'!D86,IF('Texte Sprachen'!A1=4,'Texte Sprachen'!E86,IF('Texte Sprachen'!A1=5,'Texte Sprachen'!F86,'Texte Sprachen'!G86))))) -> Prisma Micro Fox | E11: 45 | G11: 48
C12: =IF('Texte Sprachen'!A1=1,'Texte Sprachen'!B87,IF('Texte Sprachen'!A1=2,'Texte Sprachen'!C87,IF('Texte Sprachen'!A1=3,'Texte Sprachen'!D87,IF('Texte Sprachen'!A1=4,'Texte Sprachen'!E87,IF('Texte Sprachen'!A1=5,'Texte Sprachen'!F87,'Texte Sprachen'!G87))))) -> Sematic Brushless | E12: 48 | G12: 55
C13: =IF('Texte Sprachen'!A1=1,'Texte Sprachen'!B88,IF('Texte Sprachen'!A1=2,'Texte Sprachen'!C88,IF('Texte Sprachen'!A1=3,'Texte Sprachen'!D88,IF('Texte Sprachen'!A1=4,'Texte Sprachen'!E88,IF('Texte Sprachen'!A1=5,'Texte Sprachen'!F88,'Texte Sprachen'!G88))))) -> Sematic Drive | E13: 55 | G13: 60
C14: =IF('Texte Sprachen'!A1=1,'Texte Sprachen'!B89,IF('Texte Sprachen'!A1=2,'Texte Sprachen'!C89,IF('Texte Sprachen'!A1=3,'Texte Sprachen'!D89,IF('Texte Sprachen'!A1=4,'Texte Sprachen'!E89,IF('Texte Sprachen'!A1=5,'Texte Sprachen'!F89,'Texte Sprachen'!G89))))) -> Sematic Encoder | E14: 65 | G14: 65
C15: =IF('Texte Sprachen'!A1=1,'Texte Sprachen'!B90,IF('Texte Sprachen'!A1=2,'Texte Sprachen'!C90,IF('Texte Sprachen'!A1=3,'Texte Sprachen'!D90,IF('Texte Sprachen'!A1=4,'Texte Sprachen'!E90,IF('Texte Sprachen'!A1=5,'Texte Sprachen'!F90,'Texte Sprachen'!G90))))) -> Sematic F28/F29
C16: =IF('Texte Sprachen'!A1=1,'Texte Sprachen'!B91,IF('Texte Sprachen'!A1=2,'Texte Sprachen'!C91,IF('Texte Sprachen'!A1=3,'Texte Sprachen'!D91,IF('Texte Sprachen'!A1=4,'Texte Sprachen'!E91,IF('Texte Sprachen'!A1=5,'Texte Sprachen'!F91,'Texte Sprachen'!G91))))) -> Sematic SWS
C17: =IF('Texte Sprachen'!A1=1,'Texte Sprachen'!B92,IF('Texte Sprachen'!A1=2,'Texte Sprachen'!C92,IF('Texte Sprachen'!A1=3,'Texte Sprachen'!D92,IF('Texte Sprachen'!A1=4,'Texte Sprachen'!E92,IF('Texte Sprachen'!A1=5,'Texte Sprachen'!F92,'Texte Sprachen'!G92))))) -> Siemens AT12
C18: =IF('Texte Sprachen'!A1=1,'Texte Sprachen'!B93,IF('Texte Sprachen'!A1=2,'Texte Sprachen'!C93,IF('Texte Sprachen'!A1=3,'Texte Sprachen'!D93,IF('Texte Sprachen'!A1=4,'Texte Sprachen'!E93,IF('Texte Sprachen'!A1=5,'Texte Sprachen'!F93,'Texte Sprachen'!G93))))) -> Siemens AT15
C19: =IF('Texte Sprachen'!A1=1,'Texte Sprachen'!B94,IF('Texte Sprachen'!A1=2,'Texte Sprachen'!C94,IF('Texte Sprachen'!A1=3,'Texte Sprachen'!D94,IF('Texte Sprachen'!A1=4,'Texte Sprachen'!E94,IF('Texte Sprachen'!A1=5,'Texte Sprachen'!F94,'Texte Sprachen'!G94))))) -> Siemens AT18
C20: =IF('Texte Sprachen'!A1=1,'Texte Sprachen'!B95,IF('Texte Sprachen'!A1=2,'Texte Sprachen'!C95,IF('Texte Sprachen'!A1=3,'Texte Sprachen'!D95,IF('Texte Sprachen'!A1=4,'Texte Sprachen'!E95,IF('Texte Sprachen'!A1=5,'Texte Sprachen'!F95,'Texte Sprachen'!G95))))) -> Siemens AT25
C21: =IF('Texte Sprachen'!A1=1,'Texte Sprachen'!B96,IF('Texte Sprachen'!A1=2,'Texte Sprachen'!C96,IF('Texte Sprachen'!A1=3,'Texte Sprachen'!D96,IF('Texte Sprachen'!A1=4,'Texte Sprachen'!E96,IF('Texte Sprachen'!A1=5,'Texte Sprachen'!F96,'Texte Sprachen'!G96))))) -> Siemens AT40
C22: =IF('Texte Sprachen'!A1=1,'Texte Sprachen'!B97,IF('Texte Sprachen'!A1=2,'Texte Sprachen'!C97,IF('Texte Sprachen'!A1=3,'Texte Sprachen'!D97,IF('Texte Sprachen'!A1=4,'Texte Sprachen'!E97,IF('Texte Sprachen'!A1=5,'Texte Sprachen'!F97,'Texte Sprachen'!G97))))) -> Thyssen F2/F5/F9/F12
C23: =IF('Texte Sprachen'!A1=1,'Texte Sprachen'!B98,IF('Texte Sprachen'!A1=2,'Texte Sprachen'!C98,IF('Texte Sprachen'!A1=3,'Texte Sprachen'!D98,IF('Texte Sprachen'!A1=4,'Texte Sprachen'!E98,IF('Texte Sprachen'!A1=5,'Texte Sprachen'!F98,'Texte Sprachen'!G98))))) -> Wittur ECO
C24: =IF('Texte Sprachen'!A1=1,'Texte Sprachen'!B99,IF('Texte Sprachen'!A1=2,'Texte Sprachen'!C99,IF('Texte Sprachen'!A1=3,'Texte Sprachen'!D99,IF('Texte Sprachen'!A1=4,'Texte Sprachen'!E99,IF('Texte Sprachen'!A1=5,'Texte Sprachen'!F99,'Texte Sprachen'!G99))))) -> Wittur MIDI
C25: =IF('Texte Sprachen'!A1=1,'Texte Sprachen'!B100,IF('Texte Sprachen'!A1=2,'Texte Sprachen'!C100,IF('Texte Sprachen'!A1=3,'Texte Sprachen'!D100,IF('Texte Sprachen'!A1=4,'Texte Sprachen'!E100,IF('Texte Sprachen'!A1=5,'Texte Sprachen'!F100,'Texte Sprachen'!G100))))) -> Wittur RC24
C26: =IF('Texte Sprachen'!A1=1,'Texte Sprachen'!B101,IF('Texte Sprachen'!A1=2,'Texte Sprachen'!C101,IF('Texte Sprachen'!A1=3,'Texte Sprachen'!D101,IF('Texte Sprachen'!A1=4,'Texte Sprachen'!E101,IF('Texte Sprachen'!A1=5,'Texte Sprachen'!F101,'Texte Sprachen'!G101))))) -> Wittur RCF-1

Sheet Texte Sprachen
A1: 1 | B1: Deutsch | C1: Englisch | D1: Niederländisch | E1: Französisch | F1: Sonstiges2 | G1: Sonstiges3
B2: Bestell-/Anfragedaten Steuerung | C2: Controller order/enquiry data | D2: Besturing Bestel-/ Aanvraagdata | E2: Données de commande/demande pour commande | F2: 1 | G2: 1
B3: Firma: | C3: Company: | D3: Bedrijf: | E3: Entreprise : | F3: 2 | G3: 2
B4: Datum: | C4: Date: | D4: Datum: | E4: Date : | F4: 3 | G4: 3
B5: Bearbeiter: | C5: Contact person: | D5: Aanvrager | E5: Rédacteur : | F5: 4 | G5: 4
B6: Best.-Nr.: | C6: Order no.: | D6: bestel-nr. | E6: Nº comm. : | F6: 5 | G6: 5
B7: Telefon Nr.: | C7: Phone no.: | D7: Telefoon-nr. | E7: Nº téléphone : | F7: 6 | G7: 6
B8: Fabr.-Nr.: | C8: Serial no.: | D8: Serie-nr. | E8: Nº fabr. : | F8: 7 | G8: 7
B9: Email: | C9: e-mail: | D9: E-Mail | E9: E-mail : | F9: 8 | G9: 8
B10: Stichwort/Ort: | C10: Key word/city: | D10: Stad: | E10: Mot clé/loc. : | F10: 9 | G10: 9
B11: Angebot bis KW: | C11: Offer until CW: | D11: Aanbod voor KW: | E11: Offre jusque SC : | F11: 10 | G11: 10
B12: Bestellung zu KW: | C12: Order for CW: | D12: Bestelling voor week: | E12: Commande pr SC : | F12: 11 | G12: 11
B13: 1. Bestellumfang / Ausführung | C13: 1. Order scope / version | D13: 1. Ordergrootte / Uitvoering | E13: 1. Étendue de la commande / Exécution | F13: 12 | G13: 12
... B25: Ausführung in Halogenfrei: | C25: Halogen-free version: | D25: Halogeen vrije uitvoering | E25: Exécution sans halogène : | F25: 25 | G25: 25
A26: 1. Ausführung in Halogenfrei | B26: komplette Anlage | C26: Complete system | D26: Compleet systeem | E26: Installation complète | F26: 26a | G26: 26a
A27: 1. Ausführung in Halogenfrei | B27: Schaltschrank | C27: Control cabinet | D27: Schakelkast | E27: Armoire de commande | F27: 26b | G27: 26b
A28: 1. Ausführung in Halogenfrei | B28: Schacht | C28: Shaft | D28: Schacht | E28: Gaine | F28: 26c | G28: 26c
A29: 1. Ausführung in Halogenfrei | B29: Hängekabel | C29: Trav. cable | D29: Hangkabel | E29: Câble pendentif | F29: 26d | G29: 26d
B30: Ausführung in IP54: | C30: IP54 version: | D30: IP54 uitvoering: | E30: Exécution IP54 : | F30: 27 | G30: 27
A31: 1. Ausführung in IP54 | B31: komplette Anlage | C31: Complete system | D31: Compleet systeem | E31: Installation complète | F31: 28a | G31: 28a
A32: 1. Ausführung in IP54 | B32: Schacht | C32: Shaft | D32: Schacht | E32: Gaine | F32: 28b | G32: 28b
A33: 1. Ausführung in IP54 | B33: Schaltschrank | C33: Control cabinet | D33: Schakelkast | E33: Armoire de commande | F33: 28c | G33: 28c
A34: 1. Ausführung in IP54 | B34: Inspektionskasten | C34: Inspection box | D34: Inspectiekast | E34: Caisson d’inspection | F34: 28d | G34: 28d
A35: 1. Ausführung in IP54 | B35: Tableaus | C35: Panels | D35: Tablaus/panelen | E35: Tableaux | F35: 28e | G35: 28e
B36: Ergänzung zu 1.: | C36: Supplement to 1.: | D36: Supplement voor 1.: | E36: Supplément à 1. : | F36: 29 | G36: 29
B37: 2. Allgemeine Anlagedaten | C37: 2. General system data | D37: 2. Algemene Systeemgegevens | E37: 2. Données générales sur l’installation | F37: 41 | G37: 41
B38: zusätzliche Normen: | C38: Additional standards: | D38: Bijkomende normen: | E38: Normes suppl. : | F38: 42 | G38: 42
B39: EN81-1/2 | C39: EN81-1/2 | D39: EN81-1/2 | E39: EN81-1/2 | F39: 43 | G39: 43
B40: A3 | C40: A3 | D40: A3 | E40: A3 | F40: 44 | G40: 44
B41: EN81-21 | C41: EN81-21 | D41: EN81-21 | E41: EN81-21 | F41: 45 | G41: 45
B42: EN81-70 | C42: EN81-70 | D42: EN81-70 | E42: EN81-70 | F42: 46 | G42: 46
B43: EN81-72 | C43: EN81-72 | D43: EN81-72 | E43: EN81-72 | F43: 47 | G43: 47
B44: EN81-20 komplett | C44: Full EN81-20 | D44: EN81-20 compleet | E44: EN81-20 complète | F44: 48 | G44: 48
B45: EN81-20 Teilweise (Bitte genaue Ausführung vermerken) | C45: EN81-20 partially (please note exact design) | D45: EN81-20 gedeeltelijk, (AUB. Noteer het exacte design) | E45: EN81-20 partielle (veuillez noter l’exécution exacte) | F45: 49 | G45: 49
B46: Maschinenraum: | C46: Machine room: | D46: Machinekamer: | E46: Salle des machines : | F46: 56 | G46: 56
B47: oben | C47: top | D47: Boven | E47: dessus | F47: 57 | G47: 57
... B51: Steuerung im FK | C51: Controller in car | D51: Besturing in Kooi | E51: Commande cab. | F51: 61 | G51: 61
A52: französische Übersetzung fehlt | B52: Entfernung Schaltschrank - Schacht (m): | C52: distance control cabinet - shaft (m): | D52: Afstand Schakelkast - Schacht (m): | E52: distance control cabinet - shaft (m): | F52: 50a | G52: 50a
B53: Wegmessung: | C53: Shaft positioning type | D53: Afmetingen | E53: Mesure déplacem. : | F53: 62 | G53: 62
B54: LiSA AWG (Limax) | C54: LiSA AWG (Limax) | D54: LiSA AWG (Limax) | E54: Encodeur absolu LiSA (Limax) | F54: 63 | G54: 63
A55: französische Übersetzung fehlt | B55: LiSA AWG (Limax mit integrierten Sicherheitsfunktionen) | C55: LiSA AWG (Limax with integrated safety functions) | D55: LiSA AWG (Limax met interne veiligheidsfuncties) | E55: Encodeur absolu LiSA (Limax33CP) | F55: 64 | G55: 64
B56: Anzahl der Ruftaster je Etage: | C56: No. of call buttons per landing: | D56: Aantal oproepknoppen per etage | E56: Nbre boutons appel p. palier : | F56: 65 | G56: 65
B57: Einknopf | C57: One button | D57: 1 knop | E57: Un bouton | F57: 66 | G57: 66
B58: Zweiknopf | C58: Two buttons | D58: 2 knoppen | E58: Deux boutons | F58: 67 | G58: 67
B59: Türseite 1: | C59: Door side 1: | D59: Deurzijde 1: | E59: Côté porte 1 : | F59: 68 | G59: 68
B60: Türseite 2: | C60: Door side 2: | D60: Deurzijde 2: | E60: Côté porte 2 : | F60: 69 | G60: 69
B61: Türseite 3: | C61: Door side 3: | D61: Deurzijde 3: | E61: Côté porte 3 : | F61: 70 | G61: 70
B62: Schachthöhe: | C62: Shaft height: | D62: Schachthoogte | E62: Hauteur de gaine : | F62: 71 | G62: 71
B63: Förderhöhe: | C63: Travel: | D63: Hefhoogte | E63: Haut. levage : | F63: 72 | G63: 72
B64: kleinster Etagenabstand: | C64: Smallest landing distance: | D64: Kleinste etageafstand | E64: Plus petite distance paliers : | F64: 73 | G64: 73
B65: Ergänzung zu 2.: | C65: Supplement to 2.: | D65: supplement voor 2.: | E65: Supplément à 2. : | F65: 74 | G65: 74
B66: 3. Türen | C66: 3. Doors | D66: 3. Deuren | E66: 3. Portes | F66: 75 | G66: 75
B67: 3.1 Kabinentüre(n) | C67: 3.1 Car door(s) | D67: 3.1 Kooideur(en) | E67: 3.1 Porte(s) de cabine | F67: 76 | G67: 76
... B77: Türsteuergerät Typ: | C77: Door controller type: | D77: Type deuraansturing | E77: Comm. porte type : | F77: 86 | G77: 86
A78: 3.1 Türsteuergerät Typ | B78: Fermator C2T | C78: Fermator C2T | D78: Fermator C2T | E78: Fermator C2T | F78: 87a | G78: 87a
A79: 3.1 Türsteuergerät Typ | B79: Fermator VVVF4 | C79: Fermator VVVF4 | D79: Fermator VVVF4 | E79: Fermator VVVF4 | F79: 87b | G79: 87b
A80: 3.1 Türsteuergerät Typ | B80: Langer und Laumann TSG | C80: Langer und Laumann TSG | D80: Langer en Laumann TSG | E80: Langer und Laumann TSG | F80: 87c | G80: 87c
A81: 3.1 Türsteuergerät Typ | B81: LDO AC 2.0 | C81: LDO AC 2.0 | D81: LDO AC 2.0 | E81: LDO AC 2.0 | F81: 87d | G81: 87d
A82: 3.1 Türsteuergerät Typ | B82: LDO AC 2.2 | C82: LDO AC 2.2 | D82: LDO AC 2.2 | E82: LDO AC 2.2 | F82: 87e | G82: 87e
A83: 3.1 Türsteuergerät Typ | B83: Omron | C83: Omron | D83: Omron | E83: Omron | F83: 87f | G83: 87f
A84: 3.1 Türsteuergerät Typ | B84: Osma | C84: Osma | D84: Osma | E84: Osma | F84: 87g | G84: 87g
A85: 3.1 Türsteuergerät Typ | B85: Prisma | C85: Prisma | D85: Prisma | E85: Prisma | F85: 87h | G85: 87h
A86: 3.1 Türsteuergerät Typ | B86: Prisma Micro Fox | C86: Prisma Micro Fox | D86: Prisma Micro Fox | E86: Prisma Micro Fox | F86: 87i | G86: 87i
A87: 3.1 Türsteuergerät Typ | B87: Sematic Brushless | C87: Sematic Brushless | D87: Sematic Brushless | E87: Sematic Brushless | F87: 87j | G87: 87j
A88: 3.1 Türsteuergerät Typ | B88: Sematic Drive | C88: Sematic Drive | D88: Sematic Drive | E88: Sematic Drive | F88: 87k | G88: 87k
A89: 3.1 Türsteuergerät Typ | B89: Sematic Encoder | C89: Sematic Encoder | D89: Sematic Encoder | E89: Encodeur Sematic | F89: 87l | G89: 87l
... A101: 3.1 Türsteuergerät Typ | B101: Wittur RCF-1 | C101: Wittur RCF-1 | D101: Wittur RCF-1 | E101: Wittur RCF-1 | F101: 87x | G101: 87x
B102: sonstiger Typ: | C102: Other type: | D102: Andere types: | E102: Autre type : | F102: 88 | G102: 88
B103: 400V Türe Typ: | C103: 400V door type: | D103: 400V deur type: | E103: Type de porte 400 V : | F103: 89 | G103: 89
B104: Nennstrom (A): | C104: Rated current (A): | D104: nominale stroom (A) | E104: Courant nominal (A) : | F104: 90 | G104: 90
B105: Tür-Auf Endschalter | C105: Door open limit switch (External) | D105: Deur open eindschakelaar | E105: Cont. f. crse ouv. Porte | F105: 91 | G105: 91
B106: Tür-Zu Endschalter | C106: Door close limit switch (External) | D106: Deur gesloten eindschakelaar | E106: Cont. f. crse fer. porte | F106: 92 | G106: 92
B107: gleiche Ausführung wie Türseite 1 | C107: same design as door side 1 | D107: Dezelfde uitvoering als deurzijde 1 | E107: Même exécution que pour côté de porte 1 | F107: 93 | G107: 93
B108: Lichtschranke/-gitter Typ: | C108: Light barrier/Detector | D108: Sensorlijst/Rastertype | E108: Barrière/grille lumineuse type : | F108: 94 | G108: 94
B109: Spannung: | C109: Supply Voltage: | D109: Spanning | E109: Tension : | F109: 95 | G109: 95
B110: potentialfreier Kontakt | C110: potential-free contact | D110: Potentiaalvrij contact | E110: Contact à potentiel libre | F110: 96 | G110: 96
B111: npn (bevorzugen) | C111: npn (preferred) | D111: npn (voorkeur) | E111: NPN (privilégier) | F111: 97 | G111: 97
B112: pnp | C112: pnp | D112: pnp | E112: PNP | F112: 98 | G112: 98
B113: Ergänzung zu 3.1: | C113: Supplement to 3.1.: | D113: Supplement voor 3.1.: | E113: Supplément à 3.1. : | F113: 99 | G113: 99
... B115: Betätigung: | C115: Operation: | D115: Werking: | E115: Activation : | F115: 1 | G115: 1
A116: französische Übersetzung fehlt | B116: automatisch (ohne Riegelmagnet) | C116: Automatic (without Retiring Ramp) | D116: Automatisch (zonder Vergrendelmagneet) | E116: automatique | F116: 2 | G116: 2
A117: französische Übersetzung fehlt | B117: handbetätigt (ohne Riegelmagnet) | C117: Manual (without Retiring Ramp) | D117: Manueel (zonder Vergrendelmagneet) | E117: manuel | F117: 3 | G117: 3
A118: französische Übersetzung fehlt | B118: automatisch (mit Riegelmagnet) | C118: Automatic (with Retiring Ramp) | D118: Automatisch (met Vergrendelmagneet) | E118: automatique | F118: 2a | G118: 3a
A119: französische Übersetzung fehlt | B119: handbetätigt (mit Riegelmagnet) | C119: Manual (with Retiring Ramp) | D119: Manueel (met Vergrendelmagneet) | E119: manuel | F119: 2b | G119: 3b
B120: Riegelmagnet: | C120: Retiring Ramp: | D120: Vergrendelmagneet: | E120: Aimant de pêne : | F120: 4 | G120: 4
B121: 180VDC | C121: 180VDC | D121: 180VDC | E121: 180 VCC | F121: 5 | G121: 5
B122: 230VAC | C122: 230VAC | D122: 230VAC | E122: 230 VCA | F122: 6 | G122: 6
B123: 3*400VAC | C123: 3*400VAC | D123: 3*400VAC | E123: 3*400 VCA | F123: 7 | G123: 7
B124: Spannung: | C124: Voltage: | D124: Spanning | E124: Tension : | F124: 8 | G124: 8
B125: Schwellenheizung (230V): | C125: Sill heating (230V): | D125: Drempelverwarming (230V): | E125: Chauffage de seuil (230 V) : | F125: 9 | G125: 9
B126: in Etage(n): | C126: in landing(s): | D126: in etage(s): | E126: au(x) palier(s) : | F126: 10 | G126: 10
B127: Ergänzung zu 3.2: | C127: Supplement to 3.2.: | D127: Supplement voor 3.2.: | E127: Supplément à 3.2. : | F127: 11 | G127: 11
B128: 3.3 Zugangskontrolle (Bitte Konzept zur Schutzraumabsicherung beifügen) | C128: 3.3 Access control (please enclose safeguarding concept for protective spaces) | D128: 3.3 Toegangscontrole (voeg AUB het concept omtrent afscherming vrije ruimte toe) | E128: 3.3 Contrôle d’accès (veuillez joindre le concept de protection d’abri) | F128: 12 | G128: 12
B129: Schutzraum: | C129: Protective space: | D129: Vrije ruimte | E129: Abri : | F129: 13 | G129: 13
B130: Schachtgrube zu klein | C130: Pit depth to small | D130: te kleine schachtput | E130: cuvette trop petite | F130: 14 | G130: 14
B131: Schachtkopf zu klein | C131: Head room to small | D131: te kleine schachtkop | E131: partie supérieure de gaine trop petite | F131: 15 | G131: 15
... B139: andere Netzform: | C139: Other network config.: | D139: Ander netwerkconfig.: | E139: Autre config. Réseau : | F139: 35 | G139: 35
A140: französische Übersetzung fehlt | B140: Überspannungsschutz (empfohlen nach DIN VDE 0100-443 und DIN VDE 011-534) | C140: Overvoltage protection (recommended by DIN VDE 0100-443 and DIN VDE 011-534) | D140: Overspanninsbeveiliging (aanbeveling volgens DIN VDE 0100-443 en DIN VDE 011-534) | E140: Overvoltage protection (recommended by DIN VDE 0100-443 and DIN VDE 011-534) | F140: 35a | G140: 35a
B141: Lichtspannung: | C141: Light voltage: | D141: Licht spanning | E141: Tension éclairage : | F141: 36 | G141: 36
B142: bauseitige Unterverteilung / Lichtspannung über eigene Zuleitung | C142: light voltage on sperated supply to controller | D142: Lokale onderverdeling / lichtspanning over eigen aanvoer | E142: Sous-distribution locale / tension d’éclairage via ligne d’alimentation propre | F142: 37 | G142: 37
...
