Workbook

Sheet Formular
A1: =IF('Texte Sprachen'!A1=1,'Texte Sprachen'!B2,IF('Texte Sprachen'!A1=2,'Texte Sprachen'!C2,IF('Texte Sprachen'!A1=3,'Texte Sprachen'!D2,IF('Texte Sprachen'!A1=4,'Texte Sprachen'!E2,IF('Texte Sprachen'!A1=5,'Texte Sprachen'!F2,'Texte Sprachen'!G2))))) -> Bestell-/Anfragedaten Steuerung
A2: =IF('Texte Sprachen'!A1=1,'Texte Sprachen'!B3,IF('Texte Sprachen'!A1=2,'Texte Sprachen'!C3,IF('Texte Sprachen'!A1=3,'Texte Sprachen'!D3,IF('Texte Sprachen'!A1=4,'Texte Sprachen'!E3,IF('Texte Sprachen'!A1=5,'Texte Sprachen'!F3,'Texte Sprachen'!G3))))) -> Firma: | R2: =IF('Texte Sprachen'!A1=1,'Texte Sprachen'!B4,IF('Texte Sprachen'!A1=2,'Texte Sprachen'!C4,IF('Texte Sprachen'!A1=3,'Texte Sprachen'!D4,IF('Texte Sprachen'!A1=4,'Texte Sprachen'!E4,IF('Texte Sprachen'!A1=5,'Texte Sprachen'!F4,'Texte Sprachen'!G4))))) -> Datum:
A3: =IF('Texte Sprachen'!A1=1,'Texte Sprachen'!B5,IF('Texte Sprachen'!A1=2,'Texte Sprachen'!C5,IF('Texte Sprachen'!A1=3,'Texte Sprachen'!D5,IF('Texte Sprachen'!A1=4,'Texte Sprachen'!E5,IF('Texte Sprachen'!A1=5,'Texte Sprachen'!F5,'Texte Sprachen'!G5))))) -> Bearbeiter: | R3: =IF('Texte Sprachen'!A1=1,'Texte Sprachen'!B6,IF('Texte Sprachen'!A1=2,'Texte Sprachen'!C6,IF('Texte Sprachen'!A1=3,'Texte Sprachen'!D6,IF('Texte Sprachen'!A1=4,'Texte Sprachen'!E6,IF('Texte Sprachen'!A1=5,'Texte Sprachen'!F6,'Texte Sprachen'!G6))))) -> Best.-Nr.:
A4: =IF('Texte Sprachen'!A1=1,'Texte Sprachen'!B7,IF('Texte Sprachen'!A1=2,'Texte Sprachen'!C7,IF('Texte Sprachen'!A1=3,'Texte Sprachen'!D7,IF('Texte Sprachen'!A1=4,'Texte Sprachen'!E7,IF('Texte Sprachen'!A1=5,'Texte Sprachen'!F7,'Texte Sprachen'!G7))))) -> Telefon Nr.: | R4: =IF('Texte Sprachen'!A1=1,'Texte Sprachen'!B8,IF('Texte Sprachen'!A1=2,'Texte Sprachen'!C8,IF('Texte Sprachen'!A1=3,'Texte Sprachen'!D8,IF('Texte Sprachen'!A1=4,'Texte Sprachen'!E8,IF('Texte Sprachen'!A1=5,'Texte Sprachen'!F8,'Texte Sprachen'!G8))))) -> Fabr.-Nr.:
A5: =IF('Texte Sprachen'!A1=1,'Texte Sprachen'!B9,IF('Texte Sprachen'!A1=2,'Texte Sprachen'!C9,IF('Texte Sprachen'!A1=3,'Texte Sprachen'!D9,IF('Texte Sprachen'!A1=4,'Texte Sprachen'!E9,IF('Texte Sprachen'!A1=5,'Texte Sprachen'!F9,'Texte Sprachen'!G9))))) -> Email: | R5: =IF('Texte Sprachen'!A1=1,'Texte Sprachen'!B10,IF('Texte Sprachen'!A1=2,'Texte Sprachen'!C10,IF('Texte Sprachen'!A1=3,'Texte Sprachen'!D10,IF('Texte Sprachen'!A1=4,'Texte Sprachen'!E10,IF('Texte Sprachen'!A1=5,'Texte Sprachen'!F10,'Texte Sprachen'!G10))))) -> Stichwort/Ort:
B6: =IF('Texte Sprachen'!A1=1,'Texte Sprachen'!B11,IF('Texte Sprachen'!A1=2,'Texte Sprachen'!C11,IF('Texte Sprachen'!A1=3,'Texte Sprachen'!D11,IF('Texte Sprachen'!A1=4,'Texte Sprachen'!E11,IF('Texte Sprachen'!A1=5,'Texte Sprachen'!F11,'Texte Sprachen'!G11))))) -> Angebot bis KW: | S6: =IF('Texte Sprachen'!A1=1,'Texte Sprachen'!B12,IF('Texte Sprachen'!A1=2,'Texte Sprachen'!C12,IF('Texte Sprachen'!A1=3,'Texte Sprachen'!D12,IF('Texte Sprachen'!A1=4,'Texte Sprachen'!E12,IF('Texte Sprachen'!A1=5,'Texte Sprachen'!F12,'Texte Sprachen'!G12))))) -> Bestellung zu KW:
A7: =IF('Texte Sprachen'!A1=1,'Texte Sprachen'!B13,IF('Texte Sprachen'!A1=2,'Texte Sprachen'!C13,IF('Texte Sprachen'!A1=3,'Texte Sprachen'!D13,IF('Texte Sprachen'!A1=4,'Texte Sprachen'!E13,IF('Texte Sprachen'!A1=5,'Texte Sprachen'!F13,'Texte Sprachen'!G13))))) -> 1. Bestellumfang / Ausführung
B8: =IF('Texte Sprachen'!A1=1,'Texte Sprachen'!B14,IF('Texte Sprachen'!A1=2,'Texte Sprachen'!C14,IF('Texte Sprachen'!A1=3,'Texte Sprachen'!D14,IF('Texte Sprachen'!A1=4,'Texte Sprachen'!E14,IF('Texte Sprachen'!A1=5,'Texte Sprachen'!F14,'Texte Sprachen'!G14))))) -> LiSA20 | J8: =IF('Texte Sprachen'!A1=1,'Texte Sprachen'!B15,IF('Texte Sprachen'!A1=2,'Texte Sprachen'!C15,IF('Texte Sprachen'!A1=3,'Texte Sprachen'!D15,IF('Texte Sprachen'!A1=4,'Texte Sprachen'!E15,IF('Texte Sprachen'!A1=5,'Texte Sprachen'!F15,'Texte Sprachen'!G15))))) -> LiSA21
B9: =IF('Texte Sprachen'!A1=1,'Texte Sprachen'!B16,IF('Texte Sprachen'!A1=2,'Texte Sprachen'!C16,IF('Texte Sprachen'!A1=3,'Texte Sprachen'!D16,IF('Texte Sprachen'!A1=4,'Texte Sprachen'!E16,IF('Texte Sprachen'!A1=5,'Texte Sprachen'!F16,'Texte Sprachen'!G16))))) -> Gruppensteuerung Anzahl Fahrkörbe: | Q9: =IF('Texte Sprachen'!A1=1,'Texte Sprachen'!B17,IF('Texte Sprachen'!A1=2,'Texte Sprachen'!C17,IF('Texte Sprachen'!A1=3,'Texte Sprachen'!D17,IF('Texte Sprachen'!A1=4,'Texte Sprachen'!E17,IF('Texte Sprachen'!A1=5,'Texte Sprachen'!F17,'Texte Sprachen'!G17))))) -> (2,3,4,…,8) | X9: =IF('Texte Sprachen'!A1=1,'Texte Sprachen'!B18,IF('Texte Sprachen'!A1=2,'Texte Sprachen'!C18,IF('Texte Sprachen'!A1=3,'Texte Sprachen'!D18,IF('Texte Sprachen'!A1=4,'Texte Sprachen'!E18,IF('Texte Sprachen'!A1=5,'Texte Sprachen'!F18,'Texte Sprachen'!G18))))) -> Anzahl Etagenruflinien:
B10: =IF('Texte Sprachen'!A1=1,'Texte Sprachen'!B19,IF('Texte Sprachen'!A1=2,'Texte Sprachen'!C19,IF('Texte Sprachen'!A1=3,'Texte Sprachen'!D19,IF('Texte Sprachen'!A1=4,'Texte Sprachen'!E19,IF('Texte Sprachen'!A1=5,'Texte Sprachen'!F19,'Texte Sprachen'!G19))))) -> mit LiSA-Tableaus | J10: =IF('Texte Sprachen'!A1=1,'Texte Sprachen'!B20,IF('Texte Sprachen'!A1=2,'Texte Sprachen'!C20,IF('Texte Sprachen'!A1=3,'Texte Sprachen'!D20,IF('Texte Sprachen'!A1=4,'Texte Sprachen'!E20,IF('Texte Sprachen'!A1=5,'Texte Sprachen'!F20,'Texte Sprachen'!G20))))) -> mit Fremdtableaus (bitte Skizzen/Daten beilegen; 24V/npn bevorzugen)
B11: =IF('Texte Sprachen'!A1=1,'Texte Sprachen'!B21,IF('Texte Sprachen'!A1=2,'Texte Sprachen'!C21,IF('Texte Sprachen'!A1=3,'Texte Sprachen'!D21,IF('Texte Sprachen'!A1=4,'Texte Sprachen'!E21,IF('Texte Sprachen'!A1=5,'Texte Sprachen'!F21,'Texte Sprachen'!G21))))) -> Maschinenrauminstallation (siehe 8.1) | U11: =IF('Texte Sprachen'!A1=1,'Texte Sprachen'!B22,IF('Texte Sprachen'!A1=2,'Texte Sprachen'!C22,IF('Texte Sprachen'!A1=3,'Texte Sprachen'!D22,IF('Texte Sprachen'!A1=4,'Texte Sprachen'!E22,IF('Texte Sprachen'!A1=5,'Texte Sprachen'!F22,'Texte Sprachen'!G22))))) -> Kabineninstallation (siehe 8.2)
B12: =IF('Texte Sprachen'!A1=1,'Texte Sprachen'!B23,IF('Texte Sprachen'!A1=2,'Texte Sprachen'!C23,IF('Texte Sprachen'!A1=3,'Texte Sprachen'!D23,IF('Texte Sprachen'!A1=4,'Texte Sprachen'!E23,IF('Texte Sprachen'!A1=5,'Texte Sprachen'!F23,'Texte Sprachen'!G23))))) -> Schachtinstallation (siehe 8.3) | U12: =IF('Texte Sprachen'!A1=1,'Texte Sprachen'!B24,IF('Texte Sprachen'!A1=2,'Texte Sprachen'!C24,IF('Texte Sprachen'!A1=3,'Texte Sprachen'!D24,IF('Texte Sprachen'!A1=4,'Texte Sprachen'!E24,IF('Texte Sprachen'!A1=5,'Texte Sprachen'!F24,'Texte Sprachen'!G24))))) -> Schachtbeleuchtung (siehe 8.4)
B13: =IF('Texte Sprachen'!A1=1,'Texte Sprachen'!B25,IF('Texte Sprachen'!A1=2,'Texte Sprachen'!C25,IF('Texte Sprachen'!A1=3,'Texte Sprachen'!D25,IF('Texte Sprachen'!A1=4,'Texte Sprachen'!E25,IF('Texte Sprachen'!A1=5,'Texte Sprachen'!F25,'Texte Sprachen'!G25))))) -> Ausführung in Halogenfrei: | U13: =IF('Texte Sprachen'!A1=1,'Texte Sprachen'!B30,IF('Texte Sprachen'!A1=2,'Texte Sprachen'!C30,IF('Texte Sprachen'!A1=3,'Texte Sprachen'!D30,IF('Texte Sprachen'!A1=4,'Texte Sprachen'!E30,IF('Texte Sprachen'!A1=5,'Texte Sprachen'!F30,'Texte Sprachen'!G30))))) -> Ausführung in IP54:
A14: =IF('Texte Sprachen'!A1=1,'Texte Sprachen'!B36,IF('Texte Sprachen'!A1=2,'Texte Sprachen'!C36,IF('Texte Sprachen'!A1=3,'Texte Sprachen'!D36,IF('Texte Sprachen'!A1=4,'Texte Sprachen'!E36,IF('Texte Sprachen'!A1=5,'Texte Sprachen'!F36,'Texte Sprachen'!G36))))) -> Ergänzung zu 1.:
A15: =IF('Texte Sprachen'!A1=1,'Texte Sprachen'!B37,IF('Texte Sprachen'!A1=2,'Texte Sprachen'!C37,IF('Texte Sprachen'!A1=3,'Texte Sprachen'!D37,IF('Texte Sprachen'!A1=4,'Texte Sprachen'!E37,IF('Texte Sprachen'!A1=5,'Texte Sprachen'!F37,'Texte Sprachen'!G37))))) -> 2. Allgemeine Anlagedaten
A16: =IF('Texte Sprachen'!A1=1,'Texte Sprachen'!B38,IF('Texte Sprachen'!A1=2,'Texte Sprachen'!C38,IF('Texte Sprachen'!A1=3,'Texte Sprachen'!D38,IF('Texte Sprachen'!A1=4,'Texte Sprachen'!E38,IF('Texte Sprachen'!A1=5,'Texte Sprachen'!F38,'Texte Sprachen'!G38))))) -> zusätzliche Normen: | I16: =IF('Texte Sprachen'!A1=1,'Texte Sprachen'!B39,IF('Texte Sprachen'!A1=2,'Texte Sprachen'!C39,IF('Texte Sprachen'!A1=3,'Texte Sprachen'!D39,IF('Texte Sprachen'!A1=4,'Texte Sprachen'!E39,IF('Texte Sprachen'!A1=5,'Texte Sprachen'!F39,'Texte Sprachen'!G39))))) -> EN81-1/2 | N16: =IF('Texte Sprachen'!A1=1,'Texte Sprachen'!B40,IF('Texte Sprachen'!A1=2,'Texte Sprachen'!C40,IF('Texte Sprachen'!A1=3,'Texte Sprachen'!D40,IF('Texte Sprachen'!A1=4,'Texte Sprachen'!E40,IF('Texte Sprachen'!A1=5,'Texte Sprachen'!F40,'Texte Sprachen'!G40))))) -> A3 | Q16: =IF('Texte Sprachen'!A1=1,'Texte Sprachen'!B41,IF('Texte Sprachen'!A1=2,'Texte Sprachen'!C41,IF('Texte Sprachen'!A1=3,'Texte Sprachen'!D41,IF('Texte Sprachen'!A1=4,'Texte Sprachen'!E41,IF('Texte Sprachen'!A1=5,'Texte Sprachen'!F41,'Texte Sprachen'!G41))))) -> EN81-21 | U16: =IF('Texte Sprachen'!A1=1,'Texte Sprachen'!B42,IF('Texte Sprachen'!A1=2,'Texte Sprachen'!C42,IF('Texte Sprachen'!A1=3,'Texte Sprachen'!D42,IF('Texte Sprachen'!A1=4,'Texte Sprachen'!E42,IF('Texte Sprachen'!A1=5,'Texte Sprachen'!F42,'Texte Sprachen'!G42))))) -> EN81-70 | Y16: =IF('Texte Sprachen'!A1=1,'Texte Sprachen'!B43,IF('Texte Sprachen'!A1=2,'Texte Sprachen'!C43,IF('Texte Sprachen'!A1=3,'Texte Sprachen'!D43,IF('Texte Sprachen'!A1=4,'Texte Sprachen'!E43,IF('Texte Sprachen'!A1=5,'Texte Sprachen'!F43,'Texte Sprachen'!G43))))) -> EN81-72
I17: =IF('Texte Sprachen'!A1=1,'Texte Sprachen'!B44,IF('Texte Sprachen'!A1=2,'Texte Sprachen'!C44,IF('Texte Sprachen'!A1=3,'Texte Sprachen'!D44,IF('Texte Sprachen'!A1=4,'Texte Sprachen'!E44,IF('Texte Sprachen'!A1=5,'Texte Sprachen'!F44,'Texte Sprachen'!G44))))) -> EN81-20 komplett | Q17: =IF('Texte Sprachen'!A1=1,'Texte Sprachen'!B45,IF('Texte Sprachen'!A1=2,'Texte Sprachen'!C45,IF('Texte Sprachen'!A1=3,'Texte Sprachen'!D45,IF('Texte Sprachen'!A1=4,'Texte Sprachen'!E45,IF('Texte Sprachen'!A1=5,'Texte Sprachen'!F45,'Texte Sprachen'!G45))))) -> EN81-20 Teilweise (Bitte genaue Ausführung vermerken)
A18: =IF('Texte Sprachen'!A1=1,'Texte Sprachen'!B46,IF('Texte Sprachen'!A1=2,'Texte Sprachen'!C46,IF('Texte Sprachen'!A1=3,'Texte Sprachen'!D46,IF('Texte Sprachen'!A1=4,'Texte Sprachen'!E46,IF('Texte Sprachen'!A1=5,'Texte Sprachen'!F46,'Texte Sprachen'!G46))))) -> Maschinenraum: | I18: =IF('Texte Sprachen'!A1=1,'Texte Sprachen'!B47,IF('Texte Sprachen'!A1=2,'Texte Sprachen'!C47,IF('Texte Sprachen'!A1=3,'Texte Sprachen'!D47,IF('Texte Sprachen'!A1=4,'Texte Sprachen'!E47,IF('Texte Sprachen'!A1=5,'Texte Sprachen'!F47,'Texte Sprachen'!G47))))) -> oben | M18: =IF('Texte Sprachen'!A1=1,'Texte Sprachen'!B48,IF('Texte Sprachen'!A1=2,'Texte Sprachen'!C48,IF('Texte Sprachen'!A1=3,'Texte Sprachen'!D48,IF('Texte Sprachen'!A1=4,'Texte Sprachen'!E48,IF('Texte Sprachen'!A1=5,'Texte Sprachen'!F48,'Texte Sprachen'!G48))))) -> unten | Q18: =IF('Texte Sprachen'!A1=1,'Texte Sprachen'!B49,IF('Texte Sprachen'!A1=2,'Texte Sprachen'!C49,IF('Texte Sprachen'!A1=3,'Texte Sprachen'!D49,IF('Texte Sprachen'!A1=4,'Texte Sprachen'!E49,IF('Texte Sprachen'!A1=5,'Texte Sprachen'!F49,'Texte Sprachen'!G49))))) -> ohne | U18: =IF('Texte Sprachen'!A1=1,'Texte Sprachen'!B50,IF('Texte Sprachen'!A1=2,'Texte Sprachen'!C50,IF('Texte Sprachen'!A1=3,'Texte Sprachen'!D50,IF('Texte Sprachen'!A1=4,'Texte Sprachen'!E50,IF('Texte Sprachen'!A1=5,'Texte Sprachen'!F50,'Texte Sprachen'!G50))))) -> Steuerung in Etage: | AE18: =IF('Texte Sprachen'!A1=1,'Texte Sprachen'!B51,IF('Texte Sprachen'!A1=2,'Texte Sprachen'!C51,IF('Texte Sprachen'!A1=3,'Texte Sprachen'!D51,IF('Texte Sprachen'!A1=4,'Texte Sprachen'!E51,IF('Texte Sprachen'!A1=5,'Texte Sprachen'!F51,'Texte Sprachen'!G51))))) -> Steuerung im FK
A19: =IF('Texte Sprachen'!A1=1,'Texte Sprachen'!B52,IF('Texte Sprachen'!A1=2,'Texte Sprachen'!C52,IF('Texte Sprachen'!A1=3,'Texte Sprachen'!D52,IF('Texte Sprachen'!A1=4,'Texte Sprachen'!E52,IF('Texte Sprachen'!A1=5,'Texte Sprachen'!F52,'Texte Sprachen'!G52))))) -> Entfernung Schaltschrank - Schacht (m):
A20: =IF('Texte Sprachen'!A1=1,'Texte Sprachen'!B53,IF('Texte Sprachen'!A1=2,'Texte Sprachen'!C53,IF('Texte Sprachen'!A1=3,'Texte Sprachen'!D53,IF('Texte Sprachen'!A1=4,'Texte Sprachen'!E53,IF('Texte Sprachen'!A1=5,'Texte Sprachen'!F53,'Texte Sprachen'!G53))))) -> Wegmessung: | I20: =IF('Texte Sprachen'!A1=1,'Texte Sprachen'!B54,IF('Texte Sprachen'!A1=2,'Texte Sprachen'!C54,IF('Texte Sprachen'!A1=3,'Texte Sprachen'!D54,IF('Texte Sprachen'!A1=4,'Texte Sprachen'!E54,IF('Texte Sprachen'!A1=5,'Texte Sprachen'!F54,'Texte Sprachen'!G54))))) -> LiSA AWG (Limax) | Q20: =IF('Texte Sprachen'!A1=1,'Texte Sprachen'!B55,IF('Texte Sprachen'!A1=2,'Texte Sprachen'!C55,IF('Texte Sprachen'!A1=3,'Texte Sprachen'!D55,IF('Texte Sprachen'!A1=4,'Texte Sprachen'!E55,IF('Texte Sprachen'!A1=5,'Texte Sprachen'!F55,'Texte Sprachen'!G55))))) -> LiSA AWG (Limax mit integrierten Sicherheitsfunktionen)
A21: =IF('Texte Sprachen'!A1=1,'Texte Sprachen'!B56,IF('Texte Sprachen'!A1=2,'Texte Sprachen'!C56,IF('Texte Sprachen'!A1=3,'Texte Sprachen'!D56,IF('Texte Sprachen'!A1=4,'Texte Sprachen'!E56,IF('Texte Sprachen'!A1=5,'Texte Sprachen'!F56,'Texte Sprachen'!G56))))) -> Anzahl der Ruftaster je Etage: | M21: =IF('Texte Sprachen'!A1=1,'Texte Sprachen'!B57,IF('Texte Sprachen'!A1=2,'Texte Sprachen'!C57,IF('Texte Sprachen'!A1=3,'Texte Sprachen'!D57,IF('Texte Sprachen'!A1=4,'Texte Sprachen'!E57,IF('Texte Sprachen'!A1=5,'Texte Sprachen'!F57,'Texte Sprachen'!G57))))) -> Einknopf | U21: =IF('Texte Sprachen'!A1=1,'Texte Sprachen'!B58,IF('Texte Sprachen'!A1=2,'Texte Sprachen'!C58,IF('Texte Sprachen'!A1=3,'Texte Sprachen'!D58,IF('Texte Sprachen'!A1=4,'Texte Sprachen'!E58,IF('Texte Sprachen'!A1=5,'Texte Sprachen'!F58,'Texte Sprachen'!G58))))) -> Zweiknopf
G22: 1 | H22: 2 | I22: 3 | J22: 4 | K22: 5 | L22: 6 | M22: 7 | N22: 8 | O22: 9 | P22: 10 | Q22: 11 | R22: 12 | S22: 13 | T22: 14 | U22: 15 | V22: 16 | W22: 17 | X22: 18 | Y22: 19 | Z22: 20 | AA22: 21 | AB22: 22 | AC22: 23 | AD22: 24 | AE22: 25 | AF22: 26 | AG22: 27 | AH22: 28 | AI22: 29 | AJ22: 30
A23: =IF('Texte Sprachen'!A1=1,'Texte Sprachen'!B59,IF('Texte Sprachen'!A1=2,'Texte Sprachen'!C59,IF('Texte Sprachen'!A1=3,'Texte Sprachen'!D59,IF('Texte Sprachen'!A1=4,'Texte Sprachen'!E59,IF('Texte Sprachen'!A1=5,'Texte Sprachen'!F59,'Texte Sprachen'!G59))))) -> Türseite 1:
A24: =IF('Texte Sprachen'!A1=1,'Texte Sprachen'!B60,IF('Texte Sprachen'!A1=2,'Texte Sprachen'!C60,IF('Texte Sprachen'!A1=3,'Texte Sprachen'!D60,IF('Texte Sprachen'!A1=4,'Texte Sprachen'!E60,IF('Texte Sprachen'!A1=5,'Texte Sprachen'!F60,'Texte Sprachen'!G60))))) -> Türseite 2:
A25: =IF('Texte Sprachen'!A1=1,'Texte Sprachen'!B61,IF('Texte Sprachen'!A1=2,'Texte Sprachen'!C61,IF('Texte Sprachen'!A1=3,'Texte Sprachen'!D61,IF('Texte Sprachen'!A1=4,'Texte Sprachen'!E61,IF('Texte Sprachen'!A1=5,'Texte Sprachen'!F61,'Texte Sprachen'!G61))))) -> Türseite 3:
A26: =IF('Texte Sprachen'!A1=1,'Texte Sprachen'!B62,IF('Texte Sprachen'!A1=2,'Texte Sprachen'!C62,IF('Texte Sprachen'!A1=3,'Texte Sprachen'!D62,IF('Texte Sprachen'!A1=4,'Texte Sprachen'!E62,IF('Texte Sprachen'!A1=5,'Texte Sprachen'!F62,'Texte Sprachen'!G62))))) -> Schachthöhe: | M26: =IF('Texte Sprachen'!A1=1,'Texte Sprachen'!B63,IF('Texte Sprachen'!A1=2,'Texte Sprachen'!C63,IF('Texte Sprachen'!A1=3,'Texte Sprachen'!D63,IF('Texte Sprachen'!A1=4,'Texte Sprachen'!E63,IF('Texte Sprachen'!A1=5,'Texte Sprachen'!F63,'Texte Sprachen'!G63))))) -> Förderhöhe: | X26: =IF('Texte Sprachen'!A1=1,'Texte Sprachen'!B64,IF('Texte Sprachen'!A1=2,'Texte Sprachen'!C64,IF('Texte Sprachen'!A1=3,'Texte Sprachen'!D64,IF('Texte Sprachen'!A1=4,'Texte Sprachen'!E64,IF('Texte Sprachen'!A1=5,'Texte Sprachen'!F64,'Texte Sprachen'!G64))))) -> kleinster Etagenabstand:
A27: =IF('Texte Sprachen'!A1=1,'Texte Sprachen'!B65,IF('Texte Sprachen'!A1=2,'Texte Sprachen'!C65,IF('Texte Sprachen'!A1=3,'Texte Sprachen'!D65,IF('Texte Sprachen'!A1=4,'Texte Sprachen'!E65,IF('Texte Sprachen'!A1=5,'Texte Sprachen'!F65,'Texte Sprachen'!G65))))) -> Ergänzung zu 2.:
A28: =IF('Texte Sprachen'!A1=1,'Texte Sprachen'!B66,IF('Texte Sprachen'!A1=2,'Texte Sprachen'!C66,IF('Texte Sprachen'!A1=3,'Texte Sprachen'!D66,IF('Texte Sprachen'!A1=4,'Texte Sprachen'!E66,IF('Texte Sprachen'!A1=5,'Texte Sprachen'!F66,'Texte Sprachen'!G66))))) -> 3. Türen
A29: =IF('Texte Sprachen'!A1=1,'Texte Sprachen'!B67,IF('Texte Sprachen'!A1=2,'Texte Sprachen'!C67,IF('Texte Sprachen'!A1=3,'Texte Sprachen'!D67,IF('Texte Sprachen'!A1=4,'Texte Sprachen'!E67,IF('Texte Sprachen'!A1=5,'Texte Sprachen'!F67,'Texte Sprachen'!G67))))) -> 3.1 Kabinentüre(n)
A30: =IF('Texte Sprachen'!A1=1,'Texte Sprachen'!B68,IF('Texte Sprachen'!A1=2,'Texte Sprachen'!C68,IF('Texte Sprachen'!A1=3,'Texte Sprachen'!D68,IF('Texte Sprachen'!A1=4,'Texte Sprachen'!E68,IF('Texte Sprachen'!A1=5,'Texte Sprachen'!F68,'Texte Sprachen'!G68))))) -> Sonderfall: | G30: =IF('Texte Sprachen'!A1=1,'Texte Sprachen'!B69,IF('Texte Sprachen'!A1=2,'Texte Sprachen'!C69,IF('Texte Sprachen'!A1=3,'Texte Sprachen'!D69,IF('Texte Sprachen'!A1=4,'Texte Sprachen'!E69,IF('Texte Sprachen'!A1=5,'Texte Sprachen'!F69,'Texte Sprachen'!G69))))) -> handbetätigt | O30: =IF('Texte Sprachen'!A1=1,'Texte Sprachen'!B70,IF('Texte Sprachen'!A1=2,'Texte Sprachen'!C70,IF('Texte Sprachen'!A1=3,'Texte Sprachen'!D70,IF('Texte Sprachen'!A1=4,'Texte Sprachen'!E70,IF('Texte Sprachen'!A1=5,'Texte Sprachen'!F70,'Texte Sprachen'!G70))))) -> ohne -> Sicherheitslichtvorhang Typ:
A31: =IF('Texte Sprachen'!A1=1,'Texte Sprachen'!B71,IF('Texte Sprachen'!A1=2,'Texte Sprachen'!C71,IF('Texte Sprachen'!A1=3,'Texte Sprachen'!D71,IF('Texte Sprachen'!A1=4,'Texte Sprachen'!E71,IF('Texte Sprachen'!A1=5,'Texte Sprachen'!F71,'Texte Sprachen'!G71))))) -> Zusätze: | G31: =IF('Texte Sprachen'!A1=1,'Texte Sprachen'!B72,IF('Texte Sprachen'!A1=2,'Texte Sprachen'!C72,IF('Texte Sprachen'!A1=3,'Texte Sprachen'!D72,IF('Texte Sprachen'!A1=4,'Texte Sprachen'!E72,IF('Texte Sprachen'!A1=5,'Texte Sprachen'!F72,'Texte Sprachen'!G72))))) -> Drängelfunktion | O31: =IF('Texte Sprachen'!A1=1,'Texte Sprachen'!B73,IF('Texte Sprachen'!A1=2,'Texte Sprachen'!C73,IF('Texte Sprachen'!A1=3,'Texte Sprachen'!D73,IF('Texte Sprachen'!A1=4,'Texte Sprachen'!E73,IF('Texte Sprachen'!A1=5,'Texte Sprachen'!F73,'Texte Sprachen'!G73))))) -> selektive Türansteuerung
A32: =IF('Texte Sprachen'!A1=1,'Texte Sprachen'!B74,IF('Texte Sprachen'!A1=2,'Texte Sprachen'!C74,IF('Texte Sprachen'!A1=3,'Texte Sprachen'!D74,IF('Texte Sprachen'!A1=4,'Texte Sprachen'!E74,IF('Texte Sprachen'!A1=5,'Texte Sprachen'!F74,'Texte Sprachen'!G74))))) -> Türseite 1: | G32: =IF('Texte Sprachen'!A1=1,'Texte Sprachen'!B77,IF('Texte Sprachen'!A1=2,'Texte Sprachen'!C77,IF('Texte Sprachen'!A1=3,'Texte Sprachen'!D77,IF('Texte Sprachen'!A1=4,'Texte Sprachen'!E77,IF('Texte Sprachen'!A1=5,'Texte Sprachen'!F77,'Texte Sprachen'!G77))))) -> Türsteuergerät Typ: | X32: =IF('Texte Sprachen'!A1=1,'Texte Sprachen'!B102,IF('Texte Sprachen'!A1=2,'Texte Sprachen'!C102,IF('Texte Sprachen'!A1=3,'Texte Sprachen'!D102,IF('Texte Sprachen'!A1=4,'Texte Sprachen'!E102,IF('Texte Sprachen'!A1=5,'Texte Sprachen'!F102,'Texte Sprachen'!G102))))) -> sonstiger Typ:
G33: =IF('Texte Sprachen'!A1=1,'Texte Sprachen'!B103,IF('Texte Sprachen'!A1=2,'Texte Sprachen'!C103,IF('Texte Sprachen'!A1=3,'Texte Sprachen'!D103,IF('Texte Sprachen'!A1=4,'Texte Sprachen'!E103,IF('Texte Sprachen'!A1=5,'Texte Sprachen'!F103,'Texte Sprachen'!G103))))) -> 400V Türe Typ: | X33: =IF('Texte Sprachen'!A1=1,'Texte Sprachen'!B105,IF('Texte Sprachen'!A1=2,'Texte Sprachen'!C105,IF('Texte Sprachen'!A1=3,'Texte Sprachen'!D105,IF('Texte Sprachen'!A1=4,'Texte Sprachen'!E105,IF('Texte Sprachen'!A1=5,'Texte Sprachen'!F105,'Texte Sprachen'!G105))))) -> Tür-Auf Endschalter
G34: =IF('Texte Sprachen'!A1=1,'Texte Sprachen'!B104,IF('Texte Sprachen'!A1=2,'Texte Sprachen'!C104,IF('Texte Sprachen'!A1=3,'Texte Sprachen'!D104,IF('Texte Sprachen'!A1=4,'Texte Sprachen'!E104,IF('Texte Sprachen'!A1=5,'Texte Sprachen'!F104,'Texte Sprachen'!G104))))) -> Nennstrom (A): | X34: =IF('Texte Sprachen'!A1=1,'Texte Sprachen'!B106,IF('Texte Sprachen'!A1=2,'Texte Sprachen'!C106,IF('Texte Sprachen'!A1=3,'Texte Sprachen'!D106,IF('Texte Sprachen'!A1=4,'Texte Sprachen'!E106,IF('Texte Sprachen'!A1=5,'Texte Sprachen'!F106,'Texte Sprachen'!G106))))) -> Tür-Zu Endschalter
A35: =IF('Texte Sprachen'!A1=1,'Texte Sprachen'!B75,IF('Texte Sprachen'!A1=2,'Texte Sprachen'!C75,IF('Texte Sprachen'!A1=3,'Texte Sprachen'!D75,IF('Texte Sprachen'!A1=4,'Texte Sprachen'!E75,IF('Texte Sprachen'!A1=5,'Texte Sprachen'!F75,'Texte Sprachen'!G75))))) -> Türseite 2: | G35: =IF('Texte Sprachen'!A1=1,'Texte Sprachen'!B107,IF('Texte Sprachen'!A1=2,'Texte Sprachen'!C107,IF('Texte Sprachen'!A1=3,'Texte Sprachen'!D107,IF('Texte Sprachen'!A1=4,'Texte Sprachen'!E107,IF('Texte Sprachen'!A1=5,'Texte Sprachen'!F107,'Texte Sprachen'!G107))))) -> gleiche Ausführung wie Türseite 1
G36: =IF('Texte Sprachen'!A1=1,'Texte Sprachen'!B77,IF('Texte Sprachen'!A1=2,'Texte Sprachen'!C77,IF('Texte Sprachen'!A1=3,'Texte Sprachen'!D77,IF('Texte Sprachen'!A1=4,'Texte Sprachen'!E77,IF('Texte Sprachen'!A1=5,'Texte Sprachen'!F77,'Texte Sprachen'!G77))))) -> Türsteuergerät Typ: | X36: =IF('Texte Sprachen'!A1=1,'Texte Sprachen'!B102,IF('Texte Sprachen'!A1=2,'Texte Sprachen'!C102,IF('Texte Sprachen'!A1=3,'Texte Sprachen'!D102,IF('Texte Sprachen'!A1=4,'Texte Sprachen'!E102,IF('Texte Sprachen'!A1=5,'Texte Sprachen'!F102,'Texte Sprachen'!G102))))) -> sonstiger Typ:
G37: =IF('Texte Sprachen'!A1=1,'Texte Sprachen'!B103,IF('Texte Sprachen'!A1=2,'Texte Sprachen'!C103,IF('Texte Sprachen'!A1=3,'Texte Sprachen'!D103,IF('Texte Sprachen'!A1=4,'Texte Sprachen'!E103,IF('Texte Sprachen'!A1=5,'Texte Sprachen'!F103,'Texte Sprachen'!G103))))) -> 400V Türe Typ: | X37: =IF('Texte Sprachen'!A1=1,'Texte Sprachen'!B105,IF('Texte Sprachen'!A1=2,'Texte Sprachen'!C105,IF('Texte Sprachen'!A1=3,'Texte Sprachen'!D105,IF('Texte Sprachen'!A1=4,'Texte Sprachen'!E105,IF('Texte Sprachen'!A1=5,'Texte Sprachen'!F105,'Texte Sprachen'!G105))))) -> Tür-Auf Endschalter
G38: =IF('Texte Sprachen'!A1=1,'Texte Sprachen'!B104,IF('Texte Sprachen'!A1=2,'Texte Sprachen'!C104,IF('Texte Sprachen'!A1=3,'Texte Sprachen'!D104,IF('Texte Sprachen'!A1=4,'Texte Sprachen'!E104,IF('Texte Sprachen'!A1=5,'Texte Sprachen'!F104,'Texte Sprachen'!G104))))) -> Nennstrom (A): | X38: =IF('Texte Sprachen'!A1=1,'Texte Sprachen'!B106,IF('Texte Sprachen'!A1=2,'Texte Sprachen'!C106,IF('Texte Sprachen'!A1=3,'Texte Sprachen'!D106,IF('Texte Sprachen'!A1=4,'Texte Sprachen'!E106,IF('Texte Sprachen'!A1=5,'Texte Sprachen'!F106,'Texte Sprachen'!G106))))) -> Tür-Zu Endschalter
A39: =IF('Texte Sprachen'!A1=1,'Texte Sprachen'!B76,IF('Texte Sprachen'!A1=2,'Texte Sprachen'!C76,IF('Texte Sprachen'!A1=3,'Texte Sprachen'!D76,IF('Texte Sprachen'!A1=4,'Texte Sprachen'!E76,IF('Texte Sprachen'!A1=5,'Texte Sprachen'!F76,'Texte Sprachen'!G76))))) -> Türseite 3: | G39: =IF('Texte Sprachen'!A1=1,'Texte Sprachen'!B107,IF('Texte Sprachen'!A1=2,'Texte Sprachen'!C107,IF('Texte Sprachen'!A1=3,'Texte Sprachen'!D107,IF('Texte Sprachen'!A1=4,'Texte Sprachen'!E107,IF('Texte Sprachen'!A1=5,'Texte Sprachen'!F107,'Texte Sprachen'!G107))))) -> gleiche Ausführung wie Türseite 1
G40: =IF('Texte Sprachen'!A1=1,'Texte Sprachen'!B77,IF('Texte Sprachen'!A1=2,'Texte Sprachen'!C77,IF('Texte Sprachen'!A1=3,'Texte Sprachen'!D77,IF('Texte Sprachen'!A1=4,'Texte Sprachen'!E77,IF('Texte Sprachen'!A1=5,'Texte Sprachen'!F77,'Texte Sprachen'!G77))))) -> Türsteuergerät Typ: | X40: =IF('Texte Sprachen'!A1=1,'Texte Sprachen'!B102,IF('Texte Sprachen'!A1=2,'Texte Sprachen'!C102,IF('Texte Sprachen'!A1=3,'Texte Sprachen'!D102,IF('Texte Sprachen'!A1=4,'Texte Sprachen'!E102,IF('Texte Sprachen'!A1=5,'Texte Sprachen'!F102,'Texte Sprachen'!G102))))) -> sonstiger Typ:
...

Sheet DropDown
A1: 1. Ausführung in Halogenfrei | B1: 1. Ausführung in IP54 | C1: 4.1 Türsteuergerät Typ | D1: 5. A3-Lösung | E1: 5.1 Hohlw.Geber Motorwelle | F1: 5.1 Paguflex Wellengewinde | G1: 5.1 Zahnriemen Motorwelle
A3: =IF('Texte Sprachen'!A1=1,'Texte Sprachen'!B26,IF('Texte Sprachen'!A1=2,'Texte Sprachen'!C26,IF('Texte Sprachen'!A1=3,'Texte Sprachen'!D26,IF('Texte Sprachen'!A1=4,'Texte Sprachen'!E26,IF('Texte Sprachen'!A1=5,'Texte Sprachen'!F26))))) -> komplette Anlage | B3: =IF('Texte Sprachen'!A1=1,'Texte Sprachen'!B31,IF('Texte Sprachen'!A1=2,'Texte Sprachen'!C31,IF('Texte Sprachen'!A1=3,'Texte Sprachen'!D31,IF('Texte Sprachen'!A1=4,'Texte Sprachen'!E31,IF('Texte Sprachen'!A1=5,'Texte Sprachen'!F31))))) -> komplette Anlage | C3: =IF('Texte Sprachen'!A1=1,'Texte Sprachen'!B78,IF('Texte Sprachen'!A1=2,'Texte Sprachen'!C78,IF('Texte Sprachen'!A1=3,'Texte Sprachen'!D78,IF('Texte Sprachen'!A1=4,'Texte Sprachen'!E78,IF('Texte Sprachen'!A1=5,'Texte Sprachen'!F78,'Texte Sprachen'!G78))))) -> Fermator C2T | D3: =IF('Texte Sprachen'!A1=1,'Texte Sprachen'!B156,IF('Texte Sprachen'!A1=2,'Texte Sprachen'!C156,IF('Texte Sprachen'!A1=3,'Texte Sprachen'!D156,IF('Texte Sprachen'!A1=4,'Texte Sprachen'!E156,IF('Texte Sprachen'!A1=5,'Texte Sprachen'!F156,'Texte Sprachen'!G156))))) -> A3-Ventil | E3: 23 | F3: M8 | G3: 23
A4: =IF('Texte Sprachen'!A1=1,'Texte Sprachen'!B27,IF('Texte Sprachen'!A1=2,'Texte Sprachen'!C27,IF('Texte Sprachen'!A1=3,'Texte Sprachen'!D27,IF('Texte Sprachen'!A1=4,'Texte Sprachen'!E27,IF('Texte Sprachen'!A1=5,'Texte Sprachen'!F27))))) -> Schaltschrank | B4: =IF('Texte Sprachen'!A1=1,'Texte Sprachen'!B32,IF('Texte Sprachen'!A1=2,'Texte Sprachen'!C32,IF('Texte Sprachen'!A1=3,'Texte Sprachen'!D32,IF('Texte Sprachen'!A1=4,'Texte Sprachen'!E32,IF('Texte Sprachen'!A1=5,'Texte Sprachen'!F32))))) -> Schacht | C4: =IF('Texte Sprachen'!A1=1,'Texte Sprachen'!B79,IF('Texte Sprachen'!A1=2,'Texte Sprachen'!C79,IF('Texte Sprachen'!A1=3,'Texte Sprachen'!D79,IF('Texte Sprachen'!A1=4,'Texte Sprachen'!E79,IF('Texte Sprachen'!A1=5,'Texte Sprachen'!F79,'Texte Sprachen'!G79))))) -> Fermator VVVF4 | D4: =IF('Texte Sprachen'!A1=1,'Texte Sprachen'!B157,IF('Texte Sprachen'!A1=2,'Texte Sprachen'!C157,IF('Texte Sprachen'!A1=3,'Texte Sprachen'!D157,IF('Texte Sprachen'!A1=4,'Texte Sprachen'!E157,IF('Texte Sprachen'!A1=5,'Texte Sprachen'!F157,'Texte Sprachen'!G157))))) -> Absinkschutz | E4: 25 | F4: M10 | G4: 25
A5: =IF('Texte Sprachen'!A1=1,'Texte Sprachen'!B28,IF('Texte Sprachen'!A1=2,'Texte Sprachen'!C28,IF('Texte Sprachen'!A1=3,'Texte Sprachen'!D28,IF('Texte Sprachen'!A1=4,'Texte Sprachen'!E28,IF('Texte Sprachen'!A1=5,'Texte Sprachen'!F28))))) -> Schacht | B5: =IF('Texte Sprachen'!A1=1,'Texte Sprachen'!B33,IF('Texte Sprachen'!A1=2,'Texte Sprachen'!C33,IF('Texte Sprachen'!A1=3,'Texte Sprachen'!D33,IF('Texte Sprachen'!A1=4,'Texte Sprachen'!E33,IF('Texte Sprachen'!A1=5,'Texte Sprachen'!F33))))) -> Schaltschrank | C5: =IF('Texte Sprachen'!A1=1,'Texte Sprachen'!B80,IF('Texte Sprachen'!A1=2,'Texte Sprachen'!C80,IF('Texte Sprachen'!A1=3,'Texte Sprachen'!D80,IF('Texte Sprachen'!A1=4,'Texte Sprachen'!E80,IF('Texte Sprachen'!A1=5,'Texte Sprachen'!F80,'Texte Sprachen'!G80))))) -> Langer und Laumann TSG | D5: =IF('Texte Sprachen'!A1=1,'Texte Sprachen'!B158,IF('Texte Sprachen'!A1=2,'Texte Sprachen'!C158,IF('Texte Sprachen'!A1=3,'Texte Sprachen'!D158,IF('Texte Sprachen'!A1=4,'Texte Sprachen'!E158,IF('Texte Sprachen'!A1=5,'Texte Sprachen'!F158,'Texte Sprachen'!G158))))) -> Bremsüberwachung | E5: 28 | F5: M12 | G5: 28
A6: =IF('Texte Sprachen'!A1=1,'Texte Sprachen'!B29,IF('Texte Sprachen'!A1=2,'Texte Sprachen'!C29,IF('Texte Sprachen'!A1=3,'Texte Sprachen'!D29,IF('Texte Sprachen'!A1=4,'Texte Sprachen'!E29,IF('Texte Sprachen'!A1=5,'Texte Sprachen'!F29))))) -> Hängekabel | B6: =IF('Texte Sprachen'!A1=1,'Texte Sprachen'!B34,IF('Texte Sprachen'!A1=2,'Texte Sprachen'!C34,IF('Texte Sprachen'!A1=3,'Texte Sprachen'!D34,IF('Texte Sprachen'!A1=4,'Texte Sprachen'!E34,IF('Texte Sprachen'!A1=5,'Texte Sprachen'!F34))))) -> Inspektionskasten | C6: =IF('Texte Sprachen'!A1=1,'Texte Sprachen'!B81,IF('Texte Sprachen'!A1=2,'Texte Sprachen'!C81,IF('Texte Sprachen'!A1=3,'Texte Sprachen'!D81,IF('Texte Sprachen'!A1=4,'Texte Sprachen'!E81,IF('Texte Sprachen'!A1=5,'Texte Sprachen'!F81,'Texte Sprachen'!G81))))) -> LDO AC 2.0 | D6: =IF('Texte Sprachen'!A1=1,'Texte Sprachen'!B159,IF('Texte Sprachen'!A1=2,'Texte Sprachen'!C159,IF('Texte Sprachen'!A1=3,'Texte Sprachen'!D159,IF('Texte Sprachen'!A1=4,'Texte Sprachen'!E159,IF('Texte Sprachen'!A1=5,'Texte Sprachen'!F159,'Texte Sprachen'!G159))))) -> Sicherheitsbremse (siehe 5.1) | E6: 30 | F6: M14 | G6: 30
B7: =IF('Texte Sprachen'!A1=1,'Texte Sprachen'!B35,IF('Texte Sprachen'!A1=2,'Texte Sprachen'!C35,IF('Texte Sprachen'!A1=3,'Texte Sprachen'!D35,IF('Texte Sprachen'!A1=4,'Texte Sprachen'!E35,IF('Texte Sprachen'!A1=5,'Texte Sprachen'!F35))))) -> Tableaus | C7: =IF('Texte Sprachen'!A1=1,'Texte Sprachen'!B82,IF('Texte Sprachen'!A1=2,'Texte Sprachen'!C82,IF('Texte Sprachen'!A1=3,'Texte Sprachen'!D82,IF('Texte Sprachen'!A1=4,'Texte Sprachen'!E82,IF('Texte Sprachen'!A1=5,'Texte Sprachen'!F82,'Texte Sprachen'!G82))))) -> LDO AC 2.2 | E7: 32 | F7: M16 | G7: 32
C8: =IF('Texte Sprachen'!A1=1,'Texte Sprachen'!B83,IF('Texte Sprachen'!A1=2,'Texte Sprachen'!C83,IF('Texte Sprachen'!A1=3,'Texte Sprachen'!D83,IF('Texte Sprachen'!A1=4,'Texte Sprachen'!E83,IF('Texte Sprachen'!A1=5,'Texte Sprachen'!F83,'Texte Sprachen'!G83))))) -> Omron | E8: 38 | F8: M20 | G8: 38
C9: =IF('Texte Sprachen'!A1=1,'Texte Sprachen'!B84,IF('Texte Sprachen'!A1=2,'Texte Sprachen'!C84,IF('Texte Sprachen'!A1=3,'Texte Sprachen'!D84,IF('Texte Sprachen'!A1=4,'Texte Sprachen'!E84,IF('Texte Sprachen'!A1=5,'Texte Sprachen'!F84,'Texte Sprachen'!G84))))) -> Osma | E9: 40 | G9: 42
C10: =IF('Texte Sprachen'!A1=1,'Texte Sprachen'!B85,IF('Texte Sprachen'!A1=2,'Texte Sprachen'!C85,IF('Texte Sprachen'!A1=3,'Texte Sprachen'!D85,IF('Texte Sprachen'!A1=4,'Texte Sprachen'!E85,IF('Texte Sprachen'!A1=5,'Texte Sprachen'!F85,'Texte Sprachen'!G85))))) -> Prisma | E10: 42 | G10: 45
C11: =IF('Texte Sprachen'!A1=1,'Texte Sprachen'!B86,IF('Texte Sprachen'!A1=2,'Texte Sprachen'!C86,IF('Texte Sprachen'!A1=3,'Texte Sprachen'!D86,IF('Texte Sprachen'!A1=4,'Texte Sprachen'!E86,IF('Texte Sprachen'!A1=5,'Texte Sprachen'!F86,'Texte Sprachen'!G86))))) -> Prisma Micro Fox | E11: 45 | G11: 48
C12: =IF('Texte Sprachen'!A1=1,'Texte Sprachen'!B87,IF('Texte Sprachen'!A1=2,'Texte Sprachen'!C87,IF('Texte Sprachen'!A1=3,'Texte Sprachen'!D87,IF('Texte Sprachen'!A1=4,'Texte Sprachen'!E87,IF('Texte Sprachen'!A1=5,'Texte Sprachen'!F87,'Texte Sprachen'!G87))))) -> Sematic Brushless | E12: 48 | G12: 55
C13: =IF('Texte Sprachen'!A1=1,'Texte Sprachen'!B88,IF('Texte Sprachen'!A1=2,'Texte Sprachen'!C88,IF('Texte Sprachen'!A1=3,'Texte Sprachen'!D88,IF('Texte Sprachen'!A1=4,'Texte Sprachen'!E88,IF('Texte Sprachen'!A1=5,'Texte Sprachen'!F88,'Texte Sprachen'!G88))))) -> Sematic Drive | E13: 55 | G13: 60
C14: =IF('Texte Sprachen'!A1=1,'Texte Sprachen'!B89,IF('Texte Sprachen'!A1=2,'Texte Sprachen'!C89,IF('Texte Sprachen'!A1=3,'Texte Sprachen'!D89,IF('Texte Sprachen'!A1=4,'Texte Sprachen'!E89,IF('Texte Sprachen'!A1=5,'Texte Sprachen'!F89,'Texte Sprachen'!G89))))) -> Sematic Encoder | E14: 65 | G14: 65
C15: =IF('Texte Sprachen'!A1=1,'Texte Sprachen'!B90,IF('Texte Sprachen'!A1=2,'Texte Sprachen'!C90,IF('Texte Sprachen'!A1=3,'Texte Sprachen'!D90,IF('Texte Sprachen'!A1=4,'Texte Sprachen'!E90,IF('Texte Sprachen'!A1=5,'Texte Sprachen'!F90,'Texte Sprachen'!G90))))) -> Sematic F28/F29
C16: =IF('Texte Sprachen'!A1=1,'Texte Sprachen'!B91,IF('Texte Sprachen'!A1=2,'Texte Sprachen'!C91,IF('Texte Sprachen'!A1=3,'Texte Sprachen'!D91,IF('Texte Sprachen'!A1=4,'Texte Sprachen'!E91,IF('Texte Sprachen'!A1=5,'Texte Sprachen'!F91,'Texte Sprachen'!G91))))) -> Sematic SWS
C17: =IF('Texte Sprachen'!A1=1,'Texte Sprachen'!B92,IF('Texte Sprachen'!A1=2,'Texte Sprachen'!C92,IF('Texte Sprachen'!A1=3,'Texte Sprachen'!D92,IF('Texte Sprachen'!A1=4,'Texte Sprachen'!E92,IF('Texte Sprachen'!A1=5,'Texte Sprachen'!F92,'Texte Sprachen'!G92))))) -> Siemens AT12
C18: =IF('Texte Sprachen'!A1=1,'Texte Sprachen'!B93,IF('Texte Sprachen'!A1=2,'Texte Sprachen'!C93,IF('Texte Sprachen'!A1=3,'Texte Sprachen'!D93,IF('Texte Sprachen'!A1=4,'Texte Sprachen'!E93,IF('Texte Sprachen'!A1=5,'Texte Sprachen'!F93,'Texte Sprachen'!G93))))) -> Siemens AT15
C19: =IF('Texte Sprachen'!A1=1,'Texte Sprachen'!B94,IF('Texte Sprachen'!A1=2,'Texte Sprachen'!C94,IF('Texte Sprachen'!A1=3,'Texte Sprachen'!D94,IF('Texte Sprachen'!A1=4,'Texte Sprachen'!E94,IF('Texte Sprachen'!A1=5,'Texte Sprachen'!F94,'Texte Sprachen'!G94))))) -> Siemens AT18
C20: =IF('Texte Sprachen'!A1=1,'Texte Sprachen'!B95,IF('Texte Sprachen'!A1=2,'Texte Sprachen'!C95,IF('Texte Sprachen'!A1=3,'Texte Sprachen'!D95,IF('Texte Sprachen'!A1=4,'Texte Sprachen'!E95,IF('Texte Sprachen'!A1=5,'Texte Sprachen'!F95,'Texte Sprachen'!G95))))) -> Siemens AT25
C21: =IF('Texte Sprachen'!A1=1,'Texte Sprachen'!B96,IF('Texte Sprachen'!A1=2,'Texte Sprachen'!C96,IF('Texte Sprachen'!A1=3,'Texte Sprachen'!D96,IF('Texte Sprachen'!A1=4,'Texte Sprachen'!E96,IF('Texte Sprachen'!A1=5,'Texte Sprachen'!F96,'Texte Sprachen'!G96))))) -> Siemens AT40
C22: =IF('Texte Sprachen'!A1=1,'Texte Sprachen'!B97,IF('Texte Sprachen'!A1=2,'Texte Sprachen'!C97,IF('Texte Sprachen'!A1=3,'Texte Sprachen'!D97,IF('Texte Sprachen'!A1=4,'Texte Sprachen'!E97,IF('Texte Sprachen'!A1=5,'Texte Sprachen'!F97,'Texte Sprachen'!G97))))) -> Thyssen F2/F5/F9/F12
C23: =IF('Texte Sprachen'!A1=1,'Texte Sprachen'!B98,IF('Texte Sprachen'!A1=2,'Texte Sprachen'!C98,IF('Texte Sprachen'!A1=3,'Texte Sprachen'!D98,IF('Texte Sprachen'!A1=4,'Texte Sprachen'!E98,IF('Texte Sprachen'!A1=5,'Texte Sprachen'!F98,'Texte Sprachen'!G98))))) -> Wittur ECO
C24: =IF('Texte Sprachen'!A1=1,'Texte Sprachen'!B99,IF('Texte Sprachen'!A1=2,'Texte Sprachen'!C99,IF('Texte Sprachen'!A1=3,'Texte Sprachen'!D99,IF('Texte Sprachen'!A1=4,'Texte Sprachen'!E99,IF('Texte Sprachen'!A1=5,'Texte Sprachen'!F99,'Texte Sprachen'!G99))))) -> Wittur MIDI
C25: =IF('Texte Sprachen'!A1=1,'Texte Sprachen'!B100,IF('Texte Sprachen'!A1=2,'Texte Sprachen'!C100,IF('Texte Sprachen'!A1=3,'Texte Sprachen'!D100,IF('Texte Sprachen'!A1=4,'Texte Sprachen'!E100,IF('Texte Sprachen'!A1=5,'Texte Sprachen'!F100,'Texte Sprachen'!G100))))) -> Wittur RC24
C26: =IF('Texte Sprachen'!A1=1,'Texte Sprachen'!B101,IF('Texte Sprachen'!A1=2,'Texte Sprachen'!C101,IF('Texte Sprachen'!A1=3,'Texte Sprachen'!D101,IF('Texte Sprachen'!A1=4,'Texte Sprachen'!E101,IF('Texte Sprachen'!A1=5,'Texte Sprachen'!F101,'Texte Sprachen'!G101))))) -> Wittur RCF-1

Sheet Texte Sprachen
A1: 1 | B1: Deutsch | C1: Englisch | D1: Niederländisch | E1: Französisch | F1: Sonstiges2 | G1: Sonstiges3
B2: Bestell-/Anfragedaten Steuerung | C2: Controller order/enquiry data | D2: Besturing Bestel-/ Aanvraagdata | E2: Données de commande/demande pour commande | F2: 1 | G2: 1
B3: Firma: | C3: Company: | D3: Bedrijf: | E3: Entreprise : | F3: 2 | G3: 2
B4: Datum: | C4: Date: | D4: Datum: | E4: Date : | F4: 3 | G4: 3
B5: Bearbeiter: | C5: Contact person: | D5: Aanvrager | E5: Rédacteur : | F5: 4 | G5: 4
B6: Best.-Nr.: | C6: Order no.: | D6: bestel-nr. | E6: Nº comm. : | F6: 5 | G6: 5
B7: Telefon Nr.: | C7: Phone no.: | D7: Telefoon-nr. | E7: Nº téléphone : | F7: 6 | G7: 6
B8: Fabr.-Nr.: | C8: Serial no.: | D8: Serie-nr. | E8: Nº fabr. : | F8: 7 | G8: 7
B9: Email: | C9: e-mail: | D9: E-Mail | E9: E-mail : | F9: 8 | G9: 8
B10: Stichwort/Ort: | C10: Key word/city: | D10: Stad: | E10: Mot clé/loc. : | F10: 9 | G10: 9
B11: Angebot bis KW: | C11: Offer until CW: | D11: Aanbod voor KW: | E11: Offre jusque SC : | F11: 10 | G11: 10
B12: Bestellung zu KW: | C12: Order for CW: | D12: Bestelling voor week: | E12: Commande pr SC : | F12: 11 | G12: 11
B13: 1. Bestellumfang / Ausführung | C13: 1. Order scope / version | D13: 1. Ordergrootte / Uitvoering | E13: 1. Étendue de la commande / Exécution | F13: 12 | G13: 12
... B25: Ausführung in Halogenfrei: | C25: Halogen-free version: | D25: Halogeen vrije uitvoering | E25: Exécution sans halogène : | F25: 25 | G25: 25
A26: 1. Ausführung in Halogenfrei | B26: komplette Anlage | C26: Complete system | D26: Compleet systeem | E26: Installation complète | F26: 26a | G26: 26a
A27: 1. Ausführung in Halogenfrei | B27: Schaltschrank | C27: Control cabinet | D27: Schakelkast | E27: Armoire de commande | F27: 26b | G27: 26b
A28: 1. Ausführung in Halogenfrei | B28: Schacht | C28: Shaft | D28: Schacht | E28: Gaine | F28: 26c | G28: 26c
A29: 1. Ausführung in Halogenfrei | B29: Hängekabel | C29: Trav. cable | D29: Hangkabel | E29: Câble pendentif | F29: 26d | G29: 26d
B30: Ausführung in IP54: | C30: IP54 version: | D30: IP54 uitvoering: | E30: Exécution IP54 : | F30: 27 | G30: 27
A31: 1. Ausführung in IP54 | B31: komplette Anlage | C31: Complete system | D31: Compleet systeem | E31: Installation complète | F31: 28a | G31: 28a
A32: 1. Ausführung in IP54 | B32: Schacht | C32: Shaft | D32: Schacht | E32: Gaine | F32: 28b | G32: 28b
A33: 1. Ausführung in IP54 | B33: Schaltschrank | C33: Control cabinet | D33: Schakelkast | E33: Armoire de commande | F33: 28c | G33: 28c
A34: 1. Ausführung in IP54 | B34: Inspektionskasten | C34: Inspection box | D34: Inspectiekast | E34: Caisson d’inspection | F34: 28d | G34: 28d
A35: 1. Ausführung in IP54 | B35: Tableaus | C35: Panels | D35: Tablaus/panelen | E35: Tableaux | F35: 28e | G35: 28e
B36: Ergänzung zu 1.: | C36: Supplement to 1.: | D36: Supplement voor 1.: | E36: Supplément à 1. : | F36: 29 | G36: 29
B37: 2. Allgemeine Anlagedaten | C37: 2. General system data | D37: 2. Algemene Systeemgegevens | E37: 2. Données générales sur l’installation | F37: 41 | G37: 41
B38: zusätzliche Normen: | C38: Additional standards: | D38: Bijkomende normen: | E38: Normes suppl. : | F38: 42 | G38: 42
B39: EN81-1/2 | C39: EN81-1/2 | D39: EN81-1/2 | E39: EN81-1/2 | F39: 43 | G39: 43
B40: A3 | C40: A3 | D40: A3 | E40: A3 | F40: 44 | G40: 44
B41: EN81-21 | C41: EN81-21 | D41: EN81-21 | E41: EN81-21 | F41: 45 | G41: 45
B42: EN81-70 | C42: EN81-70 | D42: EN81-70 | E42: EN81-70 | F42: 46 | G42: 46
B43: EN81-72 | C43: EN81-72 | D43: EN81-72 | E43: EN81-72 | F43: 47 | G43: 47
B44: EN81-20 komplett | C44: Full EN81-20 | D44: EN81-20 compleet | E44: EN81-20 complète | F44: 48 | G44: 48
B45: EN81-20 Teilweise (Bitte genaue Ausführung vermerken) | C45: EN81-20 partially (please note exact design) | D45: EN81-20 gedeeltelijk, (AUB. Noteer het exacte design) | E45: EN81-20 partielle (veuillez noter l’exécution exacte) | F45: 49 | G45: 49
B46: Maschinenraum: | C46: Machine room: | D46: Machinekamer: | E46: Salle des machines : | F46: 56 | G46: 56
B47: oben | C47: top | D47: Boven | E47: dessus | F47: 57 | G47: 57
... B51: Steuerung im FK | C51: Controller in car | D51: Besturing in Kooi | E51: Commande cab. | F51: 61 | G51: 61
A52: französische Übersetzung fehlt | B52: Entfernung Schaltschrank - Schacht (m): | C52: distance control cabinet - shaft (m): | D52: Afstand Schakelkast - Schacht (m): | E52: distance control cabinet - shaft (m): | F52: 50a | G52: 50a
B53: Wegmessung: | C53: Shaft positioning type | D53: Afmetingen | E53: Mesure déplacem. : | F53: 62 | G53: 62
B54: LiSA AWG (Limax) | C54: LiSA AWG (Limax) | D54: LiSA AWG (Limax) | E54: Encodeur absolu LiSA (Limax) | F54: 63 | G54: 63
...
